{"text_format":"1","workbook":"xlsx","n_sheets":28,"sheets":["Results","Texture Calculator","raw files","3746","3747","3747A","3748","3749","3750","3751","3752","3753","3754","3755","3756","3757","3758","3759","3760","3761","Calculations","3762","3763","3764","3765","3766","3767","Sheet1"],"not_rendered":{"charts":49,"images":1,"macros":1,"external_links":0,"defined_names":0,"comments":0,"pivot_tables":0},"unopened":[{"sheet":"3746","index":3,"reason":"not_a_worksheet"},{"sheet":"3747","index":4,"reason":"not_a_worksheet"},{"sheet":"3747A","index":5,"reason":"not_a_worksheet"},{"sheet":"3748","index":6,"reason":"not_a_worksheet"},{"sheet":"3749","index":7,"reason":"not_a_worksheet"},{"sheet":"3750","index":8,"reason":"not_a_worksheet"},{"sheet":"3751","index":9,"reason":"not_a_worksheet"},{"sheet":"3752","index":10,"reason":"not_a_worksheet"},{"sheet":"3753","index":11,"reason":"not_a_worksheet"},{"sheet":"3754","index":12,"reason":"not_a_worksheet"},{"sheet":"3755","index":13,"reason":"not_a_worksheet"},{"sheet":"3756","index":14,"reason":"not_a_worksheet"},{"sheet":"3757","index":15,"reason":"not_a_worksheet"},{"sheet":"3758","index":16,"reason":"not_a_worksheet"},{"sheet":"3759","index":17,"reason":"not_a_worksheet"},{"sheet":"3760","index":18,"reason":"not_a_worksheet"},{"sheet":"3761","index":19,"reason":"not_a_worksheet"},{"sheet":"3762","index":21,"reason":"not_a_worksheet"},{"sheet":"3763","index":22,"reason":"not_a_worksheet"},{"sheet":"3764","index":23,"reason":"not_a_worksheet"},{"sheet":"3765","index":24,"reason":"not_a_worksheet"},{"sheet":"3766","index":25,"reason":"not_a_worksheet"},{"sheet":"3767","index":26,"reason":"not_a_worksheet"}],"bounds":{"document_bytes":16777216,"sheet_cells":100000,"rows_first":2000,"rows_last":500,"rows_between":2000,"halvings":0,"cell_chars":16384,"cell_head_chars":4096},"cells_cut":0,"cells_raw":0,"read":"whole","date_system":"1900"}

{"sheet":"Results","index":0,"n_rows":112,"n_cols":88,"rows_kept":112,"cut":false,"hidden":false,"merged":[[7,2,7,5],[8,2,8,5]]}
[null,"Soil Lab, Geological Survey of Israel"]
[null,"Particle Size Analysis by laser diffraction,  Instrument:  Mastersizer 2000"]
[null,"project name: samples from Mojave desert"]
[null,"Sample description: sand"]
[null,"Samples ID's: [3746-3767]"]
[]
[]
["Particle",null,{"$f":"'raw files'!C1","v":"[3746] Amboy 2 bulk - a - Average"},null,null,null,null,null,null,"Particle",null,{"$f":"'raw files'!I1","v":"[3747] Amboy 5 bulk - b - Average"},null,null,null,null,null,null,"Particle",null,{"$f":"'raw files'!O1","v":"[3747A] Amboy 6 bulk - d - Average"},null,null,null,null,null,null,"Particle",null,{"$f":"'raw files'!V1","v":"[3748] Amboy 8 bulk - a - Average"},null,null,null,null,null,null,"Particle",null,{"$f":"'raw files'!AB1","v":"[3749] Amboy 10 bulk - a - Average"},null,null,null,null,null,null,"Particle",null,{"$f":"'raw files'!AH1","v":"[3750] Amboy 11 bulk - b - Average"},null,null,null,null,null,null,"Particle",null,{"$f":"'raw files'!AN1","v":"[3751] Amboy 13 bulk - b - Average"},null,null,null,null,null,null,"Particle",null,{"$f":"'raw files'!AT1","v":"[3752] Amboy source 14 bulk - d - Average"},null,null,null,null,null,null,"Particle",null,{"$f":"'raw files'!AZ1","v":"[3753] Amboy15 bulk - e - Average"},null,null,null,null,null,"Particle",null,{"$f":"'raw files'!BF1","v":"[3754] BDT 1 bulk - a - Average"}]
["Diameter",null,"Differential Volume (%)",null,null,null,null,null,null,"Diameter",null,"Differential Volume (%)",null,null,null,null,null,null,"Diameter",null,"Differential Volume (%)",null,null,null,null,null,null,"Diameter",null,"Differential Volume (%)",null,null,null,null,null,null,"Diameter",null,"Differential Volume (%)",null,null,null,null,null,null,"Diameter",null,"Differential Volume (%)",null,null,null,null,null,null,"Diameter",null,"Differential Volume (%)",null,null,null,null,null,null,"Diameter",null,"Differential Volume (%)",null,null,null,null,null,null,"Diameter",null,"Differential Volume (%)",null,null,null,null,null,"Diameter",null,"Differential Volume (%)"]
["Range (mm)","Size Class","Rep. 1","Rep. 2","Rep. 3","Average","SE",null,null,"Range (mm)","Size Class","Rep. 1","Rep. 2","Rep. 3","Average","SE",null,null,"Range (mm)","Size Class","Rep. 1","Rep. 2","Rep. 3","Average","SE",null,null,"Range (mm)","Size Class","Rep. 1","Rep. 2","Rep. 3","Average","SE",null,null,"Range (mm)","Size Class","Rep. 1","Rep. 2","Rep. 3","Average","SE",null,null,"Range (mm)","Size Class","Rep. 1","Rep. 2","Rep. 3","Average","SE",null,null,"Range (mm)","Size Class","Rep. 1","Rep. 2","Rep. 3","Average","SE",null,null,"Range (mm)","Size Class","Rep. 1","Rep. 2","Rep. 3","Average","SE",null,"Range (mm)","Size Class","Rep. 1","Rep. 2","Rep. 3","Average","SE",null,null,"Range (mm)","Size Class","Rep. 1","Rep. 2","Rep. 3","Average","SE"]
["< 5","Clay",{"$f":"'raw files'!C13","v":6.6630000000000003},{"$f":"'raw files'!D13","v":6.2560000000000002},{"$f":"'raw files'!E13","v":7.2649999999999997},{"$f":"AVERAGE(C11:E11)","v":6.7280000000000006},{"$f":"(STDEV(C11:E11))/SQRT(3)","v":0.29308076247569248},null,null,"< 5","Clay",{"$f":"'raw files'!I13","v":1.6279999999999999},{"$f":"'raw files'!J13","v":2.6070000000000002},{"$f":"'raw files'!K13","v":2.1739999999999999},{"$f":"AVERAGE(L11,N11)","v":1.9009999999999998},{"$f":"(STDEV(L11:N11))/SQRT(3)","v":0.2832397884792624},null,null,"< 5","Clay",{"$f":"'raw files'!O13","v":3.79},{"$f":"'raw files'!P13","v":3.9409999999999998},{"$f":"'raw files'!Q13","v":3.6960000000000002},{"$f":"AVERAGE(U11:W11)","v":3.8089999999999997},{"$f":"(STDEV(U11:W11))/SQRT(3)","v":7.1360586694150158E-2},null,null,"< 5","Clay",{"$f":"'raw files'!V13","v":7.7839999999999998},{"$f":"'raw files'!W13","v":8.1389999999999993},{"$f":"'raw files'!X13","v":9.1310000000000002},{"$f":"AVERAGE(AD11:AF11)","v":8.3513333333333328},{"$f":"(STDEV(AD11:AF11))/SQRT(3)","v":0.40307829402128725},null,null,"< 5","Clay",{"$f":"'raw files'!AB13","v":2.4670000000000001},{"$f":"'raw files'!AC13","v":2.1150000000000002},{"$f":"'raw files'!AD13","v":2.1190000000000002},{"$f":"AVERAGE(AM11:AO11)","v":2.2336666666666667},{"$f":"(STDEV(AM11:AO11))/SQRT(3)","v":0.11667238081244607},null,null,"< 5","Clay",{"$f":"'raw files'!AH13","v":6.3869999999999996},{"$f":"'raw files'!AI13","v":5.66},{"$f":"'raw files'!AJ13","v":5.9020000000000001},{"$f":"AVERAGE(AV11:AX11)","v":5.9830000000000005},{"$f":"(STDEV(AV11:AX11))/SQRT(3)","v":0.21373893733555724},null,null,"< 5","Clay",{"$f":"'raw files'!AN13","v":2.895},{"$f":"'raw files'!AO13","v":3.1469999999999998},{"$f":"'raw files'!AP13","v":2.7639999999999998},{"$f":"AVERAGE(BE11:BG11)","v":2.9353333333333329},{"$f":"(STDEV(BE11:BG11))/SQRT(3)","v":0.11238673310394683},null,null,"< 5","Clay",{"$f":"'raw files'!AT13","v":4.8250000000000002},{"$f":"'raw files'!AU13","v":4.625},{"$f":"'raw files'!AV13","v":4.6790000000000003},{"$f":"AVERAGE(BN11:BP11)","v":4.7096666666666662},{"$f":"(STDEV(BN11:BP11))/SQRT(3)","v":5.9736458251594141E-2},null,"< 5","Clay",{"$f":"'raw files'!AZ13","v":20.693000000000001},{"$f":"'raw files'!BA13","v":24.113},{"$f":"'raw files'!BB13","v":20.207999999999998},{"$f":"AVERAGE(BV11,BX11)","v":20.450499999999998},{"$f":"(STDEV(BV11,BX11))/SQRT(2)","v":0.24250000000000149},null,null,"< 5","Clay",{"$f":"'raw files'!BF13","v":3.3490000000000002},{"$f":"'raw files'!BG13","v":3.3730000000000002},{"$f":"'raw files'!BH13","v":2.9089999999999998},{"$f":"AVERAGE(CE11:CG11)","v":3.2103333333333333},{"$f":"(STDEV(CE11:CG11))/SQRT(3)","v":0.15082587458537908}]
["5 - 63","Silt",{"$f":"'raw files'!C14","v":27.31},{"$f":"'raw files'!D14","v":25.826000000000001},{"$f":"'raw files'!E14","v":29.236999999999998},{"$f":"AVERAGE(C12:E12)","v":27.457666666666665},{"$f":"(STDEV(C12:E12))/SQRT(3)","v":0.98743511741841039},null,null,"5 - 63","Silt",{"$f":"'raw files'!I14","v":7.43},{"$f":"'raw files'!J14","v":10.579000000000001},{"$f":"'raw files'!K14","v":9.2420000000000009},{"$f":"AVERAGE(L12,N12)","v":8.3360000000000003},{"$f":"(STDEV(L12:N12))/SQRT(3)","v":0.91247873643413879},null,null,"5 - 63","Silt",{"$f":"'raw files'!O14","v":18.533999999999999},{"$f":"'raw files'!P14","v":19.027999999999999},{"$f":"'raw files'!Q14","v":17.576000000000001},{"$f":"AVERAGE(U12:W12)","v":18.379333333333332},{"$f":"(STDEV(U12:W12))/SQRT(3)","v":0.42623050623394376},null,null,"5 - 63","Silt",{"$f":"'raw files'!V14","v":23.635000000000002},{"$f":"'raw files'!W14","v":24.574000000000002},{"$f":"'raw files'!X14","v":27.422999999999998},{"$f":"AVERAGE(AD12:AF12)","v":25.210666666666668},{"$f":"(STDEV(AD12:AF12))/SQRT(3)","v":1.1388948346728254},null,null,"5 - 63","Silt",{"$f":"'raw files'!AB14","v":11.236000000000001},{"$f":"'raw files'!AC14","v":10.007},{"$f":"'raw files'!AD14","v":9.9120000000000008},{"$f":"AVERAGE(AM12:AO12)","v":10.385},{"$f":"(STDEV(AM12:AO12))/SQRT(3)","v":0.42638284831045142},null,null,"5 - 63","Silt",{"$f":"'raw files'!AH14","v":27.669},{"$f":"'raw files'!AI14","v":24.582999999999998},{"$f":"'raw files'!AJ14","v":26.018999999999998},{"$f":"AVERAGE(AV12:AX12)","v":26.09033333333333},{"$f":"(STDEV(AV12:AX12))/SQRT(3)","v":0.89156516556247623},null,null,"5 - 63","Silt",{"$f":"'raw files'!AN14","v":13.798},{"$f":"'raw files'!AO14","v":15.337},{"$f":"'raw files'!AP14","v":14.108000000000001},{"$f":"AVERAGE(BE12:BG12)","v":14.414333333333332},{"$f":"(STDEV(BE12:BG12))/SQRT(3)","v":0.46993273750375986},null,null,"5 - 63","Silt",{"$f":"'raw files'!AT14","v":28.109000000000002},{"$f":"'raw files'!AU14","v":27.02},{"$f":"'raw files'!AV14","v":27.484000000000002},{"$f":"AVERAGE(BN12:BP12)","v":27.537666666666667},{"$f":"(STDEV(BN12:BP12))/SQRT(3)","v":0.3155103449615847},null,"5 - 63","Silt",{"$f":"'raw files'!AZ14","v":33.646999999999998},{"$f":"'raw files'!BA14","v":36.738999999999997},{"$f":"'raw files'!BB14","v":31.501000000000001},{"$f":"AVERAGE(BV12,BX12)","v":32.573999999999998},{"$f":"(STDEV(BV12,BX12))/SQRT(2)","v":1.0729999999999986},null,null,"5 - 63","Silt",{"$f":"'raw files'!BF14","v":13.56},{"$f":"'raw files'!BG14","v":13.484},{"$f":"'raw files'!BH14","v":13.54},{"$f":"AVERAGE(CE12:CG12)","v":13.528},{"$f":"(STDEV(CE12:CG12))/SQRT(3)","v":2.2744962812309356E-2}]
["63 - 2000","Sand",{"$f":"'raw files'!C15","v":66.027000000000001},{"$f":"'raw files'!D15","v":67.918000000000006},{"$f":"'raw files'!E15","v":63.497999999999998},65.814333333333323,1.2803671782387727,null,null,"63 - 2000","Sand",{"$f":"'raw files'!I15","v":90.941000000000003},{"$f":"'raw files'!J15","v":86.813000000000002},{"$f":"'raw files'!K15","v":88.584000000000003},89.762500000000003,{"$f":"(STDEV(L13:N13))/SQRT(3)","v":1.1956465940142087},null,null,"63 - 2000","Sand",{"$f":"'raw files'!O15","v":77.676000000000002},{"$f":"'raw files'!P15","v":77.031000000000006},{"$f":"'raw files'!Q15","v":78.727999999999994},77.811666666666667,{"$f":"(STDEV(U13:W13))/SQRT(3)","v":0.49455580518728232},null,null,"63 - 2000","Sand",{"$f":"'raw files'!V15","v":68.581000000000003},{"$f":"'raw files'!W15","v":67.287000000000006},{"$f":"'raw files'!X15","v":63.445999999999998},66.438000000000002,{"$f":"(STDEV(AD13:AF13))/SQRT(3)","v":1.5419313646635959},null,null,"63 - 2000","Sand",{"$f":"'raw files'!AB15","v":86.296000000000006},{"$f":"'raw files'!AC15","v":87.878},{"$f":"'raw files'!AD15","v":87.968999999999994},87.381000000000014,{"$f":"(STDEV(AM13:AO13))/SQRT(3)","v":0.54313564910925327},null,null,"63 - 2000","Sand",{"$f":"'raw files'!AH15","v":65.944000000000003},{"$f":"'raw files'!AI15","v":69.757000000000005},{"$f":"'raw files'!AJ15","v":68.078999999999994},67.926666666666677,1.1033504026877012,null,null,"63 - 2000","Sand",{"$f":"'raw files'!AN15","v":83.308000000000007},{"$f":"'raw files'!AO15","v":81.516000000000005},{"$f":"'raw files'!AP15","v":83.128},82.650666666666666,{"$f":"(STDEV(BE13:BG13))/SQRT(3)","v":0.56970791736740911},null,null,"63 - 2000","Sand",{"$f":"'raw files'!AT15","v":67.066000000000003},{"$f":"'raw files'!AU15","v":68.355000000000004},{"$f":"'raw files'!AV15","v":67.837000000000003},67.752666666666656,0.37448379285505995,null,"63 - 2000","Sand",{"$f":"'raw files'!AZ15","v":45.66},{"$f":"'raw files'!BA15","v":39.148000000000003},{"$f":"'raw files'!BB15","v":48.29},46.974999999999994,1.3150000000000013,null,null,"63 - 2000","Sand",{"$f":"'raw files'!BF15","v":83.090999999999994},{"$f":"'raw files'!BG15","v":83.143000000000001},{"$f":"'raw files'!BH15","v":83.551000000000002},83.261666666666656,0.14544338341010321]
["63 - 125","VF Sand",{"$f":"'raw files'!C16","v":22.055},{"$f":"'raw files'!D16","v":21.111999999999998},{"$f":"'raw files'!E16","v":23.693999999999999},22.287000000000003,0.75433171306351265,null,null,"63 - 125","VF Sand",{"$f":"'raw files'!I16","v":11.101000000000001},{"$f":"'raw files'!J16","v":15.606},{"$f":"'raw files'!K16","v":13.462},12.281500000000001,1.3009842854973788,null,null,"63 - 125","VF Sand",{"$f":"'raw files'!O16","v":16.827000000000002},{"$f":"'raw files'!P16","v":17.274999999999999},{"$f":"'raw files'!Q16","v":15.448},16.516666666666669,0.54976126131662295,null,null,"63 - 125","VF Sand",{"$f":"'raw files'!V16","v":32.201000000000001},{"$f":"'raw files'!W16","v":32.957000000000001},{"$f":"'raw files'!X16","v":33.780999999999999},32.979666666666667,0.45624749618795429,null,null,"63 - 125","VF Sand",{"$f":"'raw files'!AB16","v":15.631},{"$f":"'raw files'!AC16","v":14.164},{"$f":"'raw files'!AD16","v":14.09},14.628333333333336,0.50178824661847621,null,null,"63 - 125","VF Sand",{"$f":"'raw files'!AH16","v":24.081},{"$f":"'raw files'!AI16","v":21.744},{"$f":"'raw files'!AJ16","v":22.91},22.911666666666665,0.67463430423040627,null,null,"63 - 125","VF Sand",{"$f":"'raw files'!AN16","v":26.201000000000001},{"$f":"'raw files'!AO16","v":28.890999999999998},{"$f":"'raw files'!AP16","v":28.629000000000001},{"$f":"AVERAGE(BE14:BG14)","v":27.907},{"$f":"(STDEV(BE14:BG14))/SQRT(3)","v":0.85634650307765781},null,null,"63 - 125","VF Sand",{"$f":"'raw files'!AT16","v":29.654},{"$f":"'raw files'!AU16","v":28.966999999999999},{"$f":"'raw files'!AV16","v":29.398},29.339666666666663,0.20045309786691895,null,"63 - 125","VF Sand",{"$f":"'raw files'!AZ16","v":19.666},{"$f":"'raw files'!BA16","v":21.225000000000001},{"$f":"'raw files'!BB16","v":18.314},18.990000000000002,0.67600000000000016,null,null,"63 - 125","VF Sand",{"$f":"'raw files'!BF16","v":24.663},{"$f":"'raw files'!BG16","v":24.91},{"$f":"'raw files'!BH16","v":25.399000000000001},24.990666666666669,0.21625936074794821]
["125 - 250","F Sand",{"$f":"'raw files'!C17","v":20.079000000000001},{"$f":"'raw files'!D17","v":19.678000000000001},{"$f":"'raw files'!E17","v":20.061},19.939333333333334,0.13076994218006571,null,null,"125 - 250","F Sand",{"$f":"'raw files'!I17","v":14.334},{"$f":"'raw files'!J17","v":21.887},{"$f":"'raw files'!K17","v":19.635000000000002},16.984500000000001,2.2387982143204357,null,null,"125 - 250","F Sand",{"$f":"'raw files'!O17","v":16.408999999999999},{"$f":"'raw files'!P17","v":16.663},{"$f":"'raw files'!Q17","v":14.16},15.744,0.7953869079469017,null,null,"125 - 250","F Sand",{"$f":"'raw files'!V17","v":27.193999999999999},{"$f":"'raw files'!W17","v":26.577999999999999},{"$f":"'raw files'!X17","v":24.587},26.119666666666664,0.78669442041437598,null,null,"125 - 250","F Sand",{"$f":"'raw files'!AB17","v":15.93},{"$f":"'raw files'!AC17","v":12.981999999999999},{"$f":"'raw files'!AD17","v":12.285},13.732333333333335,1.1171028501341158,null,null,"125 - 250","F Sand",{"$f":"'raw files'!AH17","v":16.669},{"$f":"'raw files'!AI17","v":14.714},{"$f":"'raw files'!AJ17","v":15.89},15.757666666666667,0.5682254051968384,null,null,"125 - 250","F Sand",{"$f":"'raw files'!AN17","v":37.402000000000001},{"$f":"'raw files'!AO17","v":36.466999999999999},{"$f":"'raw files'!AP17","v":37.654000000000003},{"$f":"AVERAGE(BE15:BG15)","v":37.17433333333333},{"$f":"(STDEV(BE15:BG15))/SQRT(3)","v":0.36107078407302912},null,null,"125 - 250","F Sand",{"$f":"'raw files'!AT17","v":23.050999999999998},{"$f":"'raw files'!AU17","v":22.372},{"$f":"'raw files'!AV17","v":24.09},23.171000000000003,0.49956013985638748,null,"125 - 250","F Sand",{"$f":"'raw files'!AZ17","v":13.547000000000001},{"$f":"'raw files'!BA17","v":14.55},{"$f":"'raw files'!BB17","v":13.41},13.4785,6.8500000000000227E-2,null,null,"125 - 250","F Sand",{"$f":"'raw files'!BF17","v":30.844999999999999},{"$f":"'raw files'!BG17","v":30.792999999999999},{"$f":"'raw files'!BH17","v":28.158000000000001},29.931999999999999,0.887127010823891]
["250 - 500","M Sand",{"$f":"'raw files'!C18","v":15.084},{"$f":"'raw files'!D18","v":17.074999999999999},{"$f":"'raw files'!E18","v":14.653},15.603999999999999,0.7459492833519803,null,null,"250 - 500","M Sand",{"$f":"'raw files'!I18","v":25.78},{"$f":"'raw files'!J18","v":26.451000000000001},{"$f":"'raw files'!K18","v":27.265000000000001},26.522500000000001,0.4293445909497145,null,null,"250 - 500","M Sand",{"$f":"'raw files'!O18","v":24.974},{"$f":"'raw files'!P18","v":25.777000000000001},{"$f":"'raw files'!Q18","v":25.186},25.312333333333338,0.24025842568182962,null,null,"250 - 500","M Sand",{"$f":"'raw files'!V18","v":8.2050000000000001},{"$f":"'raw files'!W18","v":7.3449999999999998},{"$f":"'raw files'!X18","v":5.0590000000000002},6.8696666666666673,0.9387554408778549,null,null,"250 - 500","M Sand",{"$f":"'raw files'!AB18","v":28.829000000000001},{"$f":"'raw files'!AC18","v":26.114999999999998},{"$f":"'raw files'!AD18","v":29.530999999999999},28.158333333333331,1.0415708222573146,null,null,"250 - 500","M Sand",{"$f":"'raw files'!AH18","v":16.212},{"$f":"'raw files'!AI18","v":16.283000000000001},{"$f":"'raw files'!AJ18","v":18.236999999999998},16.910666666666668,0.66348331637736779,null,null,"250 - 500","M Sand",{"$f":"'raw files'!AN18","v":19.492999999999999},{"$f":"'raw files'!AO18","v":15.856},{"$f":"'raw files'!AP18","v":16.798999999999999},17.382666666666665,1.0897159160890406,null,null,"250 - 500","M Sand",{"$f":"'raw files'!AT18","v":10.004},{"$f":"'raw files'!AU18","v":9.7789999999999999},{"$f":"'raw files'!AV18","v":10.81},10.197666666666668,0.31298047507436938,null,"250 - 500","M Sand",{"$f":"'raw files'!AZ18","v":9.9049999999999994},{"$f":"'raw files'!BA18","v":3.3730000000000002},{"$f":"'raw files'!BB18","v":11.769},10.837,0.93200000000000038,null,null,"250 - 500","M Sand",{"$f":"'raw files'!BF18","v":21.585999999999999},{"$f":"'raw files'!BG18","v":20.253},{"$f":"'raw files'!BH18","v":18.315000000000001},20.051333333333332,0.94962489670629591]
["500 - 1000","C Sand",{"$f":"'raw files'!C19","v":7.24},{"$f":"'raw files'!D19","v":8.4960000000000004},{"$f":"'raw files'!E19","v":5.04},6.9253333333333336,1.0099909790576229,null,null,"500 - 1000","C Sand",{"$f":"'raw files'!I19","v":29.74},{"$f":"'raw files'!J19","v":18.263000000000002},{"$f":"'raw files'!K19","v":20.582999999999998},25.161499999999997,3.5036059043981176,null,null,"500 - 1000","C Sand",{"$f":"'raw files'!O19","v":17.283000000000001},{"$f":"'raw files'!P19","v":16.933},{"$f":"'raw files'!Q19","v":21.952999999999999},18.722999999999999,1.6181573883072538,null,null,"500 - 1000","C Sand",{"$f":"'raw files'!V19","v":0.89900000000000002},{"$f":"'raw files'!W19","v":0.40699999999999997},{"$f":"'raw files'!X19","v":1.9E-2},0.44166666666666665,0.2546247784049655,null,null,"500 - 1000","C Sand",{"$f":"'raw files'!AB19","v":23.917999999999999},{"$f":"'raw files'!AC19","v":27.574999999999999},{"$f":"'raw files'!AD19","v":29.481999999999999},26.991666666666664,1.6324554443468828,null,null,"500 - 1000","C Sand",{"$f":"'raw files'!AH19","v":8.8849999999999998},{"$f":"'raw files'!AI19","v":15.292},{"$f":"'raw files'!AJ19","v":10.968999999999999},11.715333333333334,1.8868114490972421,null,null,"500 - 1000","C Sand",{"$f":"'raw files'!AN19","v":0.21199999999999999},{"$f":"'raw files'!AO19","v":0.30099999999999999},{"$f":"'raw files'!AP19","v":4.5999999999999999E-2},0.18633333333333335,7.4722449400728558E-2,null,null,"500 - 1000","C Sand",{"$f":"'raw files'!AT19","v":4.0090000000000003},{"$f":"'raw files'!AU19","v":5.7439999999999998},{"$f":"'raw files'!AV19","v":3.1680000000000001},4.3069999999999995,0.75840776191527426,null,"500 - 1000","C Sand",{"$f":"'raw files'!AZ19","v":2.5419999999999998},{"$f":"'raw files'!BA19","v":0},{"$f":"'raw files'!BB19","v":4.798},3.67,1.1280000000000001,null,null,"500 - 1000","C Sand",{"$f":"'raw files'!BF19","v":5.9960000000000004},{"$f":"'raw files'!BG19","v":6.22},{"$f":"'raw files'!BH19","v":10.303000000000001},7.506333333333334,1.3998276481211693]
["1000 - 2000","VC Sand",{"$f":"'raw files'!C20","v":1.569},{"$f":"'raw files'!D20","v":1.5569999999999999},{"$f":"'raw files'!E20","v":0.05},1.0586666666666666,0.50434523008660559,null,null,"1000 - 2000","VC Sand",{"$f":"'raw files'!I20","v":9.9870000000000001},{"$f":"'raw files'!J20","v":4.6059999999999999},{"$f":"'raw files'!K20","v":7.64},8.8134999999999994,1.5575751453247233,null,null,"1000 - 2000","VC Sand",{"$f":"'raw files'!O20","v":2.1819999999999999},{"$f":"'raw files'!P20","v":0.38400000000000001},{"$f":"'raw files'!Q20","v":1.9810000000000001},1.5156666666666665,0.56880058993562166,null,null,"1000 - 2000","VC Sand",{"$f":"'raw files'!V20","v":8.3000000000000004E-2},{"$f":"'raw files'!W20","v":0},{"$f":"'raw files'!X20","v":0},2.7666666666666669E-2,2.7666666666666669E-2,null,null,"1000 - 2000","VC Sand",{"$f":"'raw files'!AB20","v":1.9870000000000001},{"$f":"'raw files'!AC20","v":7.0419999999999998},{"$f":"'raw files'!AD20","v":2.58},3.8696666666666668,1.5953773151758732,null,null,"1000 - 2000","VC Sand",{"$f":"'raw files'!AH20","v":9.7000000000000003E-2},{"$f":"'raw files'!AI20","v":1.724},{"$f":"'raw files'!AJ20","v":7.2999999999999995E-2},0.6313333333333333,0.54637726079249593,null,null,"1000 - 2000","VC Sand",{"$f":"'raw files'!AN20","v":0},{"$f":"'raw files'!AO20","v":0},{"$f":"'raw files'!AP20","v":0},0,0,null,null,"1000 - 2000","VC Sand",{"$f":"'raw files'!AT20","v":0.34899999999999998},{"$f":"'raw files'!AU20","v":1.4930000000000001},{"$f":"'raw files'!AV20","v":0.371},0.73766666666666669,0.37772006095049343,null,"1000 - 2000","VC Sand",{"$f":"'raw files'!AZ20","v":0},{"$f":"'raw files'!BA20","v":0},{"$f":"'raw files'!BB20","v":0},0,0,null,null,"1000 - 2000","VC Sand",{"$f":"'raw files'!BF20","v":0},{"$f":"'raw files'!BG20","v":0.96799999999999997},{"$f":"'raw files'!BH20","v":1.3759999999999999},0.78133333333333332,0.40803485689882474]
[null,null,null,"Textural Class:",null,{"$f":"'Texture Calculator'!N4","v":"SANDY LOAM"},null,null,null,null,null,null,"Textural Class:",null,{"$f":"'Texture Calculator'!N5","v":"SAND"},null,null,null,null,null,null,"Textural Class:",{"$f":"'Texture Calculator'!N6","v":"LOAMY SAND"},null,null,null,null,null,null,null,"Textural Class:",{"$f":"'Texture Calculator'!N7","v":"SANDY LOAM"},null,null,null,null,null,null,"Textural Class:",null,{"$f":"'Texture Calculator'!N8","v":"SAND"},null,null,null,null,null,null,"Textural Class:",null,{"$f":"'Texture Calculator'!N9","v":"SANDY LOAM"},null,null,null,null,null,null,"Textural Class:",null,{"$f":"'Texture Calculator'!N10","v":"LOAMY SAND"},null,null,null,null,null,"Textural Class:",null,{"$f":"'Texture Calculator'!N11","v":"SANDY LOAM"},null,null,null,null,null,null,"Textural Class:",null,{"$f":"'Texture Calculator'!N12","v":"LOAM"},null,null,null,null,null,"Textural Class:",null,{"$f":"'Texture Calculator'!N13","v":"LOAMY SAND"}]
[null,null,null,"avg mode:",null,{"$f":"AVERAGE('raw files'!C6:E6)","v":100.80766666666666},null,null,null,null,null,null,"avg mode:",null,{"$f":"AVERAGE('raw files'!I6:K6)","v":443.03966666666673},null,null,null,null,null,null,"avg mode:",null,{"$f":"AVERAGE('raw files'!O6:Q6)","v":442.70333333333332},null,null,null,null,null,null,"avg mode:",null,{"$f":"AVERAGE('raw files'!V6:W6)","v":109.47149999999999},null,null,null,null,null,"avg mode:",null,{"$f":"AVERAGE('raw files'!AB6:AD6)","v":500.66233333333338},null,null,null,null,null,null,"avg mode:",null,{"$f":"AVERAGE('raw files'!AH6:AJ6)","v":84.706333333333319},null,null,null,null,null,null,"avg mode:",null,{"$f":"AVERAGE('raw files'!AN6:AP6)","v":156.78400000000002},null,null,null,null,null,"avg mode:",null,{"$f":"AVERAGE('raw files'!AT6:AV6)","v":101.84466666666667},null,null,null,null,null,null,"avg mode:",null,{"$f":"AVERAGE('raw files'!AZ6:BB6)","v":84.245333333333335},null,null,null,null,null,null,"avg mode:",null,{"$f":"AVERAGE('raw files'!BF6:BH6)","v":141.28800000000001}]
[]
[]
[]
["Particle",null,{"$f":"'raw files'!BL1","v":"[3755] BDT 23 bulk - c - Average"},null,null,null,null,null,null,"Particle",null,{"$f":"'raw files'!BR1","v":"[3756] source 6 bulk - c - Average"},null,null,null,null,null,null,"Particle",null,{"$f":"'raw files'!BX1","v":"[3757] SB 1 bulk - b - Average"},null,null,null,null,null,null,"Particle",null,{"$f":"'raw files'!CD1","v":"[3758] SB 3 bulk - a - Average"},null,null,null,null,null,null,"Particle",null,{"$f":"'raw files'!CJ1","v":"[3759] SB 5 bulk - a - Average"},null,null,null,null,null,null,"Particle",null,{"$f":"'raw files'!CP1","v":"[3760] SB 6 bulk - a - Average"},null,null,null,null,null,null,"Particle",null,{"$f":"'raw files'!CV1","v":"[3761] SB 8 bulk - a - Average"},null,null,null,null,null,null,"Particle",null,{"$f":"'raw files'!DB1","v":"[3762] SB 10 bulk - a - Average"},null,null,null,null,null,null,"Particle",null,{"$f":"'raw files'!DH1","v":"[3763] SB 11 bulk - a - Average"},null,null,null,null,null,null,"Particle",null,{"$f":"'raw files'!DN1","v":"[3764] SB 13 bulk - c - Average"}]
["Diameter",null,"Differential Volume (%)",null,null,null,null,null,null,"Diameter",null,"Differential Volume (%)",null,null,null,null,null,null,"Diameter",null,"Differential Volume (%)",null,null,null,null,null,null,"Diameter",null,"Differential Volume (%)",null,null,null,null,null,null,"Diameter",null,"Differential Volume (%)",null,null,null,null,null,null,"Diameter",null,"Differential Volume (%)",null,null,null,null,null,null,"Diameter",null,"Differential Volume (%)",null,null,null,null,null,null,"Diameter",null,"Differential Volume (%)",null,null,null,null,null,null,"Diameter",null,"Differential Volume (%)",null,null,null,null,null,null,"Diameter",null,"Differential Volume (%)"]
["Range (mm)","Size Class","Rep. 1","Rep. 2","Rep. 3","Average","SE",null,null,"Range (mm)","Size Class","Rep. 1","Rep. 2","Rep. 3","Average","SE",null,null,"Range (mm)","Size Class","Rep. 1","Rep. 2","Rep. 3","Average","SE",null,null,"Range (mm)","Size Class","Rep. 1","Rep. 2","Rep. 3","Average","SE",null,null,"Range (mm)","Size Class","Rep. 1","Rep. 2","Rep. 3","Average","SE",null,null,"Range (mm)","Size Class","Rep. 1","Rep. 2","Rep. 3","Average","SE",null,null,"Range (mm)","Size Class","Rep. 1","Rep. 2","Rep. 3","Average","SE",null,null,"Range (mm)","Size Class","Rep. 1","Rep. 2","Rep. 3","Average","SE",null,null,"Range (mm)","Size Class","Rep. 1","Rep. 2","Rep. 3","Average","SE",null,null,"Range (mm)","Size Class","Rep. 1","Rep. 2","Rep. 3","Average","SE"]
["< 5","Clay",{"$f":"'raw files'!BL13","v":23.254999999999999},{"$f":"'raw files'!BM13","v":29.696999999999999},{"$f":"'raw files'!BN13","v":28.640999999999998},{"$f":"AVERAGE(D27:E27)","v":29.168999999999997},{"$f":"(STDEV(D27:E27))/SQRT(2)","v":0.52800000000000047},null,null,"< 5","Clay",{"$f":"'raw files'!BR13","v":2.589},{"$f":"'raw files'!BS13","v":2.4700000000000002},{"$f":"'raw files'!BT13","v":2.64},{"$f":"AVERAGE(L27:N27)","v":2.5663333333333331},{"$f":"(STDEV(L27:N27))/SQRT(3)","v":5.0366435031454972E-2},null,null,"< 5","Clay",{"$f":"'raw files'!BX13","v":3.0579999999999998},{"$f":"'raw files'!BY13","v":1.6319999999999999},{"$f":"'raw files'!BZ13","v":1.427},{"$f":"AVERAGE(V27:W27)","v":1.5295000000000001},{"$f":"(STDEV(V27:W27))/SQRT(2)","v":0.10249999999999992},null,null,"< 5","Clay",{"$f":"'raw files'!CD13","v":4.2560000000000002},{"$f":"'raw files'!CE13","v":4.0979999999999999},{"$f":"'raw files'!CF13","v":4.1050000000000004},{"$f":"AVERAGE(AD27:AF27)","v":4.1529999999999996},{"$f":"(STDEV(AD27:AF27))/SQRT(3)","v":5.1539628765963547E-2},null,null,"< 5","Clay",{"$f":"'raw files'!CJ13","v":4.7830000000000004},{"$f":"'raw files'!CK13","v":4.62},{"$f":"'raw files'!CL13","v":4.2690000000000001},{"$f":"AVERAGE(AM27:AO27)","v":4.5573333333333332},{"$f":"(STDEV(AM27:AO27))/SQRT(3)","v":0.15165128127091818},null,null,"< 5","Clay",{"$f":"'raw files'!CP13","v":4.2290000000000001},{"$f":"'raw files'!CQ13","v":3.8820000000000001},{"$f":"'raw files'!CR13","v":4.8319999999999999},{"$f":"AVERAGE(AV27:AX27)","v":4.3143333333333338},{"$f":"(STDEV(AV27:AX27))/SQRT(3)","v":0.27754058762238315},null,null,"< 5","Clay",{"$f":"'raw files'!CV13","v":4.327},{"$f":"'raw files'!CW13","v":4.1120000000000001},{"$f":"'raw files'!CX13","v":5.2080000000000002},{"$f":"AVERAGE(BE27:BF27)","v":4.2195},{"$f":"(STDEV(BE27:BF27))/SQRT(2)","v":0.10749999999999993},null,null,"< 5","Clay",{"$f":"'raw files'!DB13","v":6.4960000000000004},{"$f":"'raw files'!DC13","v":6.1429999999999998},{"$f":"'raw files'!DD13","v":5.4269999999999996},{"$f":"AVERAGE(BN27:BO27)","v":6.3194999999999997},{"$f":"(STDEV(BN27:BO27))/SQRT(2)","v":0.1765000000000003},null,null,"< 5","Clay",{"$f":"'raw files'!DH13","v":3.581},{"$f":"'raw files'!DI13","v":4.0229999999999997},{"$f":"'raw files'!DJ13","v":3.9689999999999999},{"$f":"AVERAGE(BW27:BY27)","v":3.8576666666666664},{"$f":"(STDEV(BW27:BY27))/SQRT(3)","v":0.13920887583452105},null,null,"< 5","Clay",{"$f":"'raw files'!DN13","v":5.7510000000000003},{"$f":"'raw files'!DO13","v":5.5860000000000003},{"$f":"'raw files'!DP13","v":4.8479999999999999},{"$f":"AVERAGE(CF27:CH27)","v":5.3949999999999996},{"$f":"(STDEV(CF27:CH27))/SQRT(3)","v":0.27761664215244752}]
["5 - 63","Silt",{"$f":"'raw files'!BL14","v":34.725999999999999},{"$f":"'raw files'!BM14","v":40.220999999999997},{"$f":"'raw files'!BN14","v":39.469000000000001},{"$f":"AVERAGE(D28:E28)","v":39.844999999999999},0.37599999999999761,null,null,"5 - 63","Silt",{"$f":"'raw files'!BR14","v":18.454000000000001},{"$f":"'raw files'!BS14","v":17.736999999999998},{"$f":"'raw files'!BT14","v":17.274000000000001},{"$f":"AVERAGE(L28:N28)","v":17.821666666666669},{"$f":"(STDEV(L28:N28))/SQRT(3)","v":0.34325711128022457},null,null,"5 - 63","Silt",{"$f":"'raw files'!BX14","v":9.266},{"$f":"'raw files'!BY14","v":5.9690000000000003},{"$f":"'raw files'!BZ14","v":5.4619999999999997},{"$f":"AVERAGE(V28:W28)","v":5.7155000000000005},0.25350000000000028,null,null,"5 - 63","Silt",{"$f":"'raw files'!CD14","v":13.478999999999999},{"$f":"'raw files'!CE14","v":13.048999999999999},{"$f":"'raw files'!CF14","v":13.010999999999999},{"$f":"AVERAGE(AD28:AF28)","v":13.179666666666668},{"$f":"(STDEV(AD28:AF28))/SQRT(3)","v":0.15006813267461028},null,null,"5 - 63","Silt",{"$f":"'raw files'!CJ14","v":16.120999999999999},{"$f":"'raw files'!CK14","v":15.590999999999999},{"$f":"'raw files'!CL14","v":15.337},{"$f":"AVERAGE(AM28:AO28)","v":15.682999999999998},{"$f":"(STDEV(AM28:AO28))/SQRT(3)","v":0.23094876776751419},null,null,"5 - 63","Silt",{"$f":"'raw files'!CP14","v":10.651999999999999},{"$f":"'raw files'!CQ14","v":9.7579999999999991},{"$f":"'raw files'!CR14","v":11.846},{"$f":"AVERAGE(AV28:AX28)","v":10.752000000000001},{"$f":"(STDEV(AV28:AX28))/SQRT(3)","v":0.60482394132507711},null,null,"5 - 63","Silt",{"$f":"'raw files'!CV14","v":21.17},{"$f":"'raw files'!CW14","v":20.065999999999999},{"$f":"'raw files'!CX14","v":24.747},{"$f":"AVERAGE(BE28:BF28)","v":20.618000000000002},{"$f":"(STDEV(BE28:BF28))/SQRT(2)","v":0.55200000000000138},null,null,"5 - 63","Silt",{"$f":"'raw files'!DB14","v":16.71},{"$f":"'raw files'!DC14","v":16.341000000000001},{"$f":"'raw files'!DD14","v":14.628},{"$f":"AVERAGE(BN28:BO28)","v":16.525500000000001},{"$f":"(STDEV(BN28:BO28))/SQRT(2)","v":0.18449999999999986},null,null,"5 - 63","Silt",{"$f":"'raw files'!DH14","v":8.4949999999999992},{"$f":"'raw files'!DI14","v":10.404},{"$f":"'raw files'!DJ14","v":10.154999999999999},{"$f":"AVERAGE(BW28:BY28)","v":9.6846666666666668},{"$f":"(STDEV(BW28:BY28))/SQRT(3)","v":0.59916061656658037},null,null,"5 - 63","Silt",{"$f":"'raw files'!DN14","v":18.943999999999999},{"$f":"'raw files'!DO14","v":18.34},{"$f":"'raw files'!DP14","v":16.638999999999999},{"$f":"AVERAGE(CF28:CH28)","v":17.974333333333334},{"$f":"(STDEV(CF28:CH28))/SQRT(3)","v":0.69005804908798152}]
["63 - 2000","Sand",{"$f":"'raw files'!BL15","v":42.018999999999998},{"$f":"'raw files'!BM15","v":30.082000000000001},{"$f":"'raw files'!BN15","v":31.888999999999999},30.985500000000002,{"$f":"(STDEV(D29:E29))/SQRT(2)","v":0.90349999999999919},null,null,"63 - 2000","Sand",{"$f":"'raw files'!BR15","v":78.956999999999994},{"$f":"'raw files'!BS15","v":79.793000000000006},{"$f":"'raw files'!BT15","v":80.087000000000003},79.612333333333325,{"$f":"(STDEV(L29:N29))/SQRT(3)","v":0.33847960713231567},null,null,"63 - 2000","Sand",{"$f":"'raw files'!BX15","v":87.676000000000002},{"$f":"'raw files'!BY15","v":92.399000000000001},{"$f":"'raw files'!BZ15","v":93.11},92.754500000000007,{"$f":"(STDEV(V29:W29))/SQRT(2)","v":0.35549999999999926},null,null,"63 - 2000","Sand",{"$f":"'raw files'!CD15","v":82.265000000000001},{"$f":"'raw files'!CE15","v":82.852999999999994},{"$f":"'raw files'!CF15","v":82.884},82.667333333333332,0.20136561551345036,null,null,"63 - 2000","Sand",{"$f":"'raw files'!CJ15","v":79.096000000000004},{"$f":"'raw files'!CK15","v":79.789000000000001},{"$f":"'raw files'!CL15","v":80.394000000000005},79.759666666666661,0.3749872590428171,null,null,"63 - 2000","Sand",{"$f":"'raw files'!CP15","v":85.119},{"$f":"'raw files'!CQ15","v":86.36},{"$f":"'raw files'!CR15","v":83.320999999999998},84.933333333333323,0.88218182807048273,null,null,"63 - 2000","Sand",{"$f":"'raw files'!CV15","v":74.503},{"$f":"'raw files'!CW15","v":75.822000000000003},{"$f":"'raw files'!CX15","v":70.045000000000002},75.162499999999994,{"$f":"(STDEV(BE29:BF29))/SQRT(2)","v":0.6595000000000012},null,null,"63 - 2000","Sand",{"$f":"'raw files'!DB15","v":76.793999999999997},{"$f":"'raw files'!DC15","v":77.516000000000005},{"$f":"'raw files'!DD15","v":79.944999999999993},77.155000000000001,0.36100000000000421,null,null,"63 - 2000","Sand",{"$f":"'raw files'!DH15","v":87.924000000000007},{"$f":"'raw files'!DI15","v":85.572999999999993},{"$f":"'raw files'!DJ15","v":85.876000000000005},86.457666666666682,{"$f":"(STDEV(BW29:BY29))/SQRT(3)","v":0.73836583826116675},null,null,"63 - 2000","Sand",{"$f":"'raw files'!DN15","v":75.305999999999997},{"$f":"'raw files'!DO15","v":76.075000000000003},{"$f":"'raw files'!DP15","v":78.513000000000005},76.63133333333333,0.9666682183895613]
["63 - 125","VF Sand",{"$f":"'raw files'!BL16","v":15.185},{"$f":"'raw files'!BM16","v":14.077},{"$f":"'raw files'!BN16","v":13.481999999999999},13.779499999999999,0.29750000000000026,null,null,"63 - 125","VF Sand",{"$f":"'raw files'!BR16","v":27.745000000000001},{"$f":"'raw files'!BS16","v":26.806999999999999},{"$f":"'raw files'!BT16","v":28.138000000000002},{"$f":"AVERAGE(L30:N30)","v":27.563333333333333},{"$f":"(STDEV(L30:N30))/SQRT(3)","v":0.39481739801809457},null,null,"63 - 125","VF Sand",{"$f":"'raw files'!BX16","v":9.9670000000000005},{"$f":"'raw files'!BY16","v":7.6890000000000001},{"$f":"'raw files'!BZ16","v":7.1310000000000002},7.41,{"$f":"(STDEV(V30:W30))/SQRT(2)","v":0.27899999999999991},null,null,"63 - 125","VF Sand",{"$f":"'raw files'!CD16","v":16.254999999999999},{"$f":"'raw files'!CE16","v":15.727},{"$f":"'raw files'!CF16","v":15.624000000000001},15.868666666666668,0.19544166506772362,null,null,"63 - 125","VF Sand",{"$f":"'raw files'!CJ16","v":15.089},{"$f":"'raw files'!CK16","v":14.673999999999999},{"$f":"'raw files'!CL16","v":14.92},{"$f":"AVERAGE(AM30:AO30)","v":14.894333333333334},0.12048559157749046,null,null,"63 - 125","VF Sand",{"$f":"'raw files'!CP16","v":14.436999999999999},{"$f":"'raw files'!CQ16","v":13.571},{"$f":"'raw files'!CR16","v":15.061999999999999},{"$f":"AVERAGE(AV30:AX30)","v":14.356666666666667},{"$f":"(STDEV(AV30:AX30))/SQRT(3)","v":0.43228475697289054},null,null,"63 - 125","VF Sand",{"$f":"'raw files'!CV16","v":18.033000000000001},{"$f":"'raw files'!CW16","v":17.692},{"$f":"'raw files'!CX16","v":20.03},17.862500000000001,0.17050000000000051,null,null,"63 - 125","VF Sand",{"$f":"'raw files'!DB16","v":16.283999999999999},{"$f":"'raw files'!DC16","v":16.565999999999999},{"$f":"'raw files'!DD16","v":15.784000000000001},16.424999999999997,0.14100000000000001,null,null,"63 - 125","VF Sand",{"$f":"'raw files'!DH16","v":13.837999999999999},{"$f":"'raw files'!DI16","v":16.373000000000001},{"$f":"'raw files'!DJ16","v":16.061},{"$f":"AVERAGE(BW30:BY30)","v":15.423999999999999},0.79809836486488361,null,null,"63 - 125","VF Sand",{"$f":"'raw files'!DN16","v":24.824999999999999},{"$f":"'raw files'!DO16","v":24.363},{"$f":"'raw files'!DP16","v":23.446000000000002},24.211333333333332,0.40524162888056953]
["125 - 250","F Sand",{"$f":"'raw files'!BL17","v":13.95},{"$f":"'raw files'!BM17","v":10.593999999999999},{"$f":"'raw files'!BN17","v":11.346},10.969999999999999,0.37600000000000028,null,null,"125 - 250","F Sand",{"$f":"'raw files'!BR17","v":25.050999999999998},{"$f":"'raw files'!BS17","v":24.638999999999999},{"$f":"'raw files'!BT17","v":26.338000000000001},{"$f":"AVERAGE(L31:N31)","v":25.342666666666663},0.51168099871350026,null,null,"125 - 250","F Sand",{"$f":"'raw files'!BX17","v":23.893000000000001},{"$f":"'raw files'!BY17","v":17.314},{"$f":"'raw files'!BZ17","v":15.955},16.634499999999999,0.67949999999999999,null,null,"125 - 250","F Sand",{"$f":"'raw files'!CD17","v":21.472999999999999},{"$f":"'raw files'!CE17","v":21.263000000000002},{"$f":"'raw files'!CF17","v":20.696999999999999},21.144333333333336,0.23173644033206747,null,null,"125 - 250","F Sand",{"$f":"'raw files'!CJ17","v":27.404},{"$f":"'raw files'!CK17","v":26.442},{"$f":"'raw files'!CL17","v":26.369},{"$f":"AVERAGE(AM31:AO31)","v":26.738333333333333},0.33349979177071626,null,null,"125 - 250","F Sand",{"$f":"'raw files'!CP17","v":29.239000000000001},{"$f":"'raw files'!CQ17","v":27.954999999999998},{"$f":"'raw files'!CR17","v":27.661999999999999},{"$f":"AVERAGE(AV31:AX31)","v":28.28533333333333},{"$f":"(STDEV(AV31:AX31))/SQRT(3)","v":0.48427689508287691},null,null,"125 - 250","F Sand",{"$f":"'raw files'!CV17","v":23.882999999999999},{"$f":"'raw files'!CW17","v":22.303000000000001},{"$f":"'raw files'!CX17","v":23.978000000000002},23.093,0.78999999999999915,null,null,"125 - 250","F Sand",{"$f":"'raw files'!DB17","v":29.236000000000001},{"$f":"'raw files'!DC17","v":27.891999999999999},{"$f":"'raw files'!DD17","v":28.936},28.564,0.6720000000000006,null,null,"125 - 250","F Sand",{"$f":"'raw files'!DH17","v":28.956},{"$f":"'raw files'!DI17","v":28.859000000000002},{"$f":"'raw files'!DJ17","v":28.626999999999999},{"$f":"AVERAGE(BW31:BY31)","v":28.813999999999997},9.7602937114276478E-2,null,null,"125 - 250","F Sand",{"$f":"'raw files'!DN17","v":30.213999999999999},{"$f":"'raw files'!DO17","v":29.587},{"$f":"'raw files'!DP17","v":31.279},30.36,0.49386334142149091]
["250 - 500","M Sand",{"$f":"'raw files'!BL18","v":10.811},{"$f":"'raw files'!BM18","v":4.1280000000000001},{"$f":"'raw files'!BN18","v":6.3689999999999998},5.2484999999999999,1.1204999999999998,null,null,"250 - 500","M Sand",{"$f":"'raw files'!BR18","v":11.053000000000001},{"$f":"'raw files'!BS18","v":12.53},{"$f":"'raw files'!BT18","v":13.654999999999999},12.412666666666667,0.75342027521902444,null,null,"250 - 500","M Sand",{"$f":"'raw files'!BX18","v":32.697000000000003},{"$f":"'raw files'!BY18","v":30.225000000000001},{"$f":"'raw files'!BZ18","v":26.306000000000001},28.265500000000003,1.9595000000000002,null,null,"250 - 500","M Sand",{"$f":"'raw files'!CD18","v":18.135000000000002},{"$f":"'raw files'!CE18","v":15.506},{"$f":"'raw files'!CF18","v":16.577000000000002},16.739333333333335,0.76325494502892788,null,null,"250 - 500","M Sand",{"$f":"'raw files'!CJ18","v":24.626000000000001},{"$f":"'raw files'!CK18","v":21.920999999999999},{"$f":"'raw files'!CL18","v":23.806000000000001},23.450999999999997,0.80078607213995312,null,null,"250 - 500","M Sand",{"$f":"'raw files'!CP18","v":31.434000000000001},{"$f":"'raw files'!CQ18","v":30.919},{"$f":"'raw files'!CR18","v":28.555},30.302666666666667,0.88638974372325552,null,null,"250 - 500","M Sand",{"$f":"'raw files'!CV18","v":22.041},{"$f":"'raw files'!CW18","v":20.748000000000001},{"$f":"'raw files'!CX18","v":19.029},21.394500000000001,0.64649999999999952,null,null,"250 - 500","M Sand",{"$f":"'raw files'!DB18","v":22.957999999999998},{"$f":"'raw files'!DC18","v":20.087},{"$f":"'raw files'!DD18","v":24.574000000000002},21.522500000000001,1.4354999999999991,null,null,"250 - 500","M Sand",{"$f":"'raw files'!DH18","v":32.363},{"$f":"'raw files'!DI18","v":30.131},{"$f":"'raw files'!DJ18","v":29.163},30.552333333333333,0.9474775869527351,null,null,"250 - 500","M Sand",{"$f":"'raw files'!DN18","v":14.923999999999999},{"$f":"'raw files'!DO18","v":16.123000000000001},{"$f":"'raw files'!DP18","v":19.353999999999999},16.800333333333331,1.3229147532794723]
["500 - 1000","C Sand",{"$f":"'raw files'!BL19","v":2.0720000000000001},{"$f":"'raw files'!BM19","v":1.2829999999999999},{"$f":"'raw files'!BN19","v":0.69199999999999995},0.98749999999999993,0.29549999999999998,null,null,"500 - 1000","C Sand",{"$f":"'raw files'!BR19","v":8.9499999999999993},{"$f":"'raw files'!BS19","v":9.9990000000000006},{"$f":"'raw files'!BT19","v":8.9179999999999993},9.2889999999999997,0.35512016745509356,null,null,"500 - 1000","C Sand",{"$f":"'raw files'!BX19","v":18.855},{"$f":"'raw files'!BY19","v":29.234999999999999},{"$f":"'raw files'!BZ19","v":30.731000000000002},29.983000000000001,0.74800000000000111,null,null,"500 - 1000","C Sand",{"$f":"'raw files'!CD19","v":18.716999999999999},{"$f":"'raw files'!CE19","v":18.675999999999998},{"$f":"'raw files'!CF19","v":18.911000000000001},18.768000000000001,7.2472983472004732E-2,null,null,"500 - 1000","C Sand",{"$f":"'raw files'!CJ19","v":10.75},{"$f":"'raw files'!CK19","v":12.409000000000001},{"$f":"'raw files'!CL19","v":11.576000000000001},11.578333333333333,0.47891346933565287,null,null,"500 - 1000","C Sand",{"$f":"'raw files'!CP19","v":10.007999999999999},{"$f":"'raw files'!CQ19","v":13.654},{"$f":"'raw files'!CR19","v":11.882999999999999},11.848333333333334,1.0526522587149891,null,null,"500 - 1000","C Sand",{"$f":"'raw files'!CV19","v":9.1829999999999998},{"$f":"'raw files'!CW19","v":13.587},{"$f":"'raw files'!CX19","v":6.8520000000000003},11.385,2.202,null,null,"500 - 1000","C Sand",{"$f":"'raw files'!DB19","v":7.2039999999999997},{"$f":"'raw files'!DC19","v":9.3960000000000008},{"$f":"'raw files'!DD19","v":9.6150000000000002},8.3000000000000007,1.0959999999999945,null,null,"500 - 1000","C Sand",{"$f":"'raw files'!DH19","v":12.641999999999999},{"$f":"'raw files'!DI19","v":10.210000000000001},{"$f":"'raw files'!DJ19","v":11.882999999999999},11.578333333333333,0.71839458362224395,null,null,"500 - 1000","C Sand",{"$f":"'raw files'!DN19","v":3.16},{"$f":"'raw files'!DO19","v":5.1769999999999996},{"$f":"'raw files'!DP19","v":4.4180000000000001},4.251666666666666,0.58816730424070718]
["1000 - 2000","VC Sand",{"$f":"'raw files'!BL20","v":0},{"$f":"'raw files'!BM20","v":0},{"$f":"'raw files'!BN20","v":0},0,0,null,null,"1000 - 2000","VC Sand",{"$f":"'raw files'!BR20","v":6.1580000000000004},{"$f":"'raw files'!BS20","v":5.8179999999999996},{"$f":"'raw files'!BT20","v":3.0379999999999998},5.0046666666666662,0.98821949878444493,null,null,"1000 - 2000","VC Sand",{"$f":"'raw files'!BX20","v":2.2639999999999998},{"$f":"'raw files'!BY20","v":7.9349999999999996},{"$f":"'raw files'!BZ20","v":12.988},10.461499999999999,2.5265000000000017,null,null,"1000 - 2000","VC Sand",{"$f":"'raw files'!CD20","v":7.6849999999999996},{"$f":"'raw files'!CE20","v":11.682},{"$f":"'raw files'!CF20","v":11.076000000000001},10.147666666666668,1.2436980251563392,null,null,"1000 - 2000","VC Sand",{"$f":"'raw files'!CJ20","v":1.2270000000000001},{"$f":"'raw files'!CK20","v":4.343},{"$f":"'raw files'!CL20","v":3.7229999999999999},3.0976666666666666,0.95230340636678357,null,null,"1000 - 2000","VC Sand",{"$f":"'raw files'!CP20","v":0},{"$f":"'raw files'!CQ20","v":0.26100000000000001},{"$f":"'raw files'!CR20","v":0.16},0.14033333333333334,{"$f":"(STDEV(AV34:AX34))/SQRT(3)","v":7.5983185274404258E-2},null,null,"1000 - 2000","VC Sand",{"$f":"'raw files'!CV20","v":1.363},{"$f":"'raw files'!CW20","v":1.492},{"$f":"'raw files'!CX20","v":0.156},1.4275,6.4499999999999988E-2,null,null,"1000 - 2000","VC Sand",{"$f":"'raw files'!DB20","v":1.1120000000000001},{"$f":"'raw files'!DC20","v":3.5750000000000002},{"$f":"'raw files'!DD20","v":1.0349999999999999},2.3435000000000001,1.2314999999999998,null,null,"1000 - 2000","VC Sand",{"$f":"'raw files'!DH20","v":0.125},{"$f":"'raw files'!DI20","v":0},{"$f":"'raw files'!DJ20","v":0.14199999999999999},8.900000000000001E-2,4.4769781475157255E-2,null,null,"1000 - 2000","VC Sand",{"$f":"'raw files'!DN20","v":2.1829999999999998},{"$f":"'raw files'!DO20","v":0.82599999999999996},{"$f":"'raw files'!DP20","v":1.6E-2},1.0083333333333333,0.63216725986438471]
[null,null,null,"Textural Class:",null,{"$f":"'Texture Calculator'!N14","v":"CLAY LOAM"},null,null,null,null,null,null,null,"Textural Class:",{"$f":"'Texture Calculator'!N15","v":"LOAMY SAND"},null,null,null,null,null,null,null,"Textural Class:",{"$f":"'Texture Calculator'!N16","v":"SAND"},null,null,null,null,null,null,null,"Textural Class:",{"$f":"'Texture Calculator'!N17","v":"LOAMY SAND"},null,null,null,null,null,null,null,"Textural Class:",{"$f":"'Texture Calculator'!N18","v":"LOAMY SAND"},null,null,null,null,null,null,null,"Textural Class:",{"$f":"'Texture Calculator'!N19","v":"LOAMY SAND"},null,null,null,null,null,null,null,"Textural Class:",{"$f":"'Texture Calculator'!N20","v":"LOAMY SAND"},null,null,null,null,null,null,null,"Textural Class:",{"$f":"'Texture Calculator'!N21","v":"LOAMY SAND"},null,null,null,null,null,null,null,"Textural Class:",{"$f":"'Texture Calculator'!N22","v":"LOAMY SAND"},null,null,null,null,null,null,null,"Textural Class:",{"$f":"'Texture Calculator'!$N$23","v":"LOAMY SAND"}]
[null,null,null,"avg mode:",null,{"$f":"AVERAGE('raw files'!BL6:BN6)","v":102.45},null,null,null,null,null,null,null,"avg mode:",{"$f":"AVERAGE('raw files'!BR6:BT6)","v":114.82},null,null,null,null,null,null,null,"avg mode:",{"$f":"AVERAGE('raw files'!BX6:BY6)","v":425.15899999999999},null,null,null,null,null,null,null,"avg mode:",{"$f":"AVERAGE('raw files'!CE6:CF6)","v":154.928},null,null,null,null,null,null,null,"avg mode:",{"$f":"AVERAGE('raw files'!CJ6:CL6)","v":218.49566666666669},null,null,null,null,null,null,null,"avg mode:",{"$f":"AVERAGE('raw files'!CP6:CR6)","v":275.04233333333332},null,null,null,null,null,null,null,"avg mode:",{"$f":"AVERAGE('raw files'!CV6:CW6)","v":202.54899999999998},null,null,null,null,null,null,null,"avg mode:",{"$f":"AVERAGE('raw files'!DB6:DC6)","v":197.34350000000001},null,null,null,null,null,null,null,"avg mode:",{"$f":"AVERAGE('raw files'!DH6:DJ6)","v":279.55099999999999},null,null,null,null,null,null,null,"avg mode:",{"$f":"AVERAGE('raw files'!DO6:DP6)","v":149.70600000000002}]
[]
[]
[]
["Particle",null,{"$f":"'raw files'!DT1","v":"[3765] SB 15 bulk - a - Average"},null,null,null,null,null,null,"Particle",null,{"$f":"'raw files'!DZ1","v":"[3766] SB 719 bulk - b - Average"},null,null,null,null,null,null,"Particle",null,{"$f":"'raw files'!EF1","v":"[3767] SB 722 bulk - a - Average"}]
["Diameter",null,"Differential Volume (%)",null,null,null,null,null,null,"Diameter",null,"Differential Volume (%)",null,null,null,null,null,null,"Diameter",null,"Differential Volume (%)"]
["Range (mm)","Size Class","Rep. 1","Rep. 2","Rep. 3","Average","SE",null,null,"Range (mm)","Size Class","Rep. 1","Rep. 2","Rep. 3","Average","SE",null,null,"Range (mm)","Size Class","Rep. 1","Rep. 2","Rep. 3","Average","SE"]
["< 5","Clay",{"$f":"'raw files'!DT13","v":2.4060000000000001},{"$f":"'raw files'!DU13","v":2.2599999999999998},{"$f":"'raw files'!DV13","v":2.2490000000000001},{"$f":"AVERAGE(C43:E43)","v":2.3050000000000002},{"$f":"(STDEV(C43:E43))/SQRT(3)","v":5.0599736494702612E-2},null,null,"< 5","Clay",{"$f":"'raw files'!DZ13","v":3.28},{"$f":"'raw files'!EA13","v":2.92},{"$f":"'raw files'!EB13","v":2.75},{"$f":"AVERAGE(L43:N43)","v":2.9833333333333329},{"$f":"(STDEV(L43:N43))/SQRT(3)","v":0.15624055527010616},null,null,"< 5","Clay",{"$f":"'raw files'!EF13","v":1.046},{"$f":"'raw files'!EG13","v":0.94199999999999995},{"$f":"'raw files'!EH13","v":1.8089999999999999},{"$f":"AVERAGE(U43:W43)","v":1.2656666666666665},{"$f":"(STDEV(U43:W43))/SQRT(3)","v":0.27332052815533492}]
["5 - 63","Silt",{"$f":"'raw files'!DT14","v":5.9},{"$f":"'raw files'!DU14","v":5.5069999999999997},{"$f":"'raw files'!DV14","v":4.8310000000000004},{"$f":"AVERAGE(C44:E44)","v":5.4126666666666665},{"$f":"(STDEV(C44:E44))/SQRT(3)","v":0.31217747801175177},null,null,"5 - 63","Silt",{"$f":"'raw files'!DZ14","v":3.4969999999999999},{"$f":"'raw files'!EA14","v":3.077},{"$f":"'raw files'!EB14","v":2.4609999999999999},{"$f":"AVERAGE(L44:N44)","v":3.0116666666666667},{"$f":"(STDEV(L44:N44))/SQRT(3)","v":0.30084621394400879},null,null,"5 - 63","Silt",{"$f":"'raw files'!EF14","v":0.64900000000000002},{"$f":"'raw files'!EG14","v":0.57499999999999996},{"$f":"'raw files'!EH14","v":2.6629999999999998},{"$f":"AVERAGE(U44:W44)","v":1.2956666666666665},{"$f":"(STDEV(U44:W44))/SQRT(3)","v":0.68400032488621265}]
["63 - 2000","Sand",{"$f":"'raw files'!DT15","v":91.694000000000003},{"$f":"'raw files'!DU15","v":92.233000000000004},{"$f":"'raw files'!DV15","v":92.918999999999997},92.281999999999996,0.35447472876543984,null,null,"63 - 2000","Sand",{"$f":"'raw files'!DZ15","v":93.222999999999999},{"$f":"'raw files'!EA15","v":94.003},{"$f":"'raw files'!EB15","v":94.789000000000001},94.004999999999995,{"$f":"(STDEV(L45:N45))/SQRT(3)","v":0.45206636680912315},null,null,"63 - 2000","Sand",{"$f":"'raw files'!EF15","v":98.305000000000007},{"$f":"'raw files'!EG15","v":98.481999999999999},{"$f":"'raw files'!EH15","v":95.528000000000006},97.438333333333333,0.95653233667822712]
["63 - 125","VF Sand",{"$f":"'raw files'!DT16","v":11.266},{"$f":"'raw files'!DU16","v":10.662000000000001},{"$f":"'raw files'!DV16","v":8.8089999999999993},10.245666666666667,0.73919152532419252,null,null,"63 - 125","VF Sand",{"$f":"'raw files'!DZ16","v":4.2000000000000003E-2},{"$f":"'raw files'!EA16","v":3.5999999999999997E-2},{"$f":"'raw files'!EB16","v":4.2999999999999997E-2},4.0333333333333332E-2,2.1858128414340011E-3,null,null,"63 - 125","VF Sand",{"$f":"'raw files'!EF16","v":1.901},{"$f":"'raw files'!EG16","v":1.4279999999999999},{"$f":"'raw files'!EH16","v":1.6850000000000001},1.6713333333333331,0.13671421936937725]
["125 - 250","F Sand",{"$f":"'raw files'!DT17","v":18.478000000000002},{"$f":"'raw files'!DU17","v":17.073},{"$f":"'raw files'!DV17","v":17.260000000000002},17.603666666666669,0.4404869779888822,null,null,"125 - 250","F Sand",{"$f":"'raw files'!DZ17","v":36.802999999999997},{"$f":"'raw files'!EA17","v":36.436999999999998},{"$f":"'raw files'!EB17","v":36.564999999999998},36.601666666666667,0.10723390840173219,null,null,"125 - 250","F Sand",{"$f":"'raw files'!EF17","v":49.058},{"$f":"'raw files'!EG17","v":50.274999999999999},{"$f":"'raw files'!EH17","v":51.511000000000003},50.281333333333329,0.70812718568849797]
["250 - 500","M Sand",{"$f":"'raw files'!DT18","v":21.201000000000001},{"$f":"'raw files'!DU18","v":20.448},{"$f":"'raw files'!DV18","v":24.56},22.069666666666667,1.2639979342458503,null,null,"250 - 500","M Sand",{"$f":"'raw files'!DZ18","v":55.912999999999997},{"$f":"'raw files'!EA18","v":57.063000000000002},{"$f":"'raw files'!EB18","v":57.518000000000001},56.831333333333333,0.47758361687887962,null,null,"250 - 500","M Sand",{"$f":"'raw files'!EF18","v":46.468000000000004},{"$f":"'raw files'!EG18","v":46.243000000000002},{"$f":"'raw files'!EH18","v":42.204000000000001},44.971666666666671,1.3853567931924422]
["500 - 1000","C Sand",{"$f":"'raw files'!DT19","v":26.486999999999998},{"$f":"'raw files'!DU19","v":29.027000000000001},{"$f":"'raw files'!DV19","v":30.161000000000001},28.558333333333334,1.0861714618072262,null,null,"500 - 1000","C Sand",{"$f":"'raw files'!DZ19","v":0.46500000000000002},{"$f":"'raw files'!EA19","v":0.46700000000000003},{"$f":"'raw files'!EB19","v":0.66300000000000003},0.53166666666666673,6.566920468868534E-2,null,null,"500 - 1000","C Sand",{"$f":"'raw files'!EF19","v":0.878},{"$f":"'raw files'!EG19","v":0.53700000000000003},{"$f":"'raw files'!EH19","v":0.128},0.51433333333333342,0.21680277775998263]
["1000 - 2000","VC Sand",{"$f":"'raw files'!DT20","v":14.262},{"$f":"'raw files'!DU20","v":15.022},{"$f":"'raw files'!DV20","v":12.129},13.804333333333332,0.86592076876454371,null,null,"1000 - 2000","VC Sand",{"$f":"'raw files'!DZ20","v":0},{"$f":"'raw files'!EA20","v":0},{"$f":"'raw files'!EB20","v":0},0,0,null,null,"1000 - 2000","VC Sand",{"$f":"'raw files'!EF20","v":0},{"$f":"'raw files'!EG20","v":0},{"$f":"'raw files'!EH20","v":0},0,0]
[null,null,null,"Textural Class:",null,{"$f":"'Texture Calculator'!$N$24","v":"SAND"},null,null,null,null,null,null,"Textural Class:",null,{"$f":"'Texture Calculator'!$N$25","v":"SAND"},null,null,null,null,null,null,"Textural Class:",null,{"$f":"'Texture Calculator'!$N$26","v":"SAND"}]
[null,null,null,"avg mode:",null,{"$f":"AVERAGE('raw files'!DT6:DV6)","v":690.02566666666678},null,null,null,null,null,null,"avg mode:",null,{"$f":"AVERAGE('raw files'!DZ6:EB6)","v":269.65199999999999},null,null,null,null,null,null,"avg mode:",null,{"$f":"AVERAGE('raw files'!EF6:EH6)","v":244.70066666666671}]
[]
[]
[]
[]
[]
[]
[null,null,null,null,null,null,null,null,null,null,null,null,null,null,null,null,null,"Clay","Silt"]
[null,null,null,null,null,null,null,null,null,null,null,null,null,null,null,null,0,5,63]
[null,null,null,null,null,null,null,null,null,null,null,null,null,null,null,null,12,5,63,"Clay","Silt"]
[null,null,null,null,null,null,null,null,null,null,null,null,null,null,null,null,null,null,0,5,63]
[null,null,null,null,null,null,null,null,null,null,null,null,null,null,null,null,null,null,125,5,63]
[]
[]
[]
[]
[]
[]
[]
[]
[]
[]
[]
[]
[]
[]
[]
[]
[]
[]
[]
[]
[]
[]
[]
[]
[]
[]
[]
[]
[]
[]
[]
[]
[]
[]
[]
[]
[]
["LAB #","total w (gr)",">2mm (gr)"]
["3747A",55.73,5.1040000000000001]
[3749,58.01,7.1]
[3750,21.19,1.56]
[3751,34.28,13.99]
[3752,26.87,4.84]
[3754,49.27,11.82]
[3756,37.26,6.51]
[3757,57.82,4.34]
[3758,48.65,9.86]
[3761,57.47,16.27]
[3764,76.27,1.72]

{"sheet":"Texture Calculator","index":1,"n_rows":56,"n_cols":14,"rows_kept":56,"cut":false,"hidden":false,"merged":[[7,7,7,12],[9,7,9,12],[0,1,0,7],[35,1,37,2],[10,7,10,12],[11,7,11,12],[2,1,2,2],[2,3,2,4],[2,5,2,6],[6,7,6,12],[2,7,2,12],[3,7,3,12],[4,7,4,12],[5,7,5,12],[19,7,19,12],[8,7,8,12],[22,7,22,12],[42,1,42,2],[12,7,12,12],[13,7,13,12],[14,7,14,12],[15,7,15,12],[16,7,16,12],[17,7,17,12],[18,7,18,12],[39,1,41,2],[20,7,20,12],[21,7,21,12],[25,7,25,12],[23,7,23,12],[24,7,24,12]]}
[null,"Enter your data into the yellow highlighted cells",null,null,null,null,null,null,"Password = Texture"]
[]
[null,"Sand",null,"Clay",null,"Silt",null,"USDA Texture"]
[3746,"% Sand 1",{"$f":"Results!$F$13/100","v":0.65814333333333319},"%Clay 1",{"$f":"Results!$F$11/100","v":6.7280000000000006E-2},"% Silt 1",{"$f":"1-C4-E4","v":0.2745766666666668},{"$f":"GRAIN(C4,E4,G4)","v":"SANDY LOAM"},null,null,null,null,null,{"$f":"H4","v":"SANDY LOAM"}]
[3747,"% Sand 2",{"$f":"Results!$O$13/100","v":0.89762500000000001},"%Clay 2",{"$f":"Results!$O$11/100","v":1.9009999999999999E-2},"% Silt 2",{"$f":"1-C5-E5","v":8.3364999999999995E-2},{"$f":"GRAIN(C5,E5,G5)","v":"SAND"},null,null,null,null,null,{"$f":"H5","v":"SAND"}]
[3748,"% Sand 3",{"$f":"Results!$X$13/100","v":0.77811666666666668},"%Clay 3",{"$f":"Results!X11/100","v":3.8089999999999999E-2},"% Silt 3",{"$f":"1-C6-E6","v":0.18379333333333331},"LOAMY SAND",null,null,null,null,null,{"$f":"H6","v":"LOAMY SAND"}]
[3749,"% Sand 4",{"$f":"Results!$AG$13/100","v":0.66437999999999997},"%Clay 4",{"$f":"Results!$AG$11/100","v":8.3513333333333328E-2},"% Silt 4",{"$f":"1-C7-E7","v":0.2521066666666667},{"$f":"GRAIN(C7,E7,G7)","v":"SANDY LOAM"},null,null,null,null,null,{"$f":"H7","v":"SANDY LOAM"}]
[3750,"% Sand 5",{"$f":"Results!$AP$13/100","v":0.8738100000000002},"%Clay 5",{"$f":"Results!$AP$11/100","v":2.2336666666666668E-2},"% Silt 5",{"$f":"1-C8-E8","v":0.10385333333333313},{"$f":"GRAIN(C8,E8,G8)","v":"SAND"},null,null,null,null,null,{"$f":"H8","v":"SAND"}]
[3751,"% Sand 6",{"$f":"Results!$AY$13/100","v":0.6792666666666668},"%Clay 6",{"$f":"Results!$AY$11/100","v":5.9830000000000008E-2},"% Silt 6",{"$f":"1-C9-E9","v":0.26090333333333321},{"$f":"GRAIN(C9,E9,G9)","v":"SANDY LOAM"},null,null,null,null,null,"SANDY LOAM"]
[3752,"% Sand 7",{"$f":"Results!$BH$13/100","v":0.82650666666666661},"%Clay 7",{"$f":"Results!$BH$11/100","v":2.9353333333333329E-2},"% Silt 7",0.14414000000000005,"LOAMY SAND",null,null,null,null,null,"LOAMY SAND"]
[3753,"% Sand 8",{"$f":"Results!$BQ$13/100","v":0.67752666666666661},"%Clay 8",{"$f":"Results!$BQ$11/100","v":4.7096666666666662E-2},"% Silt 8",{"$f":"1-C11-E11","v":0.27537666666666671},{"$f":"GRAIN(C11,E11,G11)","v":"SANDY LOAM"},null,null,null,null,null,"SANDY LOAM"]
[3754,"% Sand 9",{"$f":"Results!$BY$13/100","v":0.46974999999999995},"%Clay 9",{"$f":"Results!$BY$11/100","v":0.20450499999999999},"% Silt 9",0.32574500000000012,"LOAM",null,null,null,null,null,"LOAM"]
[3755,"% Sand 11",{"$f":"Results!$CH$13/100","v":0.83261666666666656},"%Clay 11",{"$f":"Results!$CH$11/100","v":3.2103333333333331E-2},"% Silt 11",{"$f":"1-C13-E13","v":0.13528000000000012},{"$f":"GRAIN(C13,E13,G13)","v":"LOAMY SAND"},null,null,null,null,null,"LOAMY SAND"]
[3756,"% Sand 12",{"$f":"Results!$F$29/100","v":0.30985499999999999},"%Clay 12",{"$f":"Results!$F$27/100","v":0.29168999999999995},"% Silt 12",0.39845500000000006,"CLAY LOAM",null,null,null,null,null,"CLAY LOAM"]
[3757,"% Sand 13",{"$f":"Results!$O$29/100","v":0.79612333333333329},"%Clay 13",{"$f":"Results!$O$27/100","v":2.566333333333333E-2},"% Silt 13",0.17821333333333339,"LOAMY SAND",null,null,null,null,null,"LOAMY SAND"]
[3758,"% Sand 14",{"$f":"Results!$X$29/100","v":0.92754500000000006},"%Clay 14",{"$f":"Results!$X$27/100","v":1.5295000000000001E-2},"% Silt 14",5.7159999999999933E-2,"SAND",null,null,null,null,null,"SAND"]
[3759,"% Sand 15",{"$f":"Results!$AG$29/100","v":0.82667333333333337},"%Clay 15",{"$f":"Results!$AG$27/100","v":4.1529999999999997E-2},"% Silt 15",0.13179666666666662,"LOAMY SAND",null,null,null,null,null,{"$f":"H17","v":"LOAMY SAND"}]
[3760,"% Sand 16",{"$f":"Results!$AP$29/100","v":0.79759666666666662},"%Clay 16",{"$f":"Results!$AP$27/100","v":4.5573333333333334E-2},"% Silt 16",{"$f":"1-C18-E18","v":0.15683000000000005},{"$f":"GRAIN(C18,E18,G18)","v":"LOAMY SAND"},null,null,null,null,null,{"$f":"H18","v":"LOAMY SAND"}]
[3761,"% Sand 17",{"$f":"Results!$AY$29/100","v":0.84933333333333327},"%Clay 17",{"$f":"Results!$AY$27/100","v":4.3143333333333339E-2},"% Silt 17",{"$f":"1-C19-E19","v":0.10752333333333339},{"$f":"GRAIN(C19,E19,G19)","v":"LOAMY SAND"},null,null,null,null,null,"LOAMY SAND"]
[3762,"% Sand 18",{"$f":"Results!$BH$29/100","v":0.75162499999999999},"%Clay 18",{"$f":"Results!$BH$27/100","v":4.2195000000000003E-2},"% Silt 18",{"$f":"1-C20-E20","v":0.20618},{"$f":"GRAIN(C20,E20,G20)","v":"LOAMY SAND"},null,null,null,null,null,"LOAMY SAND"]
[3763,"% Sand 19",{"$f":"Results!$BQ$29/100","v":0.77154999999999996},"%Clay 19",{"$f":"Results!$BQ$27/100","v":6.3195000000000001E-2},"% Silt 19",0.16525500000000004,"LOAMY SAND",null,null,null,null,null,"LOAMY SAND"]
[3764,"% Sand 20",{"$f":"Results!$BZ$29/100","v":0.86457666666666677},"%Clay 20",{"$f":"Results!$BZ$27/100","v":3.8576666666666662E-2},"% Silt 20",9.6846666666666567E-2,{"$f":"GRAIN(C22,E22,G22)","v":"LOAMY SAND"},null,null,null,null,null,"LOAMY SAND"]
[3765,"% Sand 21",{"$f":"Results!$CI$29/100","v":0.76631333333333329},"%Clay 21",{"$f":"Results!$CI$27/100","v":5.3949999999999998E-2},"% Silt 21",{"$f":"1-C23-E23","v":0.17973666666666671},{"$f":"GRAIN(C23,E23,G23)","v":"LOAMY SAND"},null,null,null,null,null,"LOAMY SAND"]
[3766,"% Sand 22",{"$f":"Results!F45/100","v":0.92281999999999997},"%Clay 22",{"$f":"Results!F43/100","v":2.3050000000000001E-2},"% Silt 22",5.4130000000000025E-2,"SAND",null,null,null,null,null,"SAND"]
[3767,"% Sand 23",{"$f":"Results!$O$45/100","v":0.94004999999999994},"%Clay 23",{"$f":"Results!$O$43/100","v":2.983333333333333E-2},"% Silt 23",3.0116666666666729E-2,"SAND",null,null,null,null,null,"SAND"]
[3768,"% Sand 24",{"$f":"Results!$X$45/100","v":0.97438333333333338},"%Clay 24",{"$f":"Results!$X$43/100","v":1.2656666666666665E-2},"% Silt 24",{"$f":"1-C26-E26","v":1.2959999999999956E-2},{"$f":"GRAIN(C26,E26,G26)","v":"SAND"},null,null,null,null,null,"SAND"]
[]
[null,null,null,{"$f":"A4","v":3746},{"$f":"(1.095-(C4*0.0104*100))-((0.52)*(0.0099*E4*100))","v":0.37589518933333343},{"$f":"0.145+(0.0099*E4*100)","v":0.2116072}]
[null,null,null,3747,0.151683652,0.16381989999999999]
[null,null,null,3748,0.2661499346666667,0.18270909999999999]
[null,null,null,3749,0.36105213600000008,0.2276782]
[null,null,null,3750,0.17473868399999967,0.16711329999999999]
[null,null,null,3751,0.35776218266666648,0.20423169999999999]
[null,null,null,3752,0.22032197066666687,0.17405979999999999]
[null,null,null,3753,0.3661269026666667,0.19162569999999998]
[null,null,null,{"$f":"A12","v":3754},0.50118082600000002,0.34745994999999996]
[null,null,null,3755,{"$f":"(1.095-(C13*0.0104*100))-((0.52)*(0.0099*E13*100))","v":0.21255187066666675},{"$f":"0.145+(0.0099*E13*100)","v":0.1767823}]
[null,null,null,3756,0.62258878799999995,0.43377309999999991]
[null,null,null,3757,0.2538202493333333,0.17040669999999999]
[null,null,null,3758,0.12247933399999994,0.16014204999999998]
[null,null,null,3759,0.21388008933333327,0.18611469999999999]
[null,null,null,3760,0.24203831466666667,0.1901176]
[null,null,null,3761,0.18948314533333349,0.18771189999999999]
[null,null,null,3762,0.29158801399999995,0.18677305]
[null,null,null,3763,0.26005521400000009,0.20756305]
[null,null,null,3764,0.17598099866666667,0.18319089999999999]
[null,null,null,3765,0.27026067333333337,0.19841049999999999]
[null,null,null,3766,0.12340106000000015,0.16781949999999998]
[null,null,null,3767,0.10198980000000012,0.174535]
[null,null,null,3768,7.5125681333333458E-2,0.15753009999999998]
[]
[]
[]
[]
[null,null,null,null,0.52500000000000002]
[null,null,null,null,1.04]

{"sheet":"raw files","index":2,"n_rows":121,"n_cols":164,"rows_kept":121,"cut":false,"hidden":false,"merged":[]}
["Sample Name",null,"[3746] Amboy 2 bulk - a - Average","[3746] Amboy 2 bulk - b - Average","[3746] Amboy 2 bulk - c - Average",null,"Sample Name",null,"[3747] Amboy 5 bulk - b - Average","[3747] Amboy 5 bulk - c - Average","[3747] Amboy 5 bulk - d - Average",null,"Sample Name",null,"[3747A] Amboy 6 bulk - d - Average","[3747A] Amboy 6 bulk - e - Average","[3747A] Amboy 6 bulk - f - Average",null,null,"Sample Name",null,"[3748] Amboy 8 bulk - a - Average","[3748] Amboy 8 bulk - b - Average","[3748] Amboy 8 bulk - c - Average",null,"Sample Name",null,"[3749] Amboy 10 bulk - a - Average","[3749] Amboy 10 bulk - b - Average","[3749] Amboy 10 bulk - c - Average",null,"Sample Name",null,"[3750] Amboy 11 bulk - b - Average","[3750] Amboy 11 bulk - c - Average","[3750] Amboy 11 bulk - e - Average",null,"Sample Name",null,"[3751] Amboy 13 bulk - b - Average","[3751] Amboy 13 bulk - c - Average","[3751] Amboy 13 bulk - d - Average",null,"Sample Name",null,"[3752] Amboy source 14 bulk - d - Average","[3752] Amboy source 14 bulk - e - Average","[3752] Amboy source 14 bulk - f - Average",null,"Sample Name",null,"[3753] Amboy15 bulk - e - Average","[3753] Amboy15 bulk - f - Average","[3753] Amboy15 bulk - h - Average",null,"Sample Name",null,"[3754] BDT 1 bulk - a - Average","[3754] BDT 1 bulk - b - Average","[3754] BDT 1 bulk - c - Average",null,"Sample Name",null,"[3755] BDT 23 bulk - c - Average","[3755] BDT 23 bulk - f - Average","[3755] BDT 23 bulk - g - Average",null,"Sample Name",null,"[3756] source 6 bulk - c - Average","[3756] source 6 bulk - d - Average","[3756] source 6 bulk - e - Average",null,"Sample Name",null,"[3757] SB 1 bulk - b - Average","[3757] SB 1 bulk - c - Average","[3757] SB 1 bulk - d - Average",null,"Sample Name",null,"[3758] SB 3 bulk - a - Average","[3758] SB 3 bulk - b - Average","[3758] SB 3 bulk - e+ f new Averaged Result",null,"Sample Name",null,"[3759] SB 5 bulk - a - Average","[3759] SB 5 bulk - b - Average","[3759] SB 5 bulk - c - Average",null,"Sample Name",null,"[3760] SB 6 bulk - a - Average","[3760] SB 6 bulk - b - Average","[3760] SB 6 bulk - c - Average",null,"Sample Name",null,"[3761] SB 8 bulk - a - Average","[3761] SB 8 bulk - b - Average","[3761] SB 8 bulk - c - Average",null,"Sample Name",null,"[3762] SB 10 bulk - a - Average","[3762] SB 10 bulk - c - Average","[3762] SB 10 bulk - d - Average",null,"Sample Name",null,"[3763] SB 11 bulk - a - Average","[3763] SB 11 bulk - c - Average","[3763] SB 11 bulk - d - Average",null,"Sample Name",null,"[3764] SB 13 bulk - c - Average","[3764] SB 13 bulk - d - Average","[3764] SB 13 bulk - e - Average",null,"Sample Name",null,"[3765] SB 15 bulk - a - Average","[3765] SB 15 bulk - b - Average","[3765] SB 15 bulk - c - Average",null,"Sample Name",null,"[3766] SB 719 bulk - b - Average","[3766] SB 719 bulk - c - Average","[3766] SB 719 bulk - d - Average",null,"Sample Name",null,"[3767] SB 722 bulk - a - Average","[3767] SB 722 bulk - b - Average","[3767] SB 722 bulk - c - Average"]
["Analysis date and time",null,"éåí çîéùé 31 éðåàø 2019 12:16:47","éåí çîéùé 31 éðåàø 2019 12:19:25","éåí çîéùé 31 éðåàø 2019 12:24:50",null,"Analysis date and time",null,"éåí çîéùé 31 éðåàø 2019 12:43:01","éåí çîéùé 31 éðåàø 2019 12:48:10","éåí çîéùé 31 éðåàø 2019 12:50:56",null,"Analysis date and time",null,"éåí çîéùé 31 éðåàø 2019 13:34:59","éåí çîéùé 31 éðåàø 2019 13:43:52","éåí çîéùé 31 éðåàø 2019 13:50:15",null,null,"Analysis date and time",null,"éåí çîéùé 31 éðåàø 2019 14:57:57","éåí çîéùé 31 éðåàø 2019 15:00:56","éåí çîéùé 31 éðåàø 2019 15:08:14",null,"Analysis date and time",null,"éåí çîéùé 31 éðåàø 2019 15:33:16","éåí çîéùé 31 éðåàø 2019 15:38:43","éåí çîéùé 31 éðåàø 2019 15:40:53",null,"Analysis date and time",null,"éåí çîéùé 31 éðåàø 2019 16:59:27","éåí çîéùé 31 éðåàø 2019 17:02:39","éåí çîéùé 31 éðåàø 2019 17:09:06",null,"Analysis date and time",null,"éåí ùðé 04 ôáøåàø 2019 12:34:34","éåí ùðé 04 ôáøåàø 2019 12:39:57","éåí ùðé 04 ôáøåàø 2019 12:44:06",null,"Analysis date and time",null,"éåí ùðé 04 ôáøåàø 2019 13:04:40","éåí ùðé 04 ôáøåàø 2019 13:07:26","éåí ùðé 04 ôáøåàø 2019 13:15:20",null,"Analysis date and time",null,"éåí ùðé 04 ôáøåàø 2019 14:47:37","éåí ùðé 04 ôáøåàø 2019 14:52:59","éåí ùðé 04 ôáøåàø 2019 15:04:47",null,"Analysis date and time",null,"éåí ùìéùé 05 ôáøåàø 2019 13:42:56","éåí ùìéùé 05 ôáøåàø 2019 13:45:57","éåí ùìéùé 05 ôáøåàø 2019 13:52:14",null,"Analysis date and time",null,"éåí ùìéùé 05 ôáøåàø 2019 14:10:10","éåí ùìéùé 05 ôáøåàø 2019 14:27:13","éåí ùìéùé 05 ôáøåàø 2019 14:29:21",null,"Analysis date and time",null,"éåí ùìéùé 05 ôáøåàø 2019 14:56:06","éåí ùìéùé 05 ôáøåàø 2019 14:58:36","éåí ùìéùé 05 ôáøåàø 2019 15:04:35",null,"Analysis date and time",null,"éåí ùìéùé 05 ôáøåàø 2019 15:20:50","éåí ùìéùé 05 ôáøåàø 2019 15:31:38","éåí ùìéùé 05 ôáøåàø 2019 15:34:21",null,"Analysis date and time",null,"éåí ùìéùé 05 ôáøåàø 2019 15:42:57","éåí ùìéùé 05 ôáøåàø 2019 15:45:19","éåí çîéùé 07 ôáøåàø 2019 11:04:27",null,"Analysis date and time",null,"éåí çîéùé 07 ôáøåàø 2019 11:19:50","éåí çîéùé 07 ôáøåàø 2019 11:22:13","éåí çîéùé 07 ôáøåàø 2019 11:27:46",null,"Analysis date and time",null,"éåí çîéùé 07 ôáøåàø 2019 11:38:17","éåí çîéùé 07 ôáøåàø 2019 11:40:38","éåí çîéùé 07 ôáøåàø 2019 11:46:22",null,"Analysis date and time",null,"éåí çîéùé 07 ôáøåàø 2019 12:48:18","éåí çîéùé 07 ôáøåàø 2019 12:50:51","éåí çîéùé 07 ôáøåàø 2019 12:57:13",null,"Analysis date and time",null,"éåí çîéùé 07 ôáøåàø 2019 13:14:45","éåí çîéùé 07 ôáøåàø 2019 13:25:32","éåí çîéùé 07 ôáøåàø 2019 13:28:34",null,"Analysis date and time",null,"éåí çîéùé 07 ôáøåàø 2019 15:02:59","éåí çîéùé 07 ôáøåàø 2019 15:11:50","éåí çîéùé 07 ôáøåàø 2019 15:16:17",null,"Analysis date and time",null,"éåí çîéùé 07 ôáøåàø 2019 15:39:38","éåí çîéùé 07 ôáøåàø 2019 15:43:38","éåí çîéùé 07 ôáøåàø 2019 15:57:43",null,"Analysis date and time",null,"éåí çîéùé 07 ôáøåàø 2019 16:10:48","éåí çîéùé 07 ôáøåàø 2019 16:13:41","éåí çîéùé 07 ôáøåàø 2019 16:19:50",null,"Analysis date and time",null,"éåí ùðé 11 ôáøåàø 2019 14:03:09","éåí ùðé 11 ôáøåàø 2019 14:09:19","éåí ùðé 11 ôáøåàø 2019 14:14:17",null,"Analysis date and time",null,"éåí ùðé 11 ôáøåàø 2019 14:21:01","éåí ùðé 11 ôáøåàø 2019 14:24:24","éåí ùðé 11 ôáøåàø 2019 14:30:14"]
["Operator name",null,"Yael","Yael","Yael",null,"Operator name",null,"Yael","Yael","Yael",null,"Operator name",null,"Yael","Yael","Yael",null,null,"Operator name",null,"Yael","Yael","Yael",null,"Operator name",null,"Yael","Yael","Yael",null,"Operator name",null,"Yael","Yael","Yael",null,"Operator name",null,"Yael","Yael","Yael",null,"Operator name",null,"Yael","Yael","Yael",null,"Operator name",null,"Yael","Yael","Yael",null,"Operator name",null,"Yael","Yael","Yael",null,"Operator name",null,"Yael","Yael","Yael",null,"Operator name",null,"Yael","Yael","Yael",null,"Operator name",null,"Yael","Yael","Yael",null,"Operator name",null,"Yael","Yael","Yael",null,"Operator name",null,"Yael","Yael","Yael",null,"Operator name",null,"Yael","Yael","Yael",null,"Operator name",null,"Yael","Yael","Yael",null,"Operator name",null,"Yael","Yael","Yael",null,"Operator name",null,"Yael","Yael","Yael",null,"Operator name",null,"Yael","Yael","Yael",null,"Operator name",null,"Yael","Yael","Yael",null,"Operator name",null,"Yael","Yael","Yael",null,"Operator name",null,"Yael","Yael","Yael"]
["Obscuration",null,9.2899999999999991,8.91,7.9,null,"Obscuration",null,8.51,8.01,8.17,null,"Obscuration",null,7.19,7.18,7.21,null,null,"Obscuration",null,11.57,11.03,10.77,null,"Obscuration",null,8.51,8.23,8.25,null,"Obscuration",null,12.25,12.16,12.59,null,"Obscuration",null,7.48,9.66,10.34,null,"Obscuration",null,11.8,11.06,11.08,null,"Obscuration",null,6.75,8.9499999999999993,12.41,null,"Obscuration",null,7.05,7.03,10.64,null,"Obscuration",null,8.08,12.66,12.65,null,"Obscuration",null,10.6,10.130000000000001,9.1300000000000008,null,"Obscuration",null,7.72,10.44,10,null,"Obscuration",null,9.84,9.2899999999999991,12.23,null,"Obscuration",null,8.23,7.9,9.68,null,"Obscuration",null,8.42,8.2200000000000006,7.92,null,"Obscuration",null,13.02,12.44,11.63,null,"Obscuration",null,9.7100000000000009,11.03,10.34,null,"Obscuration",null,7.41,10.34,9.81,null,"Obscuration",null,11.09,10.78,11.75,null,"Obscuration",null,8.0500000000000007,8.0399999999999991,8.06,null,"Obscuration",null,8.5,8.85,8.94,null,"Obscuration",null,11.34,10.86,8.2200000000000006]
["Residual",null,0.38800000000000001,0.35099999999999998,0.33500000000000002,null,"Residual",null,0.94,0.57199999999999995,0.70099999999999996,null,"Residual",null,0.51800000000000002,0.502,0.48799999999999999,null,null,"Residual",null,0.26500000000000001,0.26,0.23,null,"Residual",null,0.42899999999999999,0.55200000000000005,0.60399999999999998,null,"Residual",null,0.4,0.67,0.47399999999999998,null,"Residual",null,0.20499999999999999,0.16500000000000001,0.151,null,"Residual",null,0.17499999999999999,0.19700000000000001,0.18099999999999999,null,"Residual",null,0.63800000000000001,1.5640000000000001,0.33600000000000002,null,"Residual",null,0.17599999999999999,0.182,0.22500000000000001,null,"Residual",null,0.54300000000000004,0.53700000000000003,0.58899999999999997,null,"Residual",null,0.20799999999999999,0.23699999999999999,0.28100000000000003,null,"Residual",null,0.29299999999999998,0.52200000000000002,0.63500000000000001,null,"Residual",null,0.40300000000000002,0.47399999999999998,0.39600000000000002,null,"Residual",null,0.309,0.45,0.32300000000000001,null,"Residual",null,0.221,0.33400000000000002,0.35499999999999998,null,"Residual",null,0.25,0.40200000000000002,0.217,null,"Residual",null,0.32300000000000001,0.44900000000000001,0.26700000000000002,null,"Residual",null,0.32400000000000001,0.33400000000000002,0.29799999999999999,null,"Residual",null,0.28799999999999998,0.33700000000000002,0.15,null,"Residual",null,0.498,0.65800000000000003,0.63300000000000001,null,"Residual",null,0.55500000000000005,0.60899999999999999,0.69499999999999995,null,"Residual",null,0.82499999999999996,0.76900000000000002,0.48499999999999999]
["Mode",null,102.72799999999999,101.729,97.965999999999994,null,"Mode",null,562.90200000000004,366.01900000000001,400.19799999999998,null,"Mode",null,423.23700000000002,423.13900000000001,481.73399999999998,null,null,"Mode",null,110.73399999999999,108.209,103.544,null,"Mode",null,468.68,522.58100000000002,510.726,null,"Mode",null,84.629000000000005,85.510999999999996,83.978999999999999,null,"Mode",null,168.505,148.739,153.108,null,"Mode",null,100.63500000000001,101.437,103.462,null,"Mode",null,84.323999999999998,83.8,84.611999999999995,null,"Mode",null,148.50899999999999,145.452,129.90299999999999,null,"Mode",null,101.709,103.2,102.441,null,"Mode",null,113.72799999999999,114.224,116.508,null,"Mode",null,340.99900000000002,509.31900000000002,622.30700000000002,null,"Mode",null,151.899,155.69800000000001,154.15799999999999,null,"Mode",null,222.98500000000001,207.548,224.95400000000001,null,"Mode",null,277.23500000000001,282.30799999999999,265.584,null,"Mode",null,236.86199999999999,168.23599999999999,159.74299999999999,null,"Mode",null,205.327,189.36,214.11099999999999,null,"Mode",null,290.73500000000001,281.37400000000002,266.54399999999998,null,"Mode",null,144.36699999999999,143.161,156.251,null,"Mode",null,702.28200000000004,731.82,635.97500000000002,null,"Mode",null,268.58,269.78399999999999,270.59199999999998,null,"Mode",null,247.61,246.018,240.47399999999999]
["Skewness",null,2.6680000000000001,2.238,1.788,null,"Skewness",null,1.06,1.667,1.538,null,"Skewness",null,1.5149999999999999,0.98499999999999999,0.94399999999999995,null,null,"Skewness",null,2.6120000000000001,1.4970000000000001,1.23,null,"Skewness",null,0.872,1.1950000000000001,0.622,"Mode","Skewness",null,1.6120000000000001,1.4610000000000001,1.377,null,"Skewness",null,0.80300000000000005,0.94199999999999995,0.85599999999999998,null,"Skewness",null,2.7469999999999999,3.1440000000000001,2.859,null,"Skewness",null,2.028,1.476,1.9279999999999999,null,"Skewness",null,1.413,2.6749999999999998,1.925,null,"Skewness",null,1.9410000000000001,3.3090000000000002,2.3239999999999998,null,"Skewness",null,2.3580000000000001,2.282,2.5499999999999998,null,"Skewness",null,1.159,1.0640000000000001,0.97899999999999998,null,"Skewness",null,1.484,1.355,1.3779999999999999,null,"Skewness",null,1.669,2.0489999999999999,2.101,null,"Skewness",null,0.86599999999999999,1.0529999999999999,1.08,null,"Skewness",null,2.2149999999999999,1.514,1.5960000000000001,null,"Skewness",null,1.9990000000000001,2.3759999999999999,1.6719999999999999,null,"Skewness",null,0.96399999999999997,0.90800000000000003,1.0880000000000001,null,"Skewness",null,3.6179999999999999,2.5499999999999998,1.4590000000000001,null,"Skewness",null,1.0449999999999999,0.93,0.96399999999999997,null,"Skewness",null,-0.59499999999999997,-0.56999999999999995,-0.45500000000000002,null,"Skewness",null,0.378,0.35099999999999998,-4.3999999999999997E-2]
["Kurtosis",null,9.6310000000000002,6.391,3.3889999999999998,null,"Kurtosis",null,0.90900000000000003,3.33,2.4060000000000001,null,"Kurtosis",null,3.048,0.23899999999999999,0.249,null,null,"Kurtosis",null,14.276999999999999,3.2709999999999999,2.048,null,"Kurtosis",null,0.249,1.5149999999999999,-0.30599999999999999,null,"Kurtosis",null,2.1739999999999999,1.534,1.1839999999999999,null,"Kurtosis",null,0.27200000000000002,0.753,0.44,null,"Kurtosis",null,9.82,12.49,11.888,null,"Kurtosis",null,4.1210000000000004,1.885,3.4980000000000002,null,"Kurtosis",null,2.0790000000000002,11.52,4.0570000000000004,null,"Kurtosis",null,3.8330000000000002,14.483000000000001,5.8940000000000001,null,"Kurtosis",null,5.3929999999999998,5.1609999999999996,7.4859999999999998,null,"Kurtosis",null,1.373,0.996,0.54900000000000004,null,"Kurtosis",null,1.8169999999999999,1.0960000000000001,1.234,null,"Kurtosis",null,3.6110000000000002,4.8719999999999999,5.4349999999999996,null,"Kurtosis",null,0.371,0.93100000000000005,0.95399999999999996,null,"Kurtosis",null,7.5060000000000002,2.1819999999999999,2.7789999999999999,null,"Kurtosis",null,5.76,6.8380000000000001,3.657,null,"Kurtosis",null,0.72699999999999998,0.39,0.98099999999999998,null,"Kurtosis",null,16.791,9.3369999999999997,2.5739999999999998,null,"Kurtosis",null,0.44500000000000001,0.20899999999999999,0.45800000000000002,null,"Kurtosis",null,1.238,1.36,1.3640000000000001,null,"Kurtosis",null,0.48799999999999999,0.60799999999999998,0.621]
["d (0.1)",null,10.157999999999999,11.071999999999999,9.1059999999999999,null,"d (0.1)",null,67.968999999999994,49.854999999999997,56.567,null,"d (0.1)",null,24.869,23.434000000000001,25.515999999999998,null,null,"d (0.1)",null,8.8520000000000003,8.218,6.86,null,"d (0.1)",null,50.13,55.070999999999998,55.460999999999999,null,"d (0.1)",null,12.157999999999999,14.906000000000001,13.884,null,"d (0.1)",null,40.598999999999997,36.868000000000002,41.887,null,"d (0.1)",null,16.315000000000001,17.379000000000001,16.919,null,"d (0.1)",null,2.34,1.9159999999999999,2.3159999999999998,null,"d (0.1)",null,39.877000000000002,39.835000000000001,43.192999999999998,null,"d (0.1)",null,2.3969999999999998,1.988,2.0990000000000002,null,"d (0.1)",null,36.725999999999999,38.156999999999996,38.274000000000001,null,"d (0.1)",null,44.226999999999997,84.307000000000002,92.522000000000006,null,"d (0.1)",null,22.594000000000001,24.265000000000001,24.972999999999999,null,"d (0.1)",null,16.646000000000001,17.581,19.606000000000002,null,"d (0.1)",null,31.757000000000001,38.317999999999998,22.943999999999999,null,"d (0.1)",null,16.530999999999999,17.663,13.093,null,"d (0.1)",null,10.798,11.901999999999999,14.617000000000001,null,"d (0.1)",null,47.963000000000001,36.265000000000001,37.462000000000003,null,"d (0.1)",null,13.840999999999999,14.569000000000001,18.356000000000002,null,"d (0.1)",null,74.36,78.320999999999998,87.334000000000003,null,"d (0.1)",null,167.233,172.852,175.24100000000001,null,"d (0.1)",null,152.751,156.65899999999999,143.47300000000001]
["d (0.5)",null,104.378,113.027,93.903000000000006,null,"d (0.5)",null,397.90699999999998,245.315,290.86599999999999,null,"d (0.5)",null,201.666,191.05699999999999,241.17400000000001,null,null,"d (0.5)",null,96.150999999999996,92.781000000000006,84.94,null,"d (0.5)",null,289.69400000000002,354.14100000000002,353.35599999999999,null,"d (0.5)",null,98.2,116.696,106.98699999999999,null,"d (0.5)",null,142.773,131.09299999999999,135.39699999999999,null,"d (0.5)",null,94.588999999999999,98.325000000000003,96.775000000000006,null,"d (0.5)",null,53.287999999999997,40.930999999999997,58.823999999999998,null,"d (0.5)",null,150.19499999999999,149.286,149.93600000000001,null,"d (0.5)",null,36.198999999999998,16.297000000000001,17.513999999999999,null,"d (0.5)",null,128.46700000000001,134.05600000000001,130.41200000000001,null,"d (0.5)",null,271.63,383.827,433.38299999999998,null,"d (0.5)",null,206.90199999999999,215.55,220.56200000000001,null,"d (0.5)",null,181.94900000000001,188.56399999999999,191.20699999999999,null,"d (0.5)",null,209.684,223.98599999999999,201.80699999999999,null,"d (0.5)",null,152.196,160.99299999999999,125.056,null,"d (0.5)",null,163.291,165.76300000000001,178.81800000000001,null,"d (0.5)",null,226.203,202.435,205.70599999999999,null,"d (0.5)",null,126.309,129.80000000000001,139.56399999999999,null,"d (0.5)",null,379.197,421.911,415.06299999999999,null,"d (0.5)",null,261.834,263.85599999999999,265.41000000000003,null,"d (0.5)",null,244.01300000000001,243.18799999999999,233.93]
["d (0.9)",null,467.18900000000002,501.31900000000002,383.67500000000001,null,"d (0.9)",null,999.56299999999999,759.274,889.83600000000001,null,"d (0.9)",null,662.76199999999994,613.22,712.09,null,null,"d (0.9)",null,241.833,227.874,202.19800000000001,null,"d (0.9)",null,724.37800000000004,894.49599999999998,773.45799999999997,null,"d (0.9)",null,478.48200000000003,644.42499999999995,519.48900000000003,null,"d (0.9)",null,315.36399999999998,294.24299999999999,297.53100000000001,null,"d (0.9)",null,315.048,391.31299999999999,306.899,null,"d (0.9)",null,292.875,172.51300000000001,364.89499999999998,null,"d (0.9)",null,420.36799999999999,435.85300000000001,542.67399999999998,null,"d (0.9)",null,292.16500000000002,172.56100000000001,202.14500000000001,null,"d (0.9)",null,758.024,748.07100000000003,568.04499999999996,null,"d (0.9)",null,679.495,932.45899999999995,1091.133,null,"d (0.9)",null,904.50199999999995,1064.2470000000001,1042.2650000000001,null,"d (0.9)",null,540.90300000000002,693.09299999999996,634.30600000000004,null,"d (0.9)",null,500.11599999999999,562.98,533.39499999999998,null,"d (0.9)",null,511.48599999999999,608.16399999999999,435.178,null,"d (0.9)",null,463.61599999999999,594,513.59100000000001,null,"d (0.9)",null,541.29399999999998,503.20800000000003,533.10900000000004,null,"d (0.9)",null,362.26,392.08100000000002,381.73599999999999,null,"d (0.9)",null,1140.3610000000001,1152.0619999999999,1065.587,null,"d (0.9)",null,369.97,371.49799999999999,376.90699999999998,null,"d (0.9)",null,379.74200000000002,369.60199999999998,353.70699999999999]
["Specific surface area",null,0.318,0.29899999999999999,0.34300000000000003,null,"Specific surface area",null,7.8E-2,0.129,0.107,null,"Specific surface area",null,0.19500000000000001,0.20200000000000001,0.186,null,null,"Specific surface area",null,0.35199999999999998,0.36599999999999999,0.41,null,"Specific surface area",null,0.126,0.107,0.109,null,"Specific surface area",null,0.31900000000000001,0.28399999999999997,0.29799999999999999,null,"Specific surface area",null,0.155,0.17399999999999999,0.159,null,"Specific surface area",null,0.26300000000000001,0.252,0.255,null,"Specific surface area",null,0.89300000000000002,1.06,0.89600000000000002,null,"Specific surface area",null,0.17499999999999999,0.17499999999999999,0.161,null,"Specific surface area",null,0.873,1.1000000000000001,1.04,null,"Specific surface area",null,0.157,0.151,0.158,null,"Specific surface area",null,0.13700000000000001,7.4399999999999994E-2,6.3399999999999998E-2,null,"Specific surface area",null,0.193,0.184,0.189,null,"Specific surface area",null,0.217,0.21,0.19500000000000001,null,"Specific surface area",null,0.191,0.17599999999999999,0.216,null,"Specific surface area",null,0.221,0.21099999999999999,0.26,null,"Specific surface area",null,0.27200000000000002,0.26300000000000001,0.23400000000000001,null,"Specific surface area",null,0.16300000000000001,0.187,0.184,null,"Specific surface area",null,0.27,0.26300000000000001,0.22600000000000001,null,"Specific surface area",null,0.108,0.10100000000000001,9.6799999999999997E-2,null,"Specific surface area",null,0.13600000000000001,0.129,0.121,null,"Specific surface area",null,4.8500000000000001E-2,4.58E-2,7.2700000000000001E-2]
["Result Below 6.000 µm",null,6.6630000000000003,6.2560000000000002,7.2649999999999997,null,"Result Below 6.000 µm",null,1.6279999999999999,2.6070000000000002,2.1739999999999999,null,"Result Below 6.000 µm",null,3.79,3.9409999999999998,3.6960000000000002,null,null,"Result Below 6.000 µm",null,7.7839999999999998,8.1389999999999993,9.1310000000000002,null,"Result Below 6.000 µm",null,2.4670000000000001,2.1150000000000002,2.1190000000000002,null,"Result Below 6.000 µm",null,6.3869999999999996,5.66,5.9020000000000001,null,"Result Below 6.000 µm",null,2.895,3.1469999999999998,2.7639999999999998,null,"Result Below 6.000 µm",null,4.8250000000000002,4.625,4.6790000000000003,null,"Result Below 6.000 µm",null,20.693000000000001,24.113,20.207999999999998,null,"Result Below 6.000 µm",null,3.3490000000000002,3.3730000000000002,2.9089999999999998,null,"Result Below 6.000 µm",null,23.254999999999999,29.696999999999999,28.640999999999998,null,"Result Below 6.000 µm",null,2.589,2.4700000000000002,2.64,null,"Result Below 6.000 µm",null,3.0579999999999998,1.6319999999999999,1.427,null,"Result Below 6.000 µm",null,4.2560000000000002,4.0979999999999999,4.1050000000000004,null,"Result Below 6.000 µm",null,4.7830000000000004,4.62,4.2690000000000001,null,"Result Below 6.000 µm",null,4.2290000000000001,3.8820000000000001,4.8319999999999999,null,"Result Below 6.000 µm",null,4.327,4.1120000000000001,5.2080000000000002,null,"Result Below 6.000 µm",null,6.4960000000000004,6.1429999999999998,5.4269999999999996,null,"Result Below 6.000 µm",null,3.581,4.0229999999999997,3.9689999999999999,null,"Result Below 6.000 µm",null,5.7510000000000003,5.5860000000000003,4.8479999999999999,null,"Result Below 6.000 µm",null,2.4060000000000001,2.2599999999999998,2.2490000000000001,null,"Result Below 6.000 µm",null,3.28,2.92,2.75,null,"Result Below 6.000 µm",null,1.046,0.94199999999999995,1.8089999999999999]
["Result 6.00µm-63.00µm",null,27.31,25.826000000000001,29.236999999999998,null,"Result 6.00µm-63.00µm",null,7.43,10.579000000000001,9.2420000000000009,null,"Result 6.00µm-63.00µm",null,18.533999999999999,19.027999999999999,17.576000000000001,null,null,"Result 6.00µm-63.00µm",null,23.635000000000002,24.574000000000002,27.422999999999998,null,"Result 6.00µm-63.00µm",null,11.236000000000001,10.007,9.9120000000000008,null,"Result 6.00µm-63.00µm",null,27.669,24.582999999999998,26.018999999999998,null,"Result 6.00µm-63.00µm",null,13.798,15.337,14.108000000000001,null,"Result 6.00µm-63.00µm",null,28.109000000000002,27.02,27.484000000000002,null,"Result 6.00µm-63.00µm",null,33.646999999999998,36.738999999999997,31.501000000000001,null,"Result 6.00µm-63.00µm",null,13.56,13.484,13.54,null,"Result 6.00µm-63.00µm",null,34.725999999999999,40.220999999999997,39.469000000000001,null,"Result 6.00µm-63.00µm",null,18.454000000000001,17.736999999999998,17.274000000000001,null,"Result 6.00µm-63.00µm",null,9.266,5.9690000000000003,5.4619999999999997,null,"Result 6.00µm-63.00µm",null,13.478999999999999,13.048999999999999,13.010999999999999,null,"Result 6.00µm-63.00µm",null,16.120999999999999,15.590999999999999,15.337,null,"Result 6.00µm-63.00µm",null,10.651999999999999,9.7579999999999991,11.846,null,"Result 6.00µm-63.00µm",null,21.17,20.065999999999999,24.747,null,"Result 6.00µm-63.00µm",null,16.71,16.341000000000001,14.628,null,"Result 6.00µm-63.00µm",null,8.4949999999999992,10.404,10.154999999999999,null,"Result 6.00µm-63.00µm",null,18.943999999999999,18.34,16.638999999999999,null,"Result 6.00µm-63.00µm",null,5.9,5.5069999999999997,4.8310000000000004,null,"Result 6.00µm-63.00µm",null,3.4969999999999999,3.077,2.4609999999999999,null,"Result 6.00µm-63.00µm",null,0.64900000000000002,0.57499999999999996,2.6629999999999998]
["Result 63.00µm-2000.00µm",null,66.027000000000001,67.918000000000006,63.497999999999998,null,"Result 63.00µm-2000.00µm",null,90.941000000000003,86.813000000000002,88.584000000000003,null,"Result 63.00µm-2000.00µm",null,77.676000000000002,77.031000000000006,78.727999999999994,null,null,"Result 63.00µm-2000.00µm",null,68.581000000000003,67.287000000000006,63.445999999999998,null,"Result 63.00µm-2000.00µm",null,86.296000000000006,87.878,87.968999999999994,null,"Result 63.00µm-2000.00µm",null,65.944000000000003,69.757000000000005,68.078999999999994,null,"Result 63.00µm-2000.00µm",null,83.308000000000007,81.516000000000005,83.128,null,"Result 63.00µm-2000.00µm",null,67.066000000000003,68.355000000000004,67.837000000000003,null,"Result 63.00µm-2000.00µm",null,45.66,39.148000000000003,48.29,null,"Result 63.00µm-2000.00µm",null,83.090999999999994,83.143000000000001,83.551000000000002,null,"Result 63.00µm-2000.00µm",null,42.018999999999998,30.082000000000001,31.888999999999999,null,"Result 63.00µm-2000.00µm",null,78.956999999999994,79.793000000000006,80.087000000000003,null,"Result 63.00µm-2000.00µm",null,87.676000000000002,92.399000000000001,93.11,null,"Result 63.00µm-2000.00µm",null,82.265000000000001,82.852999999999994,82.884,null,"Result 63.00µm-2000.00µm",null,79.096000000000004,79.789000000000001,80.394000000000005,null,"Result 63.00µm-2000.00µm",null,85.119,86.36,83.320999999999998,null,"Result 63.00µm-2000.00µm",null,74.503,75.822000000000003,70.045000000000002,null,"Result 63.00µm-2000.00µm",null,76.793999999999997,77.516000000000005,79.944999999999993,null,"Result 63.00µm-2000.00µm",null,87.924000000000007,85.572999999999993,85.876000000000005,null,"Result 63.00µm-2000.00µm",null,75.305999999999997,76.075000000000003,78.513000000000005,null,"Result 63.00µm-2000.00µm",null,91.694000000000003,92.233000000000004,92.918999999999997,null,"Result 63.00µm-2000.00µm",null,93.222999999999999,94.003,94.789000000000001,null,"Result 63.00µm-2000.00µm",null,98.305000000000007,98.481999999999999,95.528000000000006]
["Result 63.00µm-125.00µm",null,22.055,21.111999999999998,23.693999999999999,null,"Result 63.00µm-125.00µm",null,11.101000000000001,15.606,13.462,null,"Result 63.00µm-125.00µm",null,16.827000000000002,17.274999999999999,15.448,null,null,"Result 63.00µm-125.00µm",null,32.201000000000001,32.957000000000001,33.780999999999999,null,"Result 63.00µm-125.00µm",null,15.631,14.164,14.09,null,"Result 63.00µm-125.00µm",null,24.081,21.744,22.91,null,"Result 63.00µm-125.00µm",null,26.201000000000001,28.890999999999998,28.629000000000001,null,"Result 63.00µm-125.00µm",null,29.654,28.966999999999999,29.398,null,"Result 63.00µm-125.00µm",null,19.666,21.225000000000001,18.314,null,"Result 63.00µm-125.00µm",null,24.663,24.91,25.399000000000001,null,"Result 63.00µm-125.00µm",null,15.185,14.077,13.481999999999999,null,"Result 63.00µm-125.00µm",null,27.745000000000001,26.806999999999999,28.138000000000002,null,"Result 63.00µm-125.00µm",null,9.9670000000000005,7.6890000000000001,7.1310000000000002,null,"Result 63.00µm-125.00µm",null,16.254999999999999,15.727,15.624000000000001,null,"Result 63.00µm-125.00µm",null,15.089,14.673999999999999,14.92,null,"Result 63.00µm-125.00µm",null,14.436999999999999,13.571,15.061999999999999,null,"Result 63.00µm-125.00µm",null,18.033000000000001,17.692,20.03,null,"Result 63.00µm-125.00µm",null,16.283999999999999,16.565999999999999,15.784000000000001,null,"Result 63.00µm-125.00µm",null,13.837999999999999,16.373000000000001,16.061,null,"Result 63.00µm-125.00µm",null,24.824999999999999,24.363,23.446000000000002,null,"Result 63.00µm-125.00µm",null,11.266,10.662000000000001,8.8089999999999993,null,"Result 63.00µm-125.00µm",null,4.2000000000000003E-2,3.5999999999999997E-2,4.2999999999999997E-2,null,"Result 63.00µm-125.00µm",null,1.901,1.4279999999999999,1.6850000000000001]
["Result 125.00µm-250.00µm",null,20.079000000000001,19.678000000000001,20.061,null,"Result 125.00µm-250.00µm",null,14.334,21.887,19.635000000000002,null,"Result 125.00µm-250.00µm",null,16.408999999999999,16.663,14.16,null,null,"Result 125.00µm-250.00µm",null,27.193999999999999,26.577999999999999,24.587,null,"Result 125.00µm-250.00µm",null,15.93,12.981999999999999,12.285,null,"Result 125.00µm-250.00µm",null,16.669,14.714,15.89,null,"Result 125.00µm-250.00µm",null,37.402000000000001,36.466999999999999,37.654000000000003,null,"Result 125.00µm-250.00µm",null,23.050999999999998,22.372,24.09,null,"Result 125.00µm-250.00µm",null,13.547000000000001,14.55,13.41,null,"Result 125.00µm-250.00µm",null,30.844999999999999,30.792999999999999,28.158000000000001,null,"Result 125.00µm-250.00µm",null,13.95,10.593999999999999,11.346,null,"Result 125.00µm-250.00µm",null,25.050999999999998,24.638999999999999,26.338000000000001,null,"Result 125.00µm-250.00µm",null,23.893000000000001,17.314,15.955,null,"Result 125.00µm-250.00µm",null,21.472999999999999,21.263000000000002,20.696999999999999,null,"Result 125.00µm-250.00µm",null,27.404,26.442,26.369,null,"Result 125.00µm-250.00µm",null,29.239000000000001,27.954999999999998,27.661999999999999,null,"Result 125.00µm-250.00µm",null,23.882999999999999,22.303000000000001,23.978000000000002,null,"Result 125.00µm-250.00µm",null,29.236000000000001,27.891999999999999,28.936,null,"Result 125.00µm-250.00µm",null,28.956,28.859000000000002,28.626999999999999,null,"Result 125.00µm-250.00µm",null,30.213999999999999,29.587,31.279,null,"Result 125.00µm-250.00µm",null,18.478000000000002,17.073,17.260000000000002,null,"Result 125.00µm-250.00µm",null,36.802999999999997,36.436999999999998,36.564999999999998,null,"Result 125.00µm-250.00µm",null,49.058,50.274999999999999,51.511000000000003]
["Result 250.00µm-500.00µm",null,15.084,17.074999999999999,14.653,null,"Result 250.00µm-500.00µm",null,25.78,26.451000000000001,27.265000000000001,null,"Result 250.00µm-500.00µm",null,24.974,25.777000000000001,25.186,null,null,"Result 250.00µm-500.00µm",null,8.2050000000000001,7.3449999999999998,5.0590000000000002,null,"Result 250.00µm-500.00µm",null,28.829000000000001,26.114999999999998,29.530999999999999,null,"Result 250.00µm-500.00µm",null,16.212,16.283000000000001,18.236999999999998,null,"Result 250.00µm-500.00µm",null,19.492999999999999,15.856,16.798999999999999,null,"Result 250.00µm-500.00µm",null,10.004,9.7789999999999999,10.81,null,"Result 250.00µm-500.00µm",null,9.9049999999999994,3.3730000000000002,11.769,null,"Result 250.00µm-500.00µm",null,21.585999999999999,20.253,18.315000000000001,null,"Result 250.00µm-500.00µm",null,10.811,4.1280000000000001,6.3689999999999998,null,"Result 250.00µm-500.00µm",null,11.053000000000001,12.53,13.654999999999999,null,"Result 250.00µm-500.00µm",null,32.697000000000003,30.225000000000001,26.306000000000001,null,"Result 250.00µm-500.00µm",null,18.135000000000002,15.506,16.577000000000002,null,"Result 250.00µm-500.00µm",null,24.626000000000001,21.920999999999999,23.806000000000001,null,"Result 250.00µm-500.00µm",null,31.434000000000001,30.919,28.555,null,"Result 250.00µm-500.00µm",null,22.041,20.748000000000001,19.029,null,"Result 250.00µm-500.00µm",null,22.957999999999998,20.087,24.574000000000002,null,"Result 250.00µm-500.00µm",null,32.363,30.131,29.163,null,"Result 250.00µm-500.00µm",null,14.923999999999999,16.123000000000001,19.353999999999999,null,"Result 250.00µm-500.00µm",null,21.201000000000001,20.448,24.56,null,"Result 250.00µm-500.00µm",null,55.912999999999997,57.063000000000002,57.518000000000001,null,"Result 250.00µm-500.00µm",null,46.468000000000004,46.243000000000002,42.204000000000001]
["Result 500.00µm-1000.00µm",null,7.24,8.4960000000000004,5.04,null,"Result 500.00µm-1000.00µm",null,29.74,18.263000000000002,20.582999999999998,null,"Result 500.00µm-1000.00µm",null,17.283000000000001,16.933,21.952999999999999,null,null,"Result 500.00µm-1000.00µm",null,0.89900000000000002,0.40699999999999997,1.9E-2,null,"Result 500.00µm-1000.00µm",null,23.917999999999999,27.574999999999999,29.481999999999999,null,"Result 500.00µm-1000.00µm",null,8.8849999999999998,15.292,10.968999999999999,null,"Result 500.00µm-1000.00µm",null,0.21199999999999999,0.30099999999999999,4.5999999999999999E-2,null,"Result 500.00µm-1000.00µm",null,4.0090000000000003,5.7439999999999998,3.1680000000000001,null,"Result 500.00µm-1000.00µm",null,2.5419999999999998,0,4.798,null,"Result 500.00µm-1000.00µm",null,5.9960000000000004,6.22,10.303000000000001,null,"Result 500.00µm-1000.00µm",null,2.0720000000000001,1.2829999999999999,0.69199999999999995,null,"Result 500.00µm-1000.00µm",null,8.9499999999999993,9.9990000000000006,8.9179999999999993,null,"Result 500.00µm-1000.00µm",null,18.855,29.234999999999999,30.731000000000002,null,"Result 500.00µm-1000.00µm",null,18.716999999999999,18.675999999999998,18.911000000000001,null,"Result 500.00µm-1000.00µm",null,10.75,12.409000000000001,11.576000000000001,null,"Result 500.00µm-1000.00µm",null,10.007999999999999,13.654,11.882999999999999,null,"Result 500.00µm-1000.00µm",null,9.1829999999999998,13.587,6.8520000000000003,null,"Result 500.00µm-1000.00µm",null,7.2039999999999997,9.3960000000000008,9.6150000000000002,null,"Result 500.00µm-1000.00µm",null,12.641999999999999,10.210000000000001,11.882999999999999,null,"Result 500.00µm-1000.00µm",null,3.16,5.1769999999999996,4.4180000000000001,null,"Result 500.00µm-1000.00µm",null,26.486999999999998,29.027000000000001,30.161000000000001,null,"Result 500.00µm-1000.00µm",null,0.46500000000000002,0.46700000000000003,0.66300000000000003,null,"Result 500.00µm-1000.00µm",null,0.878,0.53700000000000003,0.128,null,null,null,null,null,"project runing numbers"]
["Result 1000.00µm-2000.00µm",null,1.569,1.5569999999999999,0.05,null,"Result 1000.00µm-2000.00µm",null,9.9870000000000001,4.6059999999999999,7.64,null,"Result 1000.00µm-2000.00µm",null,2.1819999999999999,0.38400000000000001,1.9810000000000001,null,null,"Result 1000.00µm-2000.00µm",null,8.3000000000000004E-2,0,0,null,"Result 1000.00µm-2000.00µm",null,1.9870000000000001,7.0419999999999998,2.58,null,"Result 1000.00µm-2000.00µm",null,9.7000000000000003E-2,1.724,7.2999999999999995E-2,null,"Result 1000.00µm-2000.00µm",null,0,0,0,null,"Result 1000.00µm-2000.00µm",null,0.34899999999999998,1.4930000000000001,0.371,null,"Result 1000.00µm-2000.00µm",null,0,0,0,null,"Result 1000.00µm-2000.00µm",null,0,0.96799999999999997,1.3759999999999999,null,"Result 1000.00µm-2000.00µm",null,0,0,0,null,"Result 1000.00µm-2000.00µm",null,6.1580000000000004,5.8179999999999996,3.0379999999999998,null,"Result 1000.00µm-2000.00µm",null,2.2639999999999998,7.9349999999999996,12.988,null,"Result 1000.00µm-2000.00µm",null,7.6849999999999996,11.682,11.076000000000001,null,"Result 1000.00µm-2000.00µm",null,1.2270000000000001,4.343,3.7229999999999999,null,"Result 1000.00µm-2000.00µm",null,0,0.26100000000000001,0.16,null,"Result 1000.00µm-2000.00µm",null,1.363,1.492,0.156,null,"Result 1000.00µm-2000.00µm",null,1.1120000000000001,3.5750000000000002,1.0349999999999999,null,"Result 1000.00µm-2000.00µm",null,0.125,0,0.14199999999999999,null,"Result 1000.00µm-2000.00µm",null,2.1829999999999998,0.82599999999999996,1.6E-2,null,"Result 1000.00µm-2000.00µm",null,14.262,15.022,12.129,null,"Result 1000.00µm-2000.00µm",null,0,0,0,null,"Result 1000.00µm-2000.00µm",null,0,0,0]
["Result Between User Sizes (Sizes in um)",0.01,null,null,null,null,"Result Between User Sizes (Sizes in um)",0.01,null,null,null,null,"Result Between User Sizes (Sizes in um)",0.01,null,null,null,null,null,"Result Between User Sizes (Sizes in um)",0.01,null,null,null,null,"Result Between User Sizes (Sizes in um)",0.01,null,null,null,null,"Result Between User Sizes (Sizes in um)",0.01,null,null,null,null,"Result Between User Sizes (Sizes in um)",0.01,null,null,null,null,"Result Between User Sizes (Sizes in um)",0.01,null,null,null,null,"Result Between User Sizes (Sizes in um)",0.01,null,null,null,null,"Result Between User Sizes (Sizes in um)",0.01,null,null,null,null,"Result Between User Sizes (Sizes in um)",0.01,null,null,null,null,"Result Between User Sizes (Sizes in um)",0.01,null,null,null,null,"Result Between User Sizes (Sizes in um)",0.01,null,null,null,null,"Result Between User Sizes (Sizes in um)",0.01,null,null,null,null,"Result Between User Sizes (Sizes in um)",0.01,null,null,null,null,"Result Between User Sizes (Sizes in um)",0.01,null,null,null,null,"Result Between User Sizes (Sizes in um)",0.01,null,null,null,null,"Result Between User Sizes (Sizes in um)",0.01,null,null,null,null,"Result Between User Sizes (Sizes in um)",0.01,null,null,null,null,"Result Between User Sizes (Sizes in um)",0.01,null,null,null,null,"Result Between User Sizes (Sizes in um)",0.01,null,null,null,null,"Result Between User Sizes (Sizes in um)",0.01,null,null,null,null,"Result Between User Sizes (Sizes in um)",0.01,null,null,null,null,null,"Result Between User Sizes (Sizes in um)",3746,3747,"3747A",3748,3749,3750,3751,3752,3753,3754,3755,3756,3757,3758,3759,3760,3761,3762,3763,3764,3765,3766,3767]
[null,1.1481999999999999E-2,0,0,0,null,null,1.1481999999999999E-2,0,0,0,null,null,1.1481999999999999E-2,0,0,0,null,null,null,1.1481999999999999E-2,0,0,0,null,null,1.1481999999999999E-2,0,0,0,null,null,1.1481999999999999E-2,0,0,0,null,null,1.1481999999999999E-2,0,0,0,null,null,1.1481999999999999E-2,0,0,0,null,null,1.1481999999999999E-2,0,0,0,null,null,1.1481999999999999E-2,0,0,0,null,null,1.1481999999999999E-2,0,0,0,null,null,1.1481999999999999E-2,0,0,0,null,null,1.1481999999999999E-2,0,0,0,null,null,1.1481999999999999E-2,0,0,0,null,null,1.1481999999999999E-2,0,0,0,null,null,1.1481999999999999E-2,0,0,0,null,null,1.1481999999999999E-2,0,0,0,null,null,1.1481999999999999E-2,0,0,0,null,null,1.1481999999999999E-2,0,0,0,null,null,1.1481999999999999E-2,0,0,0,null,null,1.1481999999999999E-2,0,0,0,null,null,1.1481999999999999E-2,0,0,0,null,null,1.1481999999999999E-2,0,0,0,null,null,1.1481999999999999E-2,{"$f":"AVERAGE(C22:E22)","v":0},{"$f":"AVERAGE(I22:K22)","v":0},{"$f":"AVERAGE(O22:Q22)","v":0},{"$f":"AVERAGE(V22:X22)","v":0},{"$f":"AVERAGE(AB22:AD22)","v":0},{"$f":"AVERAGE(AH22:AJ22)","v":0},{"$f":"AVERAGE(AN22:AP22)","v":0},{"$f":"AVERAGE(AT22:AV22)","v":0},{"$f":"AVERAGE(AZ22:BB22)","v":0},{"$f":"AVERAGE(BF22:BH22)","v":0},{"$f":"AVERAGE(BL22:BN22)","v":0},{"$f":"AVERAGE(BR22:BT22)","v":0},{"$f":"AVERAGE(BX22:BZ22)","v":0},{"$f":"AVERAGE(CD22:CF22)","v":0},{"$f":"AVERAGE(CJ22:CL22)","v":0},{"$f":"AVERAGE(CP22:CR22)","v":0},{"$f":"AVERAGE(CV22:CX22)","v":0},{"$f":"AVERAGE(DB22:DD22)","v":0},{"$f":"AVERAGE(DH22:DJ22)","v":0},{"$f":"AVERAGE(DN22:DP22)","v":0},{"$f":"AVERAGE(DT22:DV22)","v":0},{"$f":"AVERAGE(DZ22:EB22)","v":0},{"$f":"AVERAGE(EF22:EH22)","v":0}]
[null,1.3183E-2,0,0,0,null,null,1.3183E-2,0,0,0,null,null,1.3183E-2,0,0,0,null,null,null,1.3183E-2,0,0,0,null,null,1.3183E-2,0,0,0,null,null,1.3183E-2,0,0,0,null,null,1.3183E-2,0,0,0,null,null,1.3183E-2,0,0,0,null,null,1.3183E-2,0,0,0,null,null,1.3183E-2,0,0,0,null,null,1.3183E-2,0,0,0,null,null,1.3183E-2,0,0,0,null,null,1.3183E-2,0,0,0,null,null,1.3183E-2,0,0,0,null,null,1.3183E-2,0,0,0,null,null,1.3183E-2,0,0,0,null,null,1.3183E-2,0,0,0,null,null,1.3183E-2,0,0,0,null,null,1.3183E-2,0,0,0,null,null,1.3183E-2,0,0,0,null,null,1.3183E-2,0,0,0,null,null,1.3183E-2,0,0,0,null,null,1.3183E-2,0,0,0,null,null,1.3183E-2,{"$f":"AVERAGE(C23:E23)","v":0},{"$f":"AVERAGE(I23:K23)","v":0},{"$f":"AVERAGE(O23:Q23)","v":0},{"$f":"AVERAGE(V23:X23)","v":0},{"$f":"AVERAGE(AB23:AD23)","v":0},{"$f":"AVERAGE(AH23:AJ23)","v":0},{"$f":"AVERAGE(AN23:AP23)","v":0},{"$f":"AVERAGE(AT23:AV23)","v":0},{"$f":"AVERAGE(AZ23:BB23)","v":0},{"$f":"AVERAGE(BF23:BH23)","v":0},{"$f":"AVERAGE(BL23:BN23)","v":0},{"$f":"AVERAGE(BR23:BT23)","v":0},{"$f":"AVERAGE(BX23:BZ23)","v":0},{"$f":"AVERAGE(CD23:CF23)","v":0},{"$f":"AVERAGE(CJ23:CL23)","v":0},{"$f":"AVERAGE(CP23:CR23)","v":0},{"$f":"AVERAGE(CV23:CX23)","v":0},{"$f":"AVERAGE(DB23:DD23)","v":0},{"$f":"AVERAGE(DH23:DJ23)","v":0},{"$f":"AVERAGE(DN23:DP23)","v":0},{"$f":"AVERAGE(DT23:DV23)","v":0},{"$f":"AVERAGE(DZ23:EB23)","v":0},{"$f":"AVERAGE(EF23:EH23)","v":0}]
[null,1.5136E-2,0,0,0,null,null,1.5136E-2,0,0,0,null,null,1.5136E-2,0,0,0,null,null,null,1.5136E-2,0,0,0,null,null,1.5136E-2,0,0,0,null,null,1.5136E-2,0,0,0,null,null,1.5136E-2,0,0,0,null,null,1.5136E-2,0,0,0,null,null,1.5136E-2,0,0,0,null,null,1.5136E-2,0,0,0,null,null,1.5136E-2,0,0,0,null,null,1.5136E-2,0,0,0,null,null,1.5136E-2,0,0,0,null,null,1.5136E-2,0,0,0,null,null,1.5136E-2,0,0,0,null,null,1.5136E-2,0,0,0,null,null,1.5136E-2,0,0,0,null,null,1.5136E-2,0,0,0,null,null,1.5136E-2,0,0,0,null,null,1.5136E-2,0,0,0,null,null,1.5136E-2,0,0,0,null,null,1.5136E-2,0,0,0,null,null,1.5136E-2,0,0,0,null,null,1.5136E-2,0,0,0,0,0,0,0,0,0,0,0,0,0,0,0,0,0,0,0,{"$f":"AVERAGE(DN24:DP24)","v":0},0,0,0]
[null,1.7378000000000001E-2,0,0,0,null,null,1.7378000000000001E-2,0,0,0,null,null,1.7378000000000001E-2,0,0,0,null,null,null,1.7378000000000001E-2,0,0,0,null,null,1.7378000000000001E-2,0,0,0,null,null,1.7378000000000001E-2,0,0,0,null,null,1.7378000000000001E-2,0,0,0,null,null,1.7378000000000001E-2,0,0,0,null,null,1.7378000000000001E-2,0,0,0,null,null,1.7378000000000001E-2,0,0,0,null,null,1.7378000000000001E-2,0,0,0,null,null,1.7378000000000001E-2,0,0,0,null,null,1.7378000000000001E-2,0,0,0,null,null,1.7378000000000001E-2,0,0,0,null,null,1.7378000000000001E-2,0,0,0,null,null,1.7378000000000001E-2,0,0,0,null,null,1.7378000000000001E-2,0,0,0,null,null,1.7378000000000001E-2,0,0,0,null,null,1.7378000000000001E-2,0,0,0,null,null,1.7378000000000001E-2,0,0,0,null,null,1.7378000000000001E-2,0,0,0,null,null,1.7378000000000001E-2,0,0,0,null,null,1.7378000000000001E-2,0,0,0,null,null,1.7378000000000001E-2,0,0,0,0,0,0,0,0,0,0,0,0,0,0,0,0,0,0,0,0,0,0,0]
[null,1.9952999999999999E-2,0,0,0,null,null,1.9952999999999999E-2,0,0,0,null,null,1.9952999999999999E-2,0,0,0,null,null,null,1.9952999999999999E-2,0,0,0,null,null,1.9952999999999999E-2,0,0,0,null,null,1.9952999999999999E-2,0,0,0,null,null,1.9952999999999999E-2,0,0,0,null,null,1.9952999999999999E-2,0,0,0,null,null,1.9952999999999999E-2,0,0,0,null,null,1.9952999999999999E-2,0,0,0,null,null,1.9952999999999999E-2,0,0,0,null,null,1.9952999999999999E-2,0,0,0,null,null,1.9952999999999999E-2,0,0,0,null,null,1.9952999999999999E-2,0,0,0,null,null,1.9952999999999999E-2,0,0,0,null,null,1.9952999999999999E-2,0,0,0,null,null,1.9952999999999999E-2,0,0,0,null,null,1.9952999999999999E-2,0,0,0,null,null,1.9952999999999999E-2,0,0,0,null,null,1.9952999999999999E-2,0,0,0,null,null,1.9952999999999999E-2,0,0,0,null,null,1.9952999999999999E-2,0,0,0,null,null,1.9952999999999999E-2,0,0,0,null,null,1.9952999999999999E-2,0,0,0,0,0,0,0,0,0,0,0,0,0,0,0,0,0,0,0,0,0,0,0]
[null,2.2908999999999999E-2,0,0,0,null,null,2.2908999999999999E-2,0,0,0,null,null,2.2908999999999999E-2,0,0,0,null,null,null,2.2908999999999999E-2,0,0,0,null,null,2.2908999999999999E-2,0,0,0,null,null,2.2908999999999999E-2,0,0,0,null,null,2.2908999999999999E-2,0,0,0,null,null,2.2908999999999999E-2,0,0,0,null,null,2.2908999999999999E-2,0,0,0,null,null,2.2908999999999999E-2,0,0,0,null,null,2.2908999999999999E-2,0,0,0,null,null,2.2908999999999999E-2,0,0,0,null,null,2.2908999999999999E-2,0,0,0,null,null,2.2908999999999999E-2,0,0,0,null,null,2.2908999999999999E-2,0,0,0,null,null,2.2908999999999999E-2,0,0,0,null,null,2.2908999999999999E-2,0,0,0,null,null,2.2908999999999999E-2,0,0,0,null,null,2.2908999999999999E-2,0,0,0,null,null,2.2908999999999999E-2,0,0,0,null,null,2.2908999999999999E-2,0,0,0,null,null,2.2908999999999999E-2,0,0,0,null,null,2.2908999999999999E-2,0,0,0,null,null,2.2908999999999999E-2,0,0,0,0,0,0,0,0,0,0,0,0,0,0,0,0,0,0,0,0,0,0,0]
[null,2.6303E-2,0,0,0,null,null,2.6303E-2,0,0,0,null,null,2.6303E-2,0,0,0,null,null,null,2.6303E-2,0,0,0,null,null,2.6303E-2,0,0,0,null,null,2.6303E-2,0,0,0,null,null,2.6303E-2,0,0,0,null,null,2.6303E-2,0,0,0,null,null,2.6303E-2,0,0,0,null,null,2.6303E-2,0,0,0,null,null,2.6303E-2,0,0,0,null,null,2.6303E-2,0,0,0,null,null,2.6303E-2,0,0,0,null,null,2.6303E-2,0,0,0,null,null,2.6303E-2,0,0,0,null,null,2.6303E-2,0,0,0,null,null,2.6303E-2,0,0,0,null,null,2.6303E-2,0,0,0,null,null,2.6303E-2,0,0,0,null,null,2.6303E-2,0,0,0,null,null,2.6303E-2,0,0,0,null,null,2.6303E-2,0,0,0,null,null,2.6303E-2,0,0,0,null,null,2.6303E-2,0,0,0,0,0,0,0,0,0,0,0,0,0,0,0,0,0,0,0,0,0,0,0]
[null,3.0200000000000001E-2,0,0,0,null,null,3.0200000000000001E-2,0,0,0,null,null,3.0200000000000001E-2,0,0,0,null,null,null,3.0200000000000001E-2,0,0,0,null,null,3.0200000000000001E-2,0,0,0,null,null,3.0200000000000001E-2,0,0,0,null,null,3.0200000000000001E-2,0,0,0,null,null,3.0200000000000001E-2,0,0,0,null,null,3.0200000000000001E-2,0,0,0,null,null,3.0200000000000001E-2,0,0,0,null,null,3.0200000000000001E-2,0,0,0,null,null,3.0200000000000001E-2,0,0,0,null,null,3.0200000000000001E-2,0,0,0,null,null,3.0200000000000001E-2,0,0,0,null,null,3.0200000000000001E-2,0,0,0,null,null,3.0200000000000001E-2,0,0,0,null,null,3.0200000000000001E-2,0,0,0,null,null,3.0200000000000001E-2,0,0,0,null,null,3.0200000000000001E-2,0,0,0,null,null,3.0200000000000001E-2,0,0,0,null,null,3.0200000000000001E-2,0,0,0,null,null,3.0200000000000001E-2,0,0,0,null,null,3.0200000000000001E-2,0,0,0,null,null,3.0200000000000001E-2,0,0,0,0,0,0,0,0,0,0,0,0,0,0,0,0,0,0,0,0,0,0,0]
[null,3.4674000000000003E-2,0,0,0,null,null,3.4674000000000003E-2,0,0,0,null,null,3.4674000000000003E-2,0,0,0,null,null,null,3.4674000000000003E-2,0,0,0,null,null,3.4674000000000003E-2,0,0,0,null,null,3.4674000000000003E-2,0,0,0,null,null,3.4674000000000003E-2,0,0,0,null,null,3.4674000000000003E-2,0,0,0,null,null,3.4674000000000003E-2,0,0,0,null,null,3.4674000000000003E-2,0,0,0,null,null,3.4674000000000003E-2,0,0,0,null,null,3.4674000000000003E-2,0,0,0,null,null,3.4674000000000003E-2,0,0,0,null,null,3.4674000000000003E-2,0,0,0,null,null,3.4674000000000003E-2,0,0,0,null,null,3.4674000000000003E-2,0,0,0,null,null,3.4674000000000003E-2,0,0,0,null,null,3.4674000000000003E-2,0,0,0,null,null,3.4674000000000003E-2,0,0,0,null,null,3.4674000000000003E-2,0,0,0,null,null,3.4674000000000003E-2,0,0,0,null,null,3.4674000000000003E-2,0,0,0,null,null,3.4674000000000003E-2,0,0,0,null,null,3.4674000000000003E-2,0,0,0,0,0,0,0,0,0,0,0,0,0,0,0,0,0,0,0,0,0,0,0]
[null,3.9810999999999999E-2,0,0,0,null,null,3.9810999999999999E-2,0,0,0,null,null,3.9810999999999999E-2,0,0,0,null,null,null,3.9810999999999999E-2,0,0,0,null,null,3.9810999999999999E-2,0,0,0,null,null,3.9810999999999999E-2,0,0,0,null,null,3.9810999999999999E-2,0,0,0,null,null,3.9810999999999999E-2,0,0,0,null,null,3.9810999999999999E-2,0,0,0,null,null,3.9810999999999999E-2,0,0,0,null,null,3.9810999999999999E-2,0,0,0,null,null,3.9810999999999999E-2,0,0,0,null,null,3.9810999999999999E-2,0,0,0,null,null,3.9810999999999999E-2,0,0,0,null,null,3.9810999999999999E-2,0,0,0,null,null,3.9810999999999999E-2,0,0,0,null,null,3.9810999999999999E-2,0,0,0,null,null,3.9810999999999999E-2,0,0,0,null,null,3.9810999999999999E-2,0,0,0,null,null,3.9810999999999999E-2,0,0,0,null,null,3.9810999999999999E-2,0,0,0,null,null,3.9810999999999999E-2,0,0,0,null,null,3.9810999999999999E-2,0,0,0,null,null,3.9810999999999999E-2,0,0,0,0,0,0,0,0,0,0,0,0,0,0,0,0,0,0,0,0,0,0,0]
[null,4.5709E-2,0,0,0,null,null,4.5709E-2,0,0,0,null,null,4.5709E-2,0,0,0,null,null,null,4.5709E-2,0,0,0,null,null,4.5709E-2,0,0,0,null,null,4.5709E-2,0,0,0,null,null,4.5709E-2,0,0,0,null,null,4.5709E-2,0,0,0,null,null,4.5709E-2,0,0,0,null,null,4.5709E-2,0,0,0,null,null,4.5709E-2,0,0,0,null,null,4.5709E-2,0,0,0,null,null,4.5709E-2,0,0,0,null,null,4.5709E-2,0,0,0,null,null,4.5709E-2,0,0,0,null,null,4.5709E-2,0,0,0,null,null,4.5709E-2,0,0,0,null,null,4.5709E-2,0,0,0,null,null,4.5709E-2,0,0,0,null,null,4.5709E-2,0,0,0,null,null,4.5709E-2,0,0,0,null,null,4.5709E-2,0,0,0,null,null,4.5709E-2,0,0,0,null,null,4.5709E-2,0,0,0,0,0,0,0,0,0,0,0,0,0,0,0,0,0,0,0,0,0,0,0]
[null,5.2481E-2,0,0,0,null,null,5.2481E-2,0,0,0,null,null,5.2481E-2,0,0,0,null,null,null,5.2481E-2,0,0,0,null,null,5.2481E-2,0,0,0,null,null,5.2481E-2,0,0,0,null,null,5.2481E-2,0,0,0,null,null,5.2481E-2,0,0,0,null,null,5.2481E-2,0,0,0,null,null,5.2481E-2,0,0,0,null,null,5.2481E-2,0,0,0,null,null,5.2481E-2,0,0,0,null,null,5.2481E-2,0,0,0,null,null,5.2481E-2,0,0,0,null,null,5.2481E-2,0,0,0,null,null,5.2481E-2,0,0,0,null,null,5.2481E-2,0,0,0,null,null,5.2481E-2,0,0,0,null,null,5.2481E-2,0,0,0,null,null,5.2481E-2,0,0,0,null,null,5.2481E-2,0,0,0,null,null,5.2481E-2,0,0,0,null,null,5.2481E-2,0,0,0,null,null,5.2481E-2,0,0,0,0,0,0,0,0,0,0,0,0,0,0,0,0,0,0,0,0,0,0,0]
[null,6.0255999999999997E-2,0,0,0,null,null,6.0255999999999997E-2,0,0,0,null,null,6.0255999999999997E-2,0,0,0,null,null,null,6.0255999999999997E-2,0,0,0,null,null,6.0255999999999997E-2,0,0,0,null,null,6.0255999999999997E-2,0,0,0,null,null,6.0255999999999997E-2,0,0,0,null,null,6.0255999999999997E-2,0,0,0,null,null,6.0255999999999997E-2,0,0,0,null,null,6.0255999999999997E-2,0,0,0,null,null,6.0255999999999997E-2,0,0,0,null,null,6.0255999999999997E-2,0,0,0,null,null,6.0255999999999997E-2,0,0,0,null,null,6.0255999999999997E-2,0,0,0,null,null,6.0255999999999997E-2,0,0,0,null,null,6.0255999999999997E-2,0,0,0,null,null,6.0255999999999997E-2,0,0,0,null,null,6.0255999999999997E-2,0,0,0,null,null,6.0255999999999997E-2,0,0,0,null,null,6.0255999999999997E-2,0,0,0,null,null,6.0255999999999997E-2,0,0,0,null,null,6.0255999999999997E-2,0,0,0,null,null,6.0255999999999997E-2,0,0,0,null,null,6.0255999999999997E-2,0,0,0,0,0,0,0,0,0,0,0,0,0,0,0,0,0,0,0,0,0,0,0]
[null,6.9182999999999995E-2,0,0,0,null,null,6.9182999999999995E-2,0,0,0,null,null,6.9182999999999995E-2,0,0,0,null,null,null,6.9182999999999995E-2,0,0,0,null,null,6.9182999999999995E-2,0,0,0,null,null,6.9182999999999995E-2,0,0,0,null,null,6.9182999999999995E-2,0,0,0,null,null,6.9182999999999995E-2,0,0,0,null,null,6.9182999999999995E-2,0,0,0,null,null,6.9182999999999995E-2,0,0,0,null,null,6.9182999999999995E-2,0,0,0,null,null,6.9182999999999995E-2,0,0,0,null,null,6.9182999999999995E-2,0,0,0,null,null,6.9182999999999995E-2,0,0,0,null,null,6.9182999999999995E-2,0,0,0,null,null,6.9182999999999995E-2,0,0,0,null,null,6.9182999999999995E-2,0,0,0,null,null,6.9182999999999995E-2,0,0,0,null,null,6.9182999999999995E-2,0,0,0,null,null,6.9182999999999995E-2,0,0,0,null,null,6.9182999999999995E-2,0,0,0,null,null,6.9182999999999995E-2,0,0,0,null,null,6.9182999999999995E-2,0,0,0,null,null,6.9182999999999995E-2,0,0,0,0,0,0,0,0,0,0,0,0,0,0,0,0,0,0,0,0,0,0,0]
[null,7.9433000000000004E-2,0,0,0,null,null,7.9433000000000004E-2,0,0,0,null,null,7.9433000000000004E-2,0,0,0,null,null,null,7.9433000000000004E-2,0,0,0,null,null,7.9433000000000004E-2,0,0,0,null,null,7.9433000000000004E-2,0,0,0,null,null,7.9433000000000004E-2,0,0,0,null,null,7.9433000000000004E-2,0,0,0,null,null,7.9433000000000004E-2,0,0,0,null,null,7.9433000000000004E-2,0,0,0,null,null,7.9433000000000004E-2,0,0,0,null,null,7.9433000000000004E-2,0,0,0,null,null,7.9433000000000004E-2,0,0,0,null,null,7.9433000000000004E-2,0,0,0,null,null,7.9433000000000004E-2,0,0,0,null,null,7.9433000000000004E-2,0,0,0,null,null,7.9433000000000004E-2,0,0,0,null,null,7.9433000000000004E-2,0,0,0,null,null,7.9433000000000004E-2,0,0,0,null,null,7.9433000000000004E-2,0,0,0,null,null,7.9433000000000004E-2,0,0,0,null,null,7.9433000000000004E-2,0,0,0,null,null,7.9433000000000004E-2,0,0,0,null,null,7.9433000000000004E-2,0,0,0,0,0,0,0,0,0,0,0,0,0,0,0,0,0,0,0,0,0,0,0]
[null,9.1201000000000004E-2,0,0,0,null,null,9.1201000000000004E-2,0,0,0,null,null,9.1201000000000004E-2,0,0,0,null,null,null,9.1201000000000004E-2,0,0,0,null,null,9.1201000000000004E-2,0,0,0,null,null,9.1201000000000004E-2,0,0,0,null,null,9.1201000000000004E-2,0,0,0,null,null,9.1201000000000004E-2,0,0,0,null,null,9.1201000000000004E-2,0,0,0,null,null,9.1201000000000004E-2,0,0,0,null,null,9.1201000000000004E-2,0,0,0,null,null,9.1201000000000004E-2,0,0,0,null,null,9.1201000000000004E-2,0,0,0,null,null,9.1201000000000004E-2,0,0,0,null,null,9.1201000000000004E-2,0,0,0,null,null,9.1201000000000004E-2,0,0,0,null,null,9.1201000000000004E-2,0,0,0,null,null,9.1201000000000004E-2,0,0,0,null,null,9.1201000000000004E-2,0,0,0,null,null,9.1201000000000004E-2,0,0,0,null,null,9.1201000000000004E-2,0,0,0,null,null,9.1201000000000004E-2,0,0,0,null,null,9.1201000000000004E-2,0,0,0,null,null,9.1201000000000004E-2,0,0,0,0,0,0,0,0,0,0,0,0,0,0,0,0,0,0,0,0,0,0,0]
[null,0.104713,0,0,0,null,null,0.104713,0,0,0,null,null,0.104713,0,0,0,null,null,null,0.104713,0,0,0,null,null,0.104713,0,0,0,null,null,0.104713,0,0,0,null,null,0.104713,0,0,0,null,null,0.104713,0,0,0,null,null,0.104713,0,0,0,null,null,0.104713,0,0,0,null,null,0.104713,0,0,0,null,null,0.104713,0,0,0,null,null,0.104713,0,0,0,null,null,0.104713,0,0,0,null,null,0.104713,0,0,0,null,null,0.104713,0,0,0,null,null,0.104713,0,0,0,null,null,0.104713,0,0,0,null,null,0.104713,0,0,0,null,null,0.104713,0,0,0,null,null,0.104713,0,0,0,null,null,0.104713,0,0,0,null,null,0.104713,0,0,0,null,null,0.104713,0,0,0,0,0,0,0,0,0,0,0,0,0,0,0,0,0,0,0,0,0,0,0]
[null,0.120226,0,0,0,null,null,0.120226,0,0,0,null,null,0.120226,0,0,0,null,null,null,0.120226,0,0,0,null,null,0.120226,0,0,0,null,null,0.120226,0,0,0,null,null,0.120226,0,0,0,null,null,0.120226,0,0,0,null,null,0.120226,0,0,0,null,null,0.120226,0,0,0,null,null,0.120226,0,0,0,null,null,0.120226,0,0,0,null,null,0.120226,0,0,0,null,null,0.120226,0,0,0,null,null,0.120226,0,0,0,null,null,0.120226,0,0,0,null,null,0.120226,0,0,0,null,null,0.120226,0,0,0,null,null,0.120226,0,0,0,null,null,0.120226,0,0,0,null,null,0.120226,0,0,0,null,null,0.120226,0,0,0,null,null,0.120226,0,0,0,null,null,0.120226,0,0,0,0,0,0,0,0,0,0,0,0,0,0,0,0,0,0,0,0,0,0,0]
[null,0.13803799999999999,0,0,0,null,null,0.13803799999999999,0,0,0,null,null,0.13803799999999999,0,0,0,null,null,null,0.13803799999999999,0,0,0,null,null,0.13803799999999999,0,0,0,null,null,0.13803799999999999,0,0,0,null,null,0.13803799999999999,0,0,0,null,null,0.13803799999999999,0,0,0,null,null,0.13803799999999999,0,0,0,null,null,0.13803799999999999,0,0,0,null,null,0.13803799999999999,0,0,0,null,null,0.13803799999999999,0,0,0,null,null,0.13803799999999999,0,0,0,null,null,0.13803799999999999,0,0,0,null,null,0.13803799999999999,0,0,0,null,null,0.13803799999999999,0,0,0,null,null,0.13803799999999999,0,0,0,null,null,0.13803799999999999,0,0,0,null,null,0.13803799999999999,0,0,0,null,null,0.13803799999999999,0,0,0,null,null,0.13803799999999999,0,0,0,null,null,0.13803799999999999,0,0,0,null,null,0.13803799999999999,0,0,0,null,null,0.13803799999999999,0,0,0,0,0,0,0,0,0,0,0,0,0,0,0,0,0,0,0,0,0,0,0]
[null,0.15848899999999999,0,0,0,null,null,0.15848899999999999,0,0,0,null,null,0.15848899999999999,0,0,0,null,null,null,0.15848899999999999,0,0,0,null,null,0.15848899999999999,0,0,0,null,null,0.15848899999999999,0,0,0,null,null,0.15848899999999999,0,0,0,null,null,0.15848899999999999,0,0,0,null,null,0.15848899999999999,0,0,0,null,null,0.15848899999999999,0,0,0,null,null,0.15848899999999999,0,0,0,null,null,0.15848899999999999,0,0,0,null,null,0.15848899999999999,0,0,0,null,null,0.15848899999999999,0,0,0,null,null,0.15848899999999999,0,0,0,null,null,0.15848899999999999,0,0,0,null,null,0.15848899999999999,0,0,0,null,null,0.15848899999999999,0,0,0,null,null,0.15848899999999999,0,0,0,null,null,0.15848899999999999,0,0,0,null,null,0.15848899999999999,0,0,0,null,null,0.15848899999999999,0,0,0,null,null,0.15848899999999999,0,0,0,null,null,0.15848899999999999,0,0,0,0,0,0,0,0,0,0,0,0,0,0,0,0,0,0,0,0,0,0,0]
[null,0.18196999999999999,0,0,0,null,null,0.18196999999999999,0,0,0,null,null,0.18196999999999999,0,0,0,null,null,null,0.18196999999999999,0,0,0,null,null,0.18196999999999999,0,0,0,null,null,0.18196999999999999,0,0,0,null,null,0.18196999999999999,0,0,0,null,null,0.18196999999999999,0,0,0,null,null,0.18196999999999999,0,0,0,null,null,0.18196999999999999,0,0,0,null,null,0.18196999999999999,0,0,0,null,null,0.18196999999999999,0,0,0,null,null,0.18196999999999999,0,0,0,null,null,0.18196999999999999,0,0,0,null,null,0.18196999999999999,0,0,0,null,null,0.18196999999999999,0,0,0,null,null,0.18196999999999999,0,0,0,null,null,0.18196999999999999,0,0,0,null,null,0.18196999999999999,0,0,0,null,null,0.18196999999999999,0,0,0,null,null,0.18196999999999999,0,0,0,null,null,0.18196999999999999,0,0,0,null,null,0.18196999999999999,0,0,0,null,null,0.18196999999999999,0,0,0,0,0,0,0,0,0,0,0,0,0,0,0,0,0,0,0,0,0,0,0]
[null,0.20893,0,0,0,null,null,0.20893,0,0,0,null,null,0.20893,0,0,0,null,null,null,0.20893,0,0,0,null,null,0.20893,0,0,0,null,null,0.20893,0,0,0,null,null,0.20893,0,0,0,null,null,0.20893,0,0,0,null,null,0.20893,0,0,0,null,null,0.20893,0,0,0,null,null,0.20893,0,0,0,null,null,0.20893,0,0,0,null,null,0.20893,0,0,0,null,null,0.20893,0,0,0,null,null,0.20893,0,0,0,null,null,0.20893,0,0,0,null,null,0.20893,0,0,0,null,null,0.20893,0,0,0,null,null,0.20893,0,0,0,null,null,0.20893,0,0,0,null,null,0.20893,0,0,0,null,null,0.20893,0,0,0,null,null,0.20893,0,0,0,null,null,0.20893,0,0,0,0,0,0,0,0,0,0,0,0,0,0,0,0,0,0,0,0,0,0,0]
[null,0.23988300000000001,0,0,0,null,null,0.23988300000000001,0,0,0,null,null,0.23988300000000001,0,0,0,null,null,null,0.23988300000000001,0,0,0,null,null,0.23988300000000001,0,0,0,null,null,0.23988300000000001,0,0,0,null,null,0.23988300000000001,0,0,0,null,null,0.23988300000000001,0,0,0,null,null,0.23988300000000001,0,0,0,null,null,0.23988300000000001,0,0,0,null,null,0.23988300000000001,0,0,0,null,null,0.23988300000000001,0,0,0,null,null,0.23988300000000001,0,0,0,null,null,0.23988300000000001,0,0,0,null,null,0.23988300000000001,0,0,0,null,null,0.23988300000000001,0,0,0,null,null,0.23988300000000001,0,0,0,null,null,0.23988300000000001,0,0,0,null,null,0.23988300000000001,0,0,0,null,null,0.23988300000000001,0,0,0,null,null,0.23988300000000001,0,0,0,null,null,0.23988300000000001,0,0,0,null,null,0.23988300000000001,0,0,0,null,null,0.23988300000000001,0,0,0,0,0,0,0,0,0,0,0,0,0,0,0,0,0,0,0,0,0,0,0]
[null,0.27542299999999997,0,0,0,null,null,0.27542299999999997,0,0,0,null,null,0.27542299999999997,0,0,0,null,null,null,0.27542299999999997,0,0,0,null,null,0.27542299999999997,0,0,0,null,null,0.27542299999999997,0,0,0,null,null,0.27542299999999997,0,0,0,null,null,0.27542299999999997,0,0,0,null,null,0.27542299999999997,0,0,0,null,null,0.27542299999999997,0,0,0,null,null,0.27542299999999997,0,0,0,null,null,0.27542299999999997,0,0,0,null,null,0.27542299999999997,0,0,0,null,null,0.27542299999999997,0,0,0,null,null,0.27542299999999997,0,0,0,null,null,0.27542299999999997,0,0,0,null,null,0.27542299999999997,0,0,0,null,null,0.27542299999999997,0,0,0,null,null,0.27542299999999997,0,0,0,null,null,0.27542299999999997,0,0,0,null,null,0.27542299999999997,0,0,0,null,null,0.27542299999999997,0,0,0,null,null,0.27542299999999997,0,0,0,null,null,0.27542299999999997,0,0,0,0,0,0,0,0,0,0,0,0,0,0,0,0,0,0,0,0,0,0,0]
[null,0.31622800000000001,0,0,0,null,null,0.31622800000000001,0,0,0,null,null,0.31622800000000001,0,0,0,null,null,null,0.31622800000000001,0,0,0,null,null,0.31622800000000001,0,0,0,null,null,0.31622800000000001,0,0,0,null,null,0.31622800000000001,0,0,0,null,null,0.31622800000000001,0,0,0,null,null,0.31622800000000001,0,0,0,null,null,0.31622800000000001,0,0,0,null,null,0.31622800000000001,0,0,0,null,null,0.31622800000000001,0,0,0,null,null,0.31622800000000001,0,0,0,null,null,0.31622800000000001,0,0,0,null,null,0.31622800000000001,0,0,0,null,null,0.31622800000000001,0,0,0,null,null,0.31622800000000001,0,0,0,null,null,0.31622800000000001,0,0,0,null,null,0.31622800000000001,0,0,0,null,null,0.31622800000000001,0,0,0,null,null,0.31622800000000001,0,0,0,null,null,0.31622800000000001,0,0,0,null,null,0.31622800000000001,0,0,0,null,null,0.31622800000000001,0,0,0,0,0,0,0,0,0,0,0,0,0,0,0,0,0,0,0,0,0,0,0]
[null,0.36307800000000001,0,0,0,null,null,0.36307800000000001,0,0,0,null,null,0.36307800000000001,0,0,0,null,null,null,0.36307800000000001,0,0,0,null,null,0.36307800000000001,0,0,0,null,null,0.36307800000000001,0,0,0,null,null,0.36307800000000001,0,0,0,null,null,0.36307800000000001,0,0,0,null,null,0.36307800000000001,7.4689999999999999E-3,1.0792E-2,9.5840000000000005E-3,null,null,0.36307800000000001,0,0,0,null,null,0.36307800000000001,0,0,0,null,null,0.36307800000000001,0,0,0,null,null,0.36307800000000001,0,0,0,null,null,0.36307800000000001,0,0,0,null,null,0.36307800000000001,0,0,0,null,null,0.36307800000000001,0,0,0,null,null,0.36307800000000001,0,0,0,null,null,0.36307800000000001,0,0,0,null,null,0.36307800000000001,0,0,0,null,null,0.36307800000000001,0,0,0,null,null,0.36307800000000001,0,0,0,null,null,0.36307800000000001,0,0,0,null,null,0.36307800000000001,0,0,0,null,null,0.36307800000000001,0,0,0,0,0,0,0,0,9.2816666666666672E-3,0,0,0,0,0,0,0,0,0,0,0,0,0,0]
[null,0.41686899999999999,0,0,0,null,null,0.41686899999999999,0,0,0,null,null,0.41686899999999999,0,0,0,null,null,null,0.41686899999999999,0,0,0,null,null,0.41686899999999999,0,0,0,null,null,0.41686899999999999,0,0,0,null,null,0.41686899999999999,0,0,0,null,null,0.41686899999999999,0,0,0,null,null,0.41686899999999999,0.120744,0.172233,0.15232000000000001,null,null,0.41686899999999999,0,0,0,null,null,0.41686899999999999,0,0,0,null,null,0.41686899999999999,0,0,0,null,null,0.41686899999999999,0,0,0,null,null,0.41686899999999999,0,0,0,null,null,0.41686899999999999,0,0,0,null,null,0.41686899999999999,0,0,0,null,null,0.41686899999999999,0,0,0,null,null,0.41686899999999999,0,0,0,null,null,0.41686899999999999,0,0,0,null,null,0.41686899999999999,0,0,0,null,null,0.41686899999999999,0,0,0,null,null,0.41686899999999999,0,0,0,null,null,0.41686899999999999,0,0,0,null,null,0.41686899999999999,0,0,0,0,0,0,0,0,0.14843233333333333,0,0,0,0,0,0,0,0,0,0,0,0,0,0]
[null,0.47863,5.8091999999999998E-2,3.9315000000000003E-2,6.3255000000000006E-2,null,null,0.47863,0,0,0,null,null,0.47863,0,0,0,null,null,null,0.47863,6.9889000000000007E-2,7.2419999999999998E-2,8.6632000000000001E-2,null,null,0.47863,0,0,0,null,null,0.47863,7.7512999999999999E-2,6.8751000000000007E-2,7.2500999999999996E-2,null,null,0.47863,0,0,0,null,null,0.47863,5.6162999999999998E-2,3.7076999999999999E-2,3.6331000000000002E-2,null,null,0.47863,0.28513899999999998,0.37042599999999998,0.31722499999999998,null,null,0.47863,0,0,0,null,null,0.47863,0.111628,0.14638599999999999,0.119967,null,null,0.47863,0,0,0,null,null,0.47863,0,0,0,null,null,0.47863,0,0,0,null,null,0.47863,0,0,0,null,null,0.47863,0,0,1.763E-2,null,null,0.47863,0,0,0,null,null,0.47863,0,1.7115999999999999E-2,0,null,null,0.47863,0,0,0,null,null,0.47863,5.9060000000000001E-2,5.7049000000000002E-2,0,null,null,0.47863,0,0,0,null,null,0.47863,0,0,0,null,null,0.47863,0,0,0,null,null,0.47863,5.3553999999999997E-2,0,0,7.6313666666666669E-2,0,7.2921666666666662E-2,0,4.3190333333333331E-2,0.32426333333333329,0,0.12599366666666664,0,0,0,0,5.8766666666666663E-3,0,5.7053333333333331E-3,0,3.8703000000000001E-2,0,0,0]
[null,0.54954099999999995,0.107006,0.101202,0.11237800000000001,null,null,0.54954099999999995,0,1.4706E-2,0,null,null,0.54954099999999995,6.7910999999999999E-2,7.2373999999999994E-2,6.1116999999999998E-2,null,null,null,0.54954099999999995,0.11913600000000001,0.123742,0.14515900000000001,null,null,0.54954099999999995,0,0,0,null,null,0.54954099999999995,0.124191,0.11010300000000001,0.115773,null,null,0.54954099999999995,0,5.2557E-2,4.8964000000000001E-2,null,null,0.54954099999999995,9.5233999999999999E-2,9.1732999999999995E-2,9.0989E-2,null,null,0.54954099999999995,0.42935000000000001,0.54481800000000002,0.46188800000000002,null,null,0.54954099999999995,6.0087000000000002E-2,5.9887999999999997E-2,5.7196999999999998E-2,null,null,0.54954099999999995,0.232844,0.29611900000000002,0.25387199999999999,null,null,0.54954099999999995,3.8449999999999998E-2,3.5747000000000001E-2,5.1272999999999999E-2,null,null,0.54954099999999995,1.6757999999999999E-2,0,0,null,null,0.54954099999999995,5.7161999999999998E-2,3.8743E-2,6.0782000000000003E-2,null,null,0.54954099999999995,6.2952999999999995E-2,6.0461000000000001E-2,3.9987000000000002E-2,null,null,0.54954099999999995,6.3865000000000005E-2,5.7929000000000001E-2,7.9839999999999994E-2,null,null,0.54954099999999995,7.1451000000000001E-2,6.6100000000000006E-2,8.4662000000000001E-2,null,null,0.54954099999999995,8.1701999999999997E-2,8.4740999999999997E-2,7.0475999999999997E-2,null,null,0.54954099999999995,5.3476999999999997E-2,6.7751000000000006E-2,6.6944000000000004E-2,null,null,0.54954099999999995,9.7682000000000005E-2,9.4880999999999993E-2,7.3197999999999999E-2,null,null,0.54954099999999995,1.4718999999999999E-2,0,0,null,null,0.54954099999999995,0,1.6899000000000001E-2,1.6784E-2,null,null,0.54954099999999995,0,0,0,null,null,0.54954099999999995,0.10686200000000001,4.9020000000000001E-3,6.7133999999999999E-2,0.12934566666666666,0,0.116689,3.3840333333333333E-2,9.2651999999999998E-2,0.47868533333333335,5.905733333333333E-2,0.26094500000000004,4.182333333333333E-2,5.5859999999999998E-3,5.2228999999999998E-2,5.4466999999999995E-2,6.7211333333333331E-2,7.4070999999999998E-2,7.8973000000000002E-2,6.2724000000000002E-2,8.8586999999999985E-2,4.9063333333333329E-3,1.1227666666666669E-2,0]
[null,0.63095699999999999,0.14382600000000001,0.13686699999999999,0.15911800000000001,null,null,0.63095699999999999,0,4.4058E-2,3.2937000000000001E-2,null,null,0.63095699999999999,9.8568000000000003E-2,0.101465,9.0314000000000005E-2,null,null,null,0.63095699999999999,0.16653499999999999,0.173235,0.20139099999999999,null,null,0.63095699999999999,4.9175999999999997E-2,1.3750999999999999E-2,2.7268000000000001E-2,null,null,0.63095699999999999,0.16797999999999999,0.148866,0.15628500000000001,null,null,0.63095699999999999,5.4952000000000001E-2,7.8001000000000001E-2,7.1839E-2,null,null,0.63095699999999999,0.124249,0.12096999999999999,0.12042700000000001,null,null,0.63095699999999999,0.54538299999999995,0.68500700000000003,0.57735700000000001,null,null,0.63095699999999999,8.6337999999999998E-2,8.6129999999999998E-2,8.1201999999999996E-2,null,null,0.63095699999999999,0.36948799999999998,0.46765299999999999,0.412443,null,null,0.63095699999999999,7.3512999999999995E-2,7.0147000000000001E-2,7.4265999999999999E-2,null,null,0.63095699999999999,4.6335000000000001E-2,0,0,null,null,0.63095699999999999,8.5905999999999996E-2,8.0253000000000005E-2,8.9706999999999995E-2,null,null,0.63095699999999999,9.3716999999999995E-2,9.0138999999999997E-2,8.0595E-2,null,null,0.63095699999999999,9.2868000000000006E-2,8.4365999999999997E-2,0.106243,null,null,0.63095699999999999,0.101659,9.7562999999999997E-2,0.120833,null,null,0.63095699999999999,0.11733200000000001,0.11497400000000001,0.100879,null,null,0.63095699999999999,7.7358999999999997E-2,9.6624000000000002E-2,9.5387E-2,null,null,0.63095699999999999,0.126641,0.12321600000000001,0.103576,null,null,0.63095699999999999,4.2079999999999999E-2,1.0975E-2,1.2818E-2,null,null,0.63095699999999999,6.2441999999999998E-2,7.4060000000000001E-2,6.7280999999999994E-2,null,null,0.63095699999999999,0,0,0,null,null,0.63095699999999999,0.14660366666666666,2.5665000000000004E-2,9.6782333333333345E-2,0.18038699999999999,3.0064999999999998E-2,0.15771033333333331,6.8263999999999991E-2,0.121882,0.60258233333333333,8.4556666666666669E-2,0.41652800000000001,7.2641999999999998E-2,1.5445E-2,8.5288666666666665E-2,8.8150333333333331E-2,9.4492333333333331E-2,0.10668499999999999,0.11106166666666667,8.9789999999999995E-2,0.117811,2.1957666666666667E-2,6.7927666666666664E-2,0]
[null,0.72443599999999997,0.17425399999999999,0.16508800000000001,0.188998,null,null,0.72443599999999997,0,5.3994E-2,5.1570999999999999E-2,null,null,0.72443599999999997,0.114832,0.119004,0.106124,null,null,null,0.72443599999999997,0.19836400000000001,0.20658199999999999,0.239236,null,null,0.72443599999999997,7.3630000000000001E-2,5.5259000000000003E-2,5.9810000000000002E-2,null,null,0.72443599999999997,0.196299,0.17388799999999999,0.18240300000000001,null,null,0.72443599999999997,8.3002000000000006E-2,9.1757000000000005E-2,8.3947999999999995E-2,null,null,0.72443599999999997,0.14635300000000001,0.14211299999999999,0.141795,null,null,0.72443599999999997,0.63891500000000001,0.79704900000000001,0.66863300000000003,null,null,0.72443599999999997,0.100193,0.100047,9.3400999999999998E-2,null,null,0.72443599999999997,0.47966599999999998,0.60822399999999999,0.54597200000000001,null,null,0.72443599999999997,8.8031999999999999E-2,8.4173999999999999E-2,8.5999000000000006E-2,null,null,0.72443599999999997,5.7000000000000002E-2,1.2149E-2,0,null,null,0.72443599999999997,0.10187,9.8624000000000003E-2,0.105641,null,null,0.72443599999999997,0.110448,0.106324,9.8281999999999994E-2,null,null,0.72443599999999997,0.10881300000000001,9.8928000000000002E-2,0.12542900000000001,null,null,0.72443599999999997,0.120187,0.114106,0.143349,null,null,0.72443599999999997,0.140874,0.13741700000000001,0.12069100000000001,null,null,0.72443599999999997,9.0327000000000005E-2,0.111911,0.110455,null,null,0.72443599999999997,0.148953,0.14507200000000001,0.12237199999999999,null,null,0.72443599999999997,5.3179999999999998E-2,5.1740000000000001E-2,3.8544000000000002E-2,null,null,0.72443599999999997,9.2249999999999999E-2,9.2772999999999994E-2,8.4199999999999997E-2,null,null,0.72443599999999997,0,0,0,null,null,0.72443599999999997,0.17611333333333334,3.5188333333333328E-2,0.11331999999999999,0.21472733333333335,6.2899666666666673E-2,0.18419666666666668,8.6235666666666669E-2,0.14342033333333334,0.70153233333333331,9.7880333333333333E-2,0.54462066666666675,8.6068333333333344E-2,2.3049666666666666E-2,0.102045,0.105018,0.11105666666666668,0.12588066666666667,0.132994,0.104231,0.13879899999999998,4.7821333333333334E-2,8.9741000000000001E-2,0]
[null,0.83176399999999995,0.19284299999999999,0.18230199999999999,0.21124999999999999,null,null,0.83176399999999995,9.2339999999999992E-3,7.1404999999999996E-2,5.2241000000000003E-2,null,null,0.83176399999999995,0.12361999999999999,0.12920400000000001,0.115227,null,null,null,0.83176399999999995,0.22375400000000001,0.23330899999999999,0.26928299999999999,null,null,0.83176399999999995,8.0968999999999999E-2,6.9668999999999995E-2,6.7530999999999994E-2,null,null,0.83176399999999995,0.21691299999999999,0.19204299999999999,0.201291,null,null,0.83176399999999995,9.1632000000000005E-2,9.9612000000000006E-2,9.0343999999999994E-2,null,null,0.83176399999999995,0.158447,0.15360299999999999,0.15326899999999999,null,null,0.83176399999999995,0.70745000000000002,0.87767099999999998,0.73322600000000004,null,null,0.83176399999999995,0.107682,0.107684,9.9005999999999997E-2,null,null,0.83176399999999995,0.58347899999999997,0.74026199999999998,0.67304900000000001,null,null,0.83176399999999995,9.3265000000000001E-2,8.9096999999999996E-2,9.1303999999999996E-2,null,null,0.83176399999999995,6.3432000000000002E-2,2.1174999999999999E-2,0,null,null,0.83176399999999995,0.111913,0.108138,0.115534,null,null,0.83176399999999995,0.12040099999999999,0.11604100000000001,0.106765,null,null,0.83176399999999995,0.11882,0.108114,0.137961,null,null,0.83176399999999995,0.129908,0.122542,0.15534300000000001,null,null,0.83176399999999995,0.155496,0.15128800000000001,0.13284599999999999,null,null,0.83176399999999995,9.8172999999999996E-2,0.120375,0.118825,null,null,0.83176399999999995,0.16223199999999999,0.158002,0.13327,null,null,0.83176399999999995,5.5076E-2,6.6692000000000001E-2,4.5973E-2,null,null,0.83176399999999995,0.101296,9.8166000000000003E-2,8.9593000000000006E-2,null,null,0.83176399999999995,0,0,0,null,null,0.83176399999999995,0.195465,4.429333333333333E-2,0.12268366666666668,0.24211533333333332,7.2722999999999996E-2,0.20341566666666666,9.3862666666666664E-2,0.15510633333333332,0.77278233333333335,0.10479066666666666,0.66559666666666673,9.1221999999999984E-2,2.8202333333333333E-2,0.11186166666666668,0.11440233333333333,0.12163166666666665,0.135931,0.14654333333333333,0.11245766666666666,0.151168,5.5913666666666667E-2,9.6351666666666669E-2,0]
[null,0.95499299999999998,0.205373,0.19386200000000001,0.22450600000000001,null,null,0.95499299999999998,3.3391999999999998E-2,8.6232000000000003E-2,5.9298999999999998E-2,null,null,0.95499299999999998,0.12975500000000001,0.134993,0.121472,null,null,null,0.95499299999999998,0.24149100000000001,0.252114,0.29004200000000002,null,null,0.95499299999999998,8.3119999999999999E-2,7.5184000000000001E-2,7.4680999999999997E-2,null,null,0.95499299999999998,0.228634,0.20229,0.211872,null,null,0.95499299999999998,9.4125E-2,0.104924,9.4474000000000002E-2,null,null,0.95499299999999998,0.1643,0.159076,0.158696,null,null,0.95499299999999998,0.75811799999999996,0.93482399999999999,0.77818500000000002,null,null,0.95499299999999998,0.113398,0.113493,0.10291699999999999,null,null,0.95499299999999998,0.67356000000000005,0.85396499999999997,0.78404200000000002,null,null,0.95499299999999998,9.6059000000000005E-2,9.1742000000000004E-2,9.4326999999999994E-2,null,null,0.95499299999999998,7.6523999999999995E-2,2.1517999999999999E-2,0,null,null,0.95499299999999998,0.11928,0.115268,0.123155,null,null,0.95499299999999998,0.127831,0.123323,0.113062,null,null,0.95499299999999998,0.12712899999999999,0.115729,0.14680399999999999,null,null,0.95499299999999998,0.13470199999999999,0.12756600000000001,0.161498,null,null,0.95499299999999998,0.16622400000000001,0.16115499999999999,0.14155599999999999,null,null,0.95499299999999998,0.10469199999999999,0.127246,0.125662,null,null,0.95499299999999998,0.17022899999999999,0.16573199999999999,0.13999900000000001,null,null,0.95499299999999998,6.2066999999999997E-2,7.2020000000000001E-2,5.9066E-2,null,null,0.95499299999999998,0.105396,0.104308,9.5575999999999994E-2,null,null,0.95499299999999998,0,0,0,null,null,0.95499299999999998,0.20791366666666666,5.9641E-2,0.12873999999999999,0.26121566666666668,7.7661666666666671E-2,0.21426533333333331,9.7840999999999997E-2,0.16069066666666668,0.82370900000000002,0.10993599999999999,0.77052233333333342,9.4042666666666663E-2,3.2680666666666663E-2,0.11923433333333333,0.12140533333333332,0.12988733333333333,0.14125533333333332,0.15631166666666665,0.11919999999999999,0.15865333333333331,6.4384333333333335E-2,0.10176,0]
[null,1.0964780000000001,0.21490300000000001,0.202657,0.23490900000000001,null,null,1.0964780000000001,4.1535999999999997E-2,8.7687000000000001E-2,6.0012000000000003E-2,null,null,1.0964780000000001,0.13284399999999999,0.13841500000000001,0.12504199999999999,null,null,null,1.0964780000000001,0.25773299999999999,0.26938499999999999,0.30864599999999998,null,null,1.0964780000000001,8.7736999999999996E-2,7.5268000000000002E-2,7.4623999999999996E-2,null,null,1.0964780000000001,0.23680899999999999,0.20938399999999999,0.219112,null,null,1.0964780000000001,9.9067000000000002E-2,0.108052,9.6383999999999997E-2,null,null,1.0964780000000001,0.16667000000000001,0.16114500000000001,0.16071299999999999,null,null,1.0964780000000001,0.80123900000000003,0.980263,0.81378700000000004,null,null,1.0964780000000001,0.116882,0.117009,0.10437100000000001,null,null,1.0964780000000001,0.76395900000000005,0.96662000000000003,0.894953,null,null,1.0964780000000001,9.5994999999999997E-2,9.1684000000000002E-2,9.4791E-2,null,null,1.0964780000000001,9.3248999999999999E-2,2.1061E-2,0,null,null,1.0964780000000001,0.124859,0.120771,0.128857,null,null,1.0964780000000001,0.13364500000000001,0.12908500000000001,0.117989,null,null,1.0964780000000001,0.13370099999999999,0.12178899999999999,0.154338,null,null,1.0964780000000001,0.136823,0.12942400000000001,0.164405,null,null,1.0964780000000001,0.17602599999999999,0.17000999999999999,0.149399,null,null,1.0964780000000001,0.109782,0.13180800000000001,0.130222,null,null,1.0964780000000001,0.17618200000000001,0.1714,0.145038,null,null,1.0964780000000001,5.9815E-2,7.2849999999999998E-2,7.6032000000000002E-2,null,null,1.0964780000000001,0.113648,0.108975,0.100263,null,null,1.0964780000000001,0,0,0,null,null,1.0964780000000001,0.21748966666666669,6.3078333333333333E-2,0.13210033333333335,0.278588,7.9209666666666664E-2,0.22176833333333332,0.10116766666666666,0.16284266666666666,0.86509633333333336,0.11275400000000001,0.87517733333333336,9.4156666666666666E-2,3.8103333333333329E-2,0.12482900000000001,0.12690633333333334,0.13660933333333333,0.14355066666666669,0.16514500000000001,0.12393733333333334,0.16420666666666667,6.9565666666666678E-2,0.10762866666666666,0]
[null,1.2589250000000001,0.22675500000000001,0.21370500000000001,0.24736,null,null,1.2589250000000001,5.0345000000000001E-2,9.4143000000000004E-2,6.2826000000000007E-2,null,null,1.2589250000000001,0.137264,0.14293,0.12995799999999999,null,null,null,1.2589250000000001,0.27708500000000003,0.28986800000000001,0.33043400000000001,null,null,1.2589250000000001,9.1785000000000005E-2,8.0768000000000006E-2,8.0132999999999996E-2,null,null,1.2589250000000001,0.24579400000000001,0.217225,0.22709599999999999,null,null,1.2589250000000001,0.103422,0.112607,9.9490999999999996E-2,null,null,1.2589250000000001,0.169991,0.16412199999999999,0.16375799999999999,null,null,1.2589250000000001,0.84829900000000003,1.027423,0.85182599999999997,null,null,1.2589250000000001,0.122059,0.12212000000000001,0.107292,null,null,1.2589250000000001,0.86288299999999996,1.089224,1.016499,null,null,1.2589250000000001,9.6653000000000003E-2,9.2351000000000003E-2,9.6379000000000006E-2,null,null,1.2589250000000001,9.7030000000000005E-2,3.0380000000000001E-2,7.5849999999999997E-3,null,null,1.2589250000000001,0.13262299999999999,0.128357,0.13659499999999999,null,null,1.2589250000000001,0.142512,0.13780500000000001,0.125689,null,null,1.2589250000000001,0.142535,0.129941,0.16405400000000001,null,null,1.2589250000000001,0.14043900000000001,0.132914,0.168986,null,null,1.2589250000000001,0.18989500000000001,0.18260399999999999,0.160661,null,null,1.2589250000000001,0.116936,0.138407,0.13677500000000001,null,null,1.2589250000000001,0.18474699999999999,0.179586,0.152532,null,null,1.2589250000000001,7.2651999999999994E-2,7.8928999999999999E-2,7.7154E-2,null,null,1.2589250000000001,0.121499,0.115007,0.106185,null,null,1.2589250000000001,0,0,0,null,null,1.2589250000000001,0.22927333333333333,6.9104666666666661E-2,0.13671733333333333,0.29912900000000003,8.4228666666666674E-2,0.23003833333333334,0.10517333333333334,0.16595699999999999,0.90918266666666669,0.117157,0.98953533333333332,9.5127666666666666E-2,4.4998333333333335E-2,0.132525,0.13533533333333334,0.14551,0.14744633333333335,0.17772000000000002,0.13070599999999999,0.17228833333333335,7.6244999999999993E-2,0.11423033333333332,0]
[null,1.4454400000000001,0.24573500000000001,0.231512,0.26755099999999998,null,null,1.4454400000000001,7.1909000000000001E-2,0.10276200000000001,7.4527999999999997E-2,null,null,1.4454400000000001,0.14578199999999999,0.15172099999999999,0.13900499999999999,null,null,null,1.4454400000000001,0.304979,0.31920100000000001,0.361732,null,null,1.4454400000000001,9.9279000000000006E-2,8.6861999999999995E-2,8.6323999999999998E-2,null,null,1.4454400000000001,0.260569,0.23027400000000001,0.24048,null,null,1.4454400000000001,0.111919,0.12110899999999999,0.106089,null,null,1.4454400000000001,0.17835500000000001,0.17197100000000001,0.17188200000000001,null,null,1.4454400000000001,0.91118200000000005,1.090193,0.90428799999999998,null,null,1.4454400000000001,0.13133400000000001,0.131276,0.113966,null,null,1.4454400000000001,0.98263299999999998,1.2384660000000001,1.165335,null,null,1.4454400000000001,0.100342,9.5942E-2,0.101356,null,null,1.4454400000000001,0.108378,4.8422E-2,4.7537000000000003E-2,null,null,1.4454400000000001,0.14566699999999999,0.14103199999999999,0.14915900000000001,null,null,1.4454400000000001,0.15790599999999999,0.15282999999999999,0.139381,null,null,1.4454400000000001,0.156333,0.142682,0.179338,null,null,1.4454400000000001,0.14929999999999999,0.14135800000000001,0.179698,null,null,1.4454400000000001,0.212558,0.203459,0.17938200000000001,null,null,1.4454400000000001,0.12853600000000001,0.14974199999999999,0.14796799999999999,null,null,1.4454400000000001,0.20044300000000001,0.19472800000000001,0.16636899999999999,null,null,1.4454400000000001,9.4626000000000002E-2,8.5968000000000003E-2,8.6549000000000001E-2,null,null,1.4454400000000001,0.13329199999999999,0.123737,0.11461300000000001,null,null,1.4454400000000001,0,0,4.215E-2,null,null,1.4454400000000001,0.24826599999999999,8.3066333333333339E-2,0.14550266666666664,0.32863733333333328,9.0821666666666676E-2,0.24377433333333334,0.113039,0.17406933333333333,0.96855433333333318,0.12552533333333335,1.1288113333333334,9.9213333333333334E-2,6.811233333333333E-2,0.145286,0.15003900000000001,0.15945100000000001,0.15678533333333333,0.19846633333333333,0.14208200000000001,0.18718000000000001,8.9047666666666678E-2,0.12388066666666668,1.405E-2]
[null,1.6595869999999999,0.27440799999999999,0.25844899999999998,0.29849599999999998,null,null,1.6595869999999999,7.8214000000000006E-2,0.115953,0.10193099999999999,null,null,1.6595869999999999,0.16031300000000001,0.16670599999999999,0.154059,null,null,null,1.6595869999999999,0.34376899999999999,0.35981999999999997,0.40534100000000001,null,null,1.6595869999999999,0.110737,9.6965999999999997E-2,9.6557000000000004E-2,null,null,1.6595869999999999,0.28379900000000002,0.25094699999999998,0.26178899999999999,null,null,1.6595869999999999,0.125416,0.13514399999999999,0.117728,null,null,1.6595869999999999,0.19431899999999999,0.187193,0.187642,null,null,1.6595869999999999,0.99507999999999996,1.175181,0.97680500000000003,null,null,1.6595869999999999,0.146256,0.14615700000000001,0.125997,null,null,1.6595869999999999,1.1259079999999999,1.4193709999999999,1.346983,null,null,1.6595869999999999,0.108732,0.104033,0.111281,null,null,1.6595869999999999,0.123936,5.5965000000000001E-2,6.5472000000000002E-2,null,null,1.6595869999999999,0.16597700000000001,0.160694,0.16826099999999999,null,null,1.6595869999999999,0.18195,0.17618800000000001,0.16100999999999999,null,null,1.6595869999999999,0.17677399999999999,0.161576,0.20202400000000001,null,null,1.6595869999999999,0.16578399999999999,0.157115,0.19942399999999999,null,null,1.6595869999999999,0.24670300000000001,0.235121,0.20784,null,null,1.6595869999999999,0.146146,0.167708,0.16567100000000001,null,null,1.6595869999999999,0.225965,0.219496,0.18890000000000001,null,null,1.6595869999999999,0.104203,9.7345000000000001E-2,9.7859000000000002E-2,null,null,1.6595869999999999,0.149035,0.135986,0.12634699999999999,null,null,1.6595869999999999,0,0,8.6491999999999999E-2,null,null,1.6595869999999999,0.27711766666666665,9.8699333333333319E-2,0.16035933333333333,0.36964333333333332,0.10142,0.26551166666666665,0.12609600000000001,0.18971799999999997,1.0490220000000001,0.13947000000000001,1.2974206666666666,0.10801533333333334,8.1791000000000003E-2,0.16497733333333334,0.17304933333333331,0.18012466666666668,0.17410766666666666,0.22988800000000001,0.15984166666666666,0.21145366666666665,9.9802333333333326E-2,0.13712266666666664,2.8830666666666668E-2]
[null,1.9054610000000001,0.31300800000000001,0.29467700000000002,0.34080100000000002,null,null,1.9054610000000001,9.1329999999999995E-2,0.133412,0.11507100000000001,null,null,1.9054610000000001,0.181121,0.188226,0.17544399999999999,null,null,null,1.9054610000000001,0.39342300000000002,0.41171400000000002,0.461312,null,null,1.9054610000000001,0.126364,0.110524,0.110278,null,null,1.9054610000000001,0.31586399999999998,0.279615,0.29140500000000003,null,null,1.9054610000000001,0.14433399999999999,0.154808,0.13458000000000001,null,null,1.9054610000000001,0.21843000000000001,0.210338,0.21159,null,null,1.9054610000000001,1.0995090000000001,1.2823070000000001,1.0690459999999999,null,null,1.9054610000000001,0.16684499999999999,0.16696900000000001,0.143454,null,null,1.9054610000000001,1.290262,1.6302449999999999,1.5604,null,null,1.9054610000000001,0.122045,0.116809,0.12621299999999999,null,null,1.9054610000000001,0.145371,8.548E-2,7.6990000000000003E-2,null,null,1.9054610000000001,0.19411300000000001,0.187885,0.19414500000000001,null,null,1.9054610000000001,0.215056,0.208257,0.19097700000000001,null,null,1.9054610000000001,0.204128,0.18690000000000001,0.23246800000000001,null,null,1.9054610000000001,0.190473,0.180757,0.22897000000000001,null,null,1.9054610000000001,0.29311399999999999,0.278252,0.246614,null,null,1.9054610000000001,0.170127,0.192691,0.19028100000000001,null,null,1.9054610000000001,0.26203100000000001,0.25461099999999998,0.22076999999999999,null,null,1.9054610000000001,0.121062,0.11283899999999999,0.113745,null,null,1.9054610000000001,0.16883000000000001,0.151644,0.14136899999999999,null,null,1.9054610000000001,2.3049E-2,0,9.9085000000000006E-2,null,null,1.9054610000000001,0.316162,0.11327100000000001,0.18159700000000001,0.42214966666666665,0.11572199999999999,0.295628,0.14457400000000001,0.21345266666666665,1.1502873333333332,0.15908933333333333,1.4936356666666668,0.12168900000000001,0.10261366666666667,0.1920476666666667,0.20476333333333332,0.20783200000000002,0.2000666666666667,0.27266000000000001,0.18436633333333333,0.24580400000000002,0.115882,0.15394766666666668,4.0711333333333335E-2]
[null,2.1877620000000002,0.35865399999999997,0.33743800000000002,0.39149800000000001,null,null,2.1877620000000002,0.105685,0.15377199999999999,0.133023,null,null,2.1877620000000002,0.206458,0.21451899999999999,0.201489,null,null,null,2.1877620000000002,0.45003599999999999,0.47084599999999999,0.52527400000000002,null,null,2.1877620000000002,0.14469799999999999,0.12647600000000001,0.12637799999999999,null,null,2.1877620000000002,0.354014,0.31381700000000001,0.32676699999999997,null,null,2.1877620000000002,0.167077,0.178289,0.155082,null,null,2.1877620000000002,0.248779,0.23955699999999999,0.241812,null,null,2.1877620000000002,1.215427,1.4019410000000001,1.1723399999999999,null,null,2.1877620000000002,0.19117600000000001,0.191936,0.16455400000000001,null,null,2.1877620000000002,1.462429,1.854846,1.7896179999999999,null,null,2.1877620000000002,0.13891200000000001,0.13293199999999999,0.144536,null,null,2.1877620000000002,0.171232,0.100161,9.1398999999999994E-2,null,null,2.1877620000000002,0.228466,0.22106700000000001,0.22501099999999999,null,null,2.1877620000000002,0.25514900000000001,0.24701000000000001,0.22743099999999999,null,null,2.1877620000000002,0.23658299999999999,0.21701000000000001,0.26866099999999998,null,null,2.1877620000000002,0.221636,0.210651,0.26639800000000002,null,null,2.1877620000000002,0.34929100000000002,0.33037699999999998,0.29344300000000001,null,null,2.1877620000000002,0.19897699999999999,0.222971,0.22012000000000001,null,null,2.1877620000000002,0.30635400000000002,0.29782700000000001,0.26002799999999998,null,null,2.1877620000000002,0.140873,0.13166900000000001,0.132906,null,null,2.1877620000000002,0.19122,0.169431,0.158552,null,null,2.1877620000000002,6.7707000000000003E-2,6.2767000000000003E-2,0.11810900000000001,null,null,2.1877620000000002,0.36253000000000002,0.13082666666666667,0.20748866666666665,0.48205199999999998,0.13251733333333335,0.3315326666666667,0.16681599999999999,0.24338266666666666,1.263236,0.18255533333333332,1.7022976666666665,0.13879333333333332,0.12093066666666667,0.22484800000000002,0.24319666666666664,0.24075133333333332,0.23289499999999999,0.32437033333333332,0.21402266666666667,0.28806966666666667,0.13514933333333334,0.17306766666666665,8.2861000000000004E-2]
[null,2.5118860000000001,0.408244,0.38381199999999999,0.44703900000000002,null,null,2.5118860000000001,0.121044,0.17519299999999999,0.15159800000000001,null,null,2.5118860000000001,0.234101,0.24330399999999999,0.23000799999999999,null,null,null,2.5118860000000001,0.50907100000000005,0.53252100000000002,0.59216500000000005,null,null,2.5118860000000001,0.163908,0.14319100000000001,0.143153,null,null,2.5118860000000001,0.39486199999999999,0.35045599999999999,0.36467100000000002,null,null,2.5118860000000001,0.19150300000000001,0.20324700000000001,0.17710699999999999,null,null,2.5118860000000001,0.28299299999999999,0.272505,0.275889,null,null,2.5118860000000001,1.332524,1.522888,1.276635,null,null,2.5118860000000001,0.216804,0.218616,0.18690699999999999,null,null,2.5118860000000001,1.6290119999999999,2.075653,2.0167660000000001,null,null,2.5118860000000001,0.15751200000000001,0.150645,0.16419700000000001,null,null,2.5118860000000001,0.19997000000000001,0.118129,0.108042,null,null,2.5118860000000001,0.26691100000000001,0.258212,0.25870599999999999,null,null,2.5118860000000001,0.299707,0.289989,0.26810800000000001,null,null,2.5118860000000001,0.27186700000000003,0.24981300000000001,0.30808999999999997,null,null,2.5118860000000001,0.25705600000000001,0.24465700000000001,0.30914999999999998,null,null,2.5118860000000001,0.41202,0.388345,0.34542499999999998,null,null,2.5118860000000001,0.23065099999999999,0.256187,0.25286199999999998,null,null,2.5118860000000001,0.35585600000000001,0.346082,0.30403999999999998,null,null,2.5118860000000001,0.16286800000000001,0.15237000000000001,0.15412899999999999,null,null,2.5118860000000001,0.21477299999999999,0.18796099999999999,0.17662900000000001,null,null,2.5118860000000001,8.1370999999999999E-2,7.3482000000000006E-2,0.139044,null,null,2.5118860000000001,0.41303166666666669,0.14927833333333332,0.23580433333333331,0.54458566666666675,0.150084,0.36999633333333332,0.19061900000000001,0.27712900000000001,1.3773489999999999,0.20744233333333337,1.9071436666666666,0.15745133333333336,0.14204700000000001,0.26127633333333333,0.28593466666666667,0.27659,0.2702876666666667,0.38192999999999994,0.24656666666666668,0.33532599999999996,0.15645566666666666,0.19312099999999999,9.7965666666666673E-2]
[null,2.8840309999999998,0.45924500000000001,0.43148599999999998,0.50412900000000005,null,null,2.8840309999999998,0.135907,0.19583999999999999,0.169487,null,null,2.8840309999999998,0.26195099999999999,0.27237699999999998,0.258851,null,null,null,2.8840309999999998,0.56603000000000003,0.59206899999999996,0.65702799999999995,null,null,2.8840309999999998,0.18216599999999999,0.159051,0.15890499999999999,null,null,2.8840309999999998,0.43524600000000002,0.38658500000000001,0.40209099999999998,null,null,2.8840309999999998,0.21530099999999999,0.22733200000000001,0.19845299999999999,null,null,2.8840309999999998,0.31901000000000002,0.30709999999999998,0.31167800000000001,null,null,2.8840309999999998,1.4408129999999999,1.634538,1.372484,null,null,2.8840309999999998,0.24131900000000001,0.24437600000000001,0.20810300000000001,null,null,2.8840309999999998,1.7786139999999999,2.276716,2.2249979999999998,null,null,2.8840309999999998,0.176179,0.168355,0.18332799999999999,null,null,2.8840309999999998,0.22967399999999999,0.13696800000000001,0.12561,null,null,2.8840309999999998,0.30705100000000002,0.297018,0.29311799999999999,null,null,2.8840309999999998,0.34611900000000001,0.33466600000000002,0.31062800000000002,null,null,2.8840309999999998,0.30752699999999999,0.28301300000000001,0.34804200000000002,null,null,2.8840309999999998,0.29465599999999997,0.280725,0.35474499999999998,null,null,2.8840309999999998,0.477551,0.44859500000000002,0.39927299999999999,null,null,2.8840309999999998,0.26277,0.28968899999999997,0.285881,null,null,2.8840309999999998,0.40709200000000001,0.39592300000000002,0.3498,null,null,2.8840309999999998,0.18510599999999999,0.17314199999999999,0.17563699999999999,null,null,2.8840309999999998,0.23827200000000001,0.20610000000000001,0.19451499999999999,null,null,2.8840309999999998,9.7752000000000006E-2,8.8578000000000004E-2,0.16120200000000001,null,null,2.8840309999999998,0.46495333333333333,0.16707799999999998,0.26439299999999993,0.60504233333333335,0.16670733333333332,0.407974,0.21369533333333335,0.31259599999999998,1.4826116666666664,0.231266,2.0934426666666663,0.17595400000000003,0.16408400000000001,0.29906233333333332,0.33047100000000001,0.31286066666666668,0.31004199999999998,0.44180633333333336,0.27944666666666668,0.38427166666666662,0.17796166666666666,0.21296233333333334,0.115844]
[null,3.3113109999999999,0.51015600000000005,0.47914600000000002,0.56046300000000004,null,null,3.3113109999999999,0.14913599999999999,0.21431700000000001,0.18557599999999999,null,null,3.3113109999999999,0.28853800000000002,0.30013099999999998,0.286412,null,null,null,3.3113109999999999,0.61729599999999996,0.64571699999999999,0.71590500000000001,null,null,3.3113109999999999,0.198157,0.17288300000000001,0.17241600000000001,null,null,3.3113109999999999,0.47284999999999999,0.42002499999999998,0.43680600000000003,null,null,3.3113109999999999,0.236592,0.24871199999999999,0.21735599999999999,null,null,3.3113109999999999,0.35549500000000001,0.34196199999999999,0.34777599999999997,null,null,3.3113109999999999,1.5318499999999999,1.7281340000000001,1.452272,null,null,3.3113109999999999,0.26289400000000002,0.26703100000000002,0.22630900000000001,null,null,3.3113109999999999,1.903967,2.446704,2.4019089999999998,null,null,3.3113109999999999,0.19380500000000001,0.18501200000000001,0.200686,null,null,3.3113109999999999,0.25856699999999999,0.155085,0.142599,null,null,3.3113109999999999,0.34666599999999997,0.33533000000000002,0.32660400000000001,null,null,3.3113109999999999,0.39215699999999998,0.37891599999999998,0.35289900000000002,null,null,3.3113109999999999,0.34136,0.31451600000000002,0.38605600000000001,null,null,3.3113109999999999,0.33297599999999999,0.317384,0.40138000000000001,null,null,3.3113109999999999,0.54225500000000004,0.50778000000000001,0.45193699999999998,null,null,3.3113109999999999,0.29310000000000003,0.321079,0.31679200000000002,null,null,3.3113109999999999,0.45686399999999999,0.44416699999999998,0.39443699999999998,null,null,3.3113109999999999,0.20572299999999999,0.19225600000000001,0.19564899999999999,null,null,3.3113109999999999,0.260965,0.22325200000000001,0.21161099999999999,null,null,3.3113109999999999,0.113941,0.103959,0.18361,null,null,3.3113109999999999,0.51658833333333343,0.18300966666666665,0.29169366666666668,0.65963933333333336,0.18115200000000001,0.44322699999999998,0.23421999999999998,0.34841100000000003,1.5707519999999999,0.25207799999999997,2.2508599999999999,0.19316766666666665,0.18541700000000003,0.3362,0.37465733333333334,0.34731066666666671,0.35058000000000006,0.5006573333333334,0.31032366666666666,0.43182266666666663,0.19787599999999997,0.23194266666666666,0.13383666666666666]
[null,3.8018939999999999,0.56044000000000005,0.52637699999999998,0.61487899999999995,null,null,3.8018939999999999,0.16012199999999999,0.229824,0.199132,null,null,3.8018939999999999,0.31317299999999998,0.32575100000000001,0.31182900000000002,null,null,null,3.8018939999999999,0.66048099999999998,0.69093800000000005,0.76614000000000004,null,null,3.8018939999999999,0.21127299999999999,0.18415599999999999,0.183173,null,null,3.8018939999999999,0.50639000000000001,0.44958900000000002,0.46760099999999999,null,null,3.8018939999999999,0.25422699999999998,0.266314,0.23274800000000001,null,null,3.8018939999999999,0.39183899999999999,0.37645000000000001,0.383544,null,null,3.8018939999999999,1.598997,1.7968789999999999,1.5103629999999999,null,null,3.8018939999999999,0.28046700000000002,0.28515800000000002,0.24052699999999999,null,null,3.8018939999999999,2.0016509999999998,2.5789149999999998,2.5397989999999999,null,null,3.8018939999999999,0.20995,0.200207,0.21577199999999999,null,null,3.8018939999999999,0.28519499999999998,0.17172399999999999,0.15826200000000001,null,null,3.8018939999999999,0.38395299999999999,0.37137399999999998,0.35805599999999999,null,null,3.8018939999999999,0.436116,0.42114400000000002,0.39326100000000003,null,null,3.8018939999999999,0.37156400000000001,0.342584,0.42009200000000002,null,null,3.8018939999999999,0.37134600000000001,0.35393200000000002,0.44815199999999999,null,null,3.8018939999999999,0.60301899999999997,0.56308000000000002,0.50090599999999996,null,null,3.8018939999999999,0.31979200000000002,0.34848899999999999,0.34373999999999999,null,null,3.8018939999999999,0.50256000000000001,0.48825099999999999,0.43548700000000001,null,null,3.8018939999999999,0.223222,0.20833099999999999,0.212673,null,null,3.8018939999999999,0.282304,0.23913000000000001,0.22762499999999999,null,null,3.8018939999999999,0.131602,0.120779,0.204928,null,null,3.8018939999999999,0.56723199999999996,0.19635933333333333,0.31691766666666671,0.70585299999999995,0.19286733333333331,0.47452666666666671,0.25109633333333331,0.38394433333333328,1.6354129999999998,0.26871733333333331,2.3734549999999999,0.208643,0.20506033333333332,0.37112766666666669,0.41684033333333331,0.37808000000000003,0.3911433333333334,0.55566833333333332,0.33734033333333335,0.47543266666666667,0.21474199999999999,0.24968633333333332,0.15243633333333331]
[null,4.3651580000000001,0.61001300000000003,0.57313700000000001,0.66688499999999995,null,null,4.3651580000000001,0.168654,0.24209700000000001,0.20998,null,null,4.3651580000000001,0.33582600000000001,0.34912599999999999,0.33487299999999998,null,null,null,4.3651580000000001,0.69448399999999999,0.72653599999999996,0.80642800000000003,null,null,4.3651580000000001,0.221606,0.19297700000000001,0.191357,null,null,4.3651580000000001,0.53559800000000002,0.475076,0.49426999999999999,null,null,4.3651580000000001,0.267822,0.27993099999999999,0.24437300000000001,null,null,4.3651580000000001,0.42779800000000001,0.41033799999999998,0.41874699999999998,null,null,4.3651580000000001,1.638398,1.8369759999999999,1.5439080000000001,null,null,4.3651580000000001,0.29374099999999997,0.29819899999999999,0.25065999999999999,null,null,4.3651580000000001,2.0717979999999998,2.671449,2.6360519999999998,null,null,4.3651580000000001,0.224771,0.21412200000000001,0.22881399999999999,null,null,4.3651580000000001,0.30826900000000002,0.18587899999999999,0.17159199999999999,null,null,4.3651580000000001,0.41734500000000002,0.40362300000000001,0.386627,null,null,4.3651580000000001,0.47644999999999998,0.45991900000000002,0.430226,null,null,4.3651580000000001,0.39661800000000003,0.36572399999999999,0.44840200000000002,null,null,4.3651580000000001,0.40962199999999999,0.39016600000000001,0.49470799999999998,null,null,4.3651580000000001,0.65692099999999998,0.61190100000000003,0.54393499999999995,null,null,4.3651580000000001,0.34133599999999997,0.37055900000000003,0.36536999999999997,null,null,4.3651580000000001,0.542072,0.52615599999999996,0.47084599999999999,null,null,4.3651580000000001,0.23646500000000001,0.22037300000000001,0.225525,null,null,4.3651580000000001,0.30131000000000002,0.25318299999999999,0.24201,null,null,4.3651580000000001,0.14775199999999999,0.13639399999999999,0.22322500000000001,null,null,4.3651580000000001,0.61667833333333333,0.20691033333333331,0.33994166666666664,0.74248266666666662,0.20198000000000002,0.50164799999999998,0.26404199999999994,0.41896099999999997,1.6730940000000001,0.28086666666666665,2.4597663333333331,0.22256899999999999,0.22191333333333332,0.40253166666666668,0.45553166666666667,0.40358133333333335,0.43149866666666664,0.60425233333333328,0.35908833333333329,0.51302466666666657,0.22745433333333334,0.26550099999999999,0.16912366666666667]
[null,5.0118720000000003,0.66052200000000005,0.620973,0.71813800000000005,null,null,5.0118720000000003,0.17527599999999999,0.25180900000000001,0.218698,null,null,5.0118720000000003,0.35779,0.37156499999999998,0.35669200000000001,null,null,null,5.0118720000000003,0.72075,0.75401700000000005,0.83834900000000001,null,null,5.0118720000000003,0.23024600000000001,0.200352,0.19808700000000001,null,null,5.0118720000000003,0.56211999999999995,0.49806,0.51844400000000002,null,null,5.0118720000000003,0.27829100000000001,0.290738,0.25326599999999999,null,null,5.0118720000000003,0.46443899999999999,0.44471300000000002,0.45446500000000001,null,null,5.0118720000000003,1.651281,1.849907,1.554559,null,null,5.0118720000000003,0.30365399999999998,0.30704599999999999,0.25787500000000002,null,null,5.0118720000000003,2.12005,2.7303999999999999,2.69665,null,null,5.0118720000000003,0.23938799999999999,0.22786799999999999,0.24110100000000001,null,null,5.0118720000000003,0.32755000000000001,0.19745699999999999,0.182426,null,null,5.0118720000000003,0.446743,0.43198999999999999,0.41264099999999998,null,null,5.0118720000000003,0.51314300000000002,0.49526100000000001,0.46376400000000001,null,null,5.0118720000000003,0.41622199999999998,0.38359100000000002,0.47062199999999998,null,null,5.0118720000000003,0.44931100000000002,0.427479,0.542659,null,null,5.0118720000000003,0.70322499999999999,0.65372699999999995,0.58064199999999999,null,null,5.0118720000000003,0.35746600000000001,0.387351,0.38171300000000002,null,null,5.0118720000000003,0.57536100000000001,0.55790099999999998,0.50025799999999998,null,null,5.0118720000000003,0.24538299999999999,0.22837399999999999,0.23400000000000001,null,null,5.0118720000000003,0.31690299999999999,0.26469799999999999,0.25409199999999998,null,null,5.0118720000000003,0.16136400000000001,0.14971200000000001,0.23644100000000001,null,null,5.0118720000000003,0.66654433333333341,0.21526100000000001,0.36201566666666668,0.77103866666666665,0.20956166666666667,0.52620800000000001,0.27409833333333333,0.45453900000000003,1.685249,0.28952500000000003,2.5157000000000003,0.236119,0.23581099999999999,0.43045800000000001,0.4907226666666667,0.42347833333333335,0.47314966666666664,0.64586466666666664,0.37551000000000001,0.54450666666666658,0.23591899999999999,0.27856433333333336,0.18250566666666668]
[null,5.7543990000000003,0.71280900000000003,0.67065799999999998,0.76987700000000003,null,null,5.7543990000000003,0.18080099999999999,0.25990600000000003,0.226101,null,null,5.7543990000000003,0.38047199999999998,0.39458399999999999,0.37864700000000001,null,null,null,5.7543990000000003,0.74161500000000002,0.77588599999999996,0.864456,null,null,5.7543990000000003,0.238563,0.207563,0.204816,null,null,5.7543990000000003,0.58795200000000003,0.52050399999999997,0.54214499999999999,null,null,5.7543990000000003,0.28717500000000001,0.30057899999999999,0.26116,null,null,5.7543990000000003,0.50234199999999996,0.48027199999999998,0.49133399999999999,null,null,5.7543990000000003,1.6425700000000001,1.840905,1.5470520000000001,null,null,5.7543990000000003,0.31170799999999999,0.31342199999999998,0.26400400000000002,null,null,5.7543990000000003,2.153572,2.7648790000000001,2.7310750000000001,null,null,5.7543990000000003,0.25498599999999999,0.242621,0.25417400000000001,null,null,5.7543990000000003,0.34301199999999998,0.20649000000000001,0.19073300000000001,null,null,5.7543990000000003,0.47220699999999999,0.45656200000000002,0.43633899999999998,null,null,5.7543990000000003,0.54612300000000003,0.52710100000000004,0.493842,null,null,5.7543990000000003,0.43033900000000003,0.39613199999999998,0.48672100000000001,null,null,5.7543990000000003,0.491701,0.46712599999999999,0.59334600000000004,null,null,5.7543990000000003,0.74135399999999996,0.68830999999999998,0.61089899999999997,null,null,5.7543990000000003,0.36840499999999998,0.39949099999999999,0.39335799999999999,null,null,5.7543990000000003,0.60294499999999995,0.58409900000000003,0.52407999999999999,null,null,5.7543990000000003,0.25053199999999998,0.23291400000000001,0.23849200000000001,null,null,5.7543990000000003,0.32702599999999998,0.27202999999999999,0.262266,null,null,5.7543990000000003,0.16975799999999999,0.15810099999999999,0.24201600000000001,null,null,5.7543990000000003,0.71778133333333338,0.22226933333333335,0.38456766666666664,0.79398566666666659,0.21698066666666668,0.55020033333333329,0.2829713333333333,0.49131599999999992,1.6768423333333333,0.29637799999999997,2.5498419999999999,0.25059366666666666,0.24674499999999999,0.455036,0.52235533333333339,0.43773066666666666,0.51739100000000005,0.68018766666666652,0.38708466666666669,0.57037466666666659,0.240646,0.28710733333333333,0.18995833333333334]
[null,6.6069339999999999,0.769258,0.72441500000000003,0.82522600000000002,null,null,6.6069339999999999,0.18645,0.26785599999999998,0.23344400000000001,null,null,6.6069339999999999,0.40625600000000001,0.42078700000000002,0.40320400000000001,null,null,null,6.6069339999999999,0.76103200000000004,0.79637199999999997,0.88922500000000004,null,null,6.6069339999999999,0.24823700000000001,0.21617400000000001,0.21327399999999999,null,null,6.6069339999999999,0.61637900000000001,0.54553300000000005,0.56858500000000001,null,null,6.6069339999999999,0.29694500000000001,0.31223899999999999,0.270706,null,null,6.6069339999999999,0.54337199999999997,0.518953,0.53126600000000002,null,null,6.6069339999999999,1.620371,1.8182929999999999,1.528662,null,null,6.6069339999999999,0.32020799999999999,0.32003900000000002,0.27160899999999999,null,null,6.6069339999999999,2.181759,2.7875519999999998,2.7527499999999998,null,null,6.6069339999999999,0.27330199999999999,0.260077,0.27015600000000001,null,null,6.6069339999999999,0.35581800000000002,0.213786,0.19722999999999999,null,null,6.6069339999999999,0.49544899999999997,0.47900999999999999,0.45915899999999998,null,null,6.6069339999999999,0.57725499999999996,0.557203,0.52223399999999998,null,null,6.6069339999999999,0.44010300000000002,0.40443200000000001,0.49806800000000001,null,null,6.6069339999999999,0.53978999999999999,0.51206300000000005,0.65021600000000002,null,null,6.6069339999999999,0.77329999999999999,0.71782599999999996,0.63672300000000004,null,null,6.6069339999999999,0.37559300000000001,0.40885700000000003,0.40213599999999999,null,null,6.6069339999999999,0.62748199999999998,0.60745300000000002,0.54474100000000003,null,null,6.6069339999999999,0.25343599999999999,0.23544899999999999,0.24034700000000001,null,null,6.6069339999999999,0.32940399999999997,0.27309099999999997,0.26449299999999998,null,null,6.6069339999999999,0.170538,0.15906200000000001,0.23787,null,null,6.6069339999999999,0.77296633333333331,0.22924999999999998,0.41008233333333327,0.81554300000000002,0.22589499999999998,0.57683233333333339,0.29329666666666665,0.53119700000000003,1.6557753333333334,0.303952,2.5740203333333329,0.26784500000000006,0.25561133333333336,0.47787266666666667,0.55223066666666665,0.44753433333333331,0.56735633333333324,0.709283,0.3955286666666667,0.59322533333333338,0.24307733333333334,0.28899599999999998,0.18915666666666667]
[null,7.5857760000000001,0.829291,0.78161800000000003,0.88451199999999996,null,null,7.5857760000000001,0.19304099999999999,0.27654899999999999,0.24145,null,null,7.5857760000000001,0.436137,0.45141500000000001,0.43163200000000002,null,null,null,7.5857760000000001,0.78165899999999999,0.81831100000000001,0.91555200000000003,null,null,7.5857760000000001,0.259909,0.226822,0.224242,null,null,7.5857760000000001,0.64906399999999997,0.57481300000000002,0.59940300000000002,null,null,7.5857760000000001,0.30969099999999999,0.32796700000000001,0.284192,null,null,7.5857760000000001,0.58746699999999996,0.56087900000000002,0.57432499999999997,null,null,7.5857760000000001,1.5939509999999999,1.791266,1.507344,null,null,7.5857760000000001,0.33101399999999997,0.32933200000000001,0.282781,null,null,7.5857760000000001,2.2104720000000002,2.8075580000000002,2.771617,null,null,7.5857760000000001,0.29490100000000002,0.28079500000000002,0.29010599999999998,null,null,7.5857760000000001,0.36700100000000002,0.220083,0.202623,null,null,7.5857760000000001,0.517621,0.50043000000000004,0.48171999999999998,null,null,7.5857760000000001,0.60776399999999997,0.58669400000000005,0.55013900000000004,null,null,7.5857760000000001,0.44655600000000001,0.409584,0.50598799999999999,null,null,7.5857760000000001,0.59451200000000004,0.56341300000000005,0.71435199999999999,null,null,7.5857760000000001,0.800535,0.74396499999999999,0.65973300000000001,null,null,7.5857760000000001,0.38055899999999998,0.417186,0.409798,null,null,7.5857760000000001,0.65109600000000001,0.63021000000000005,0.56442999999999999,null,null,7.5857760000000001,0.25582300000000002,0.23761699999999999,0.241233,null,null,7.5857760000000001,0.321378,0.26531100000000002,0.25817099999999998,null,null,7.5857760000000001,0.161939,0.15084700000000001,0.22291800000000001,null,null,7.5857760000000001,0.83180699999999996,0.2370133333333333,0.43972799999999995,0.83850733333333327,0.23699100000000003,0.60775999999999997,0.30728333333333335,0.57422366666666669,1.6308536666666666,0.31437566666666666,2.596549,0.28860066666666667,0.2632356666666667,0.49992366666666666,0.58153233333333343,0.45404266666666665,0.62409233333333336,0.73474433333333333,0.40251433333333325,0.61524533333333331,0.244891,0.28161999999999998,0.17856799999999998]
[null,8.7096359999999997,0.893563,0.84275100000000003,0.94913099999999995,null,null,8.7096359999999997,0.201125,0.286574,0.25057099999999999,null,null,8.7096359999999997,0.47134900000000002,0.487956,0.46550399999999997,null,null,null,8.7096359999999997,0.80519399999999997,0.84345999999999999,0.94535800000000003,null,null,8.7096359999999997,0.273422,0.23940700000000001,0.237676,null,null,8.7096359999999997,0.68772,0.60996600000000001,0.63615500000000003,null,null,8.7096359999999997,0.32740900000000001,0.34987099999999999,0.30377399999999999,null,null,8.7096359999999997,0.63575300000000001,0.607263,0.62176799999999999,null,null,8.7096359999999997,1.569823,1.765784,1.488405,null,null,8.7096359999999997,0.34572399999999998,0.34335300000000002,0.299207,null,null,8.7096359999999997,2.242108,2.829097,2.7923469999999999,null,null,8.7096359999999997,0.320328,0.30529699999999999,0.31488500000000003,null,null,8.7096359999999997,0.37821900000000003,0.226436,0.20794799999999999,null,null,8.7096359999999997,0.54070799999999997,0.52269299999999996,0.50539400000000001,null,null,8.7096359999999997,0.64051100000000005,0.61831499999999995,0.58025800000000005,null,null,8.7096359999999997,0.45114500000000002,0.413076,0.51231899999999997,null,null,8.7096359999999997,0.65820000000000001,0.62368100000000004,0.78856199999999999,null,null,8.7096359999999997,0.82602100000000001,0.76973999999999998,0.68271099999999996,null,null,8.7096359999999997,0.385079,0.42629299999999998,0.41821199999999997,null,null,8.7096359999999997,0.67663399999999996,0.65532599999999996,0.58605200000000002,null,null,8.7096359999999997,0.259413,0.24102999999999999,0.242893,null,null,8.7096359999999997,0.30059599999999997,0.24621199999999999,0.24071699999999999,null,null,8.7096359999999997,0.14238899999999999,0.131492,0.19736400000000001,null,null,8.7096359999999997,0.89514833333333332,0.24609,0.47493633333333335,0.8646706666666667,0.25016833333333333,0.64461366666666675,0.32701799999999998,0.62159466666666663,1.608004,0.329428,2.621184,0.3135033333333333,0.27086766666666667,0.52293166666666657,0.61302800000000002,0.45884666666666662,0.69014766666666671,0.75949066666666665,0.40986133333333336,0.63933733333333331,0.24777866666666667,0.26250833333333329,0.15708166666666667]
[null,10,0.95818800000000004,0.90392600000000001,1.0155369999999999,null,null,10,0.210092,0.29713600000000001,0.26000699999999999,null,null,10,0.51010299999999997,0.52871000000000001,0.50347699999999995,null,null,null,10,0.82936600000000005,0.86928899999999998,0.97592500000000004,null,null,10,0.28647499999999998,0.251828,0.25134899999999999,null,null,10,0.730568,0.64933700000000005,0.67694900000000002,null,null,10,0.35007300000000002,0.37759599999999999,0.329351,null,null,10,0.68628699999999998,0.656308,0.67185300000000003,null,null,10,1.552211,1.745126,1.4747699999999999,null,null,10,0.36397600000000002,0.362043,0.32035999999999998,null,null,10,2.2714509999999999,2.8473670000000002,2.810146,null,null,10,0.34785500000000003,0.331901,0.34284900000000001,null,null,10,0.39031900000000003,0.233351,0.213814,null,null,10,0.56478300000000004,0.54584100000000002,0.52981599999999995,null,null,10,0.67649999999999999,0.65307199999999999,0.61360099999999995,null,null,10,0.45481500000000002,0.41598499999999999,0.51824700000000001,null,null,10,0.72870100000000004,0.69113599999999997,0.87047699999999995,null,null,10,0.85082100000000005,0.79618299999999997,0.706646,null,null,10,0.39016400000000001,0.436608,0.42796699999999999,null,null,10,0.70447300000000002,0.683311,0.61039500000000002,null,null,10,0.26505200000000001,0.24646399999999999,0.246471,null,null,10,0.26721,0.21557699999999999,0.21169299999999999,null,null,10,0.11516800000000001,0.104592,0.16499900000000001,null,null,10,0.9592170000000001,0.255745,0.51409666666666665,0.89152666666666669,0.26321733333333336,0.68561799999999995,0.35234000000000004,0.67148266666666656,1.5907023333333334,0.34879299999999996,2.6429880000000003,0.34086833333333333,0.27916133333333337,0.54681333333333326,0.64772433333333324,0.46301566666666671,0.76343799999999995,0.78454999999999997,0.41824633333333333,0.66605966666666661,0.25266233333333332,0.23149333333333333,0.12825300000000001]
[null,11.481536,1.0220499999999999,0.96385600000000005,1.0825640000000001,null,null,11.481536,0.21906999999999999,0.30725599999999997,0.26879399999999998,null,null,11.481536,0.55165699999999995,0.57294900000000004,0.54509200000000002,null,null,null,11.481536,0.850464,0.89169299999999996,1.003161,null,null,11.481536,0.29632799999999998,0.26153100000000001,0.262457,null,null,11.481536,0.77715299999999998,0.69234700000000005,0.72104100000000004,null,null,11.481536,0.37739,0.41046500000000002,0.36041400000000001,null,null,11.481536,0.73975500000000005,0.70866099999999999,0.72540700000000002,null,null,11.481536,1.5408919999999999,1.7277370000000001,1.465403,null,null,11.481536,0.38485599999999998,0.38451299999999999,0.34509699999999999,null,null,11.481536,2.2895300000000001,2.851483,2.8136199999999998,null,null,11.481536,0.37658700000000001,0.35970099999999999,0.37269200000000002,null,null,11.481536,0.40444799999999997,0.241398,0.220916,null,null,11.481536,0.59021000000000001,0.57025800000000004,0.55527000000000004,null,null,11.481536,0.71806199999999998,0.69334700000000005,0.65245299999999995,null,null,11.481536,0.45843699999999998,0.41925899999999999,0.52483100000000005,null,null,11.481536,0.80617700000000003,0.76616799999999996,0.96044399999999996,null,null,11.481536,0.87639800000000001,0.82469199999999998,0.73280699999999999,null,null,11.481536,0.39629599999999998,0.447909,0.43902600000000003,null,null,11.481536,0.73494700000000002,0.71455100000000005,0.63810199999999995,null,null,11.481536,0.27277800000000002,0.25393300000000002,0.25238100000000002,null,null,11.481536,0.22258900000000001,0.17440800000000001,0.17185400000000001,null,null,11.481536,8.4262000000000004E-2,7.4054999999999996E-2,0.130909,null,null,11.481536,1.0228233333333334,0.26504,0.55656600000000001,0.91510600000000009,0.27343866666666666,0.73018033333333332,0.38275633333333331,0.72460766666666665,1.5780106666666667,0.37148866666666663,2.6515443333333333,0.36966000000000004,0.28892066666666666,0.57191266666666662,0.68795399999999995,0.46750900000000001,0.84426299999999987,0.81129899999999999,0.42774366666666669,0.69586666666666674,0.25969733333333339,0.18961700000000001,9.6408666666666656E-2]
[null,13.182567000000001,1.0804279999999999,1.0179039999999999,1.144971,null,null,13.182567000000001,0.226326,0.31522,0.27533000000000002,null,null,13.182567000000001,0.59272899999999995,0.61707000000000001,0.58706000000000003,null,null,null,13.182567000000001,0.86224500000000004,0.90386299999999997,1.02003,null,null,13.182567000000001,0.29961700000000002,0.26524300000000001,0.26722699999999999,null,null,13.182567000000001,0.82490600000000003,0.736286,0.76566400000000001,null,null,13.182567000000001,0.40630899999999998,0.44442100000000001,0.39314300000000002,null,null,13.182567000000001,0.79455900000000002,0.76259699999999997,0.780837,null,null,13.182567000000001,1.5349680000000001,1.712021,1.458809,null,null,13.182567000000001,0.405061,0.40712799999999999,0.36954399999999998,null,null,13.182567000000001,2.283744,2.826972,2.7876310000000002,null,null,13.182567000000001,0.40427600000000002,0.386432,0.40106599999999998,null,null,13.182567000000001,0.42052099999999998,0.25036700000000001,0.229271,null,null,13.182567000000001,0.61482199999999998,0.59398600000000001,0.57979099999999995,null,null,13.182567000000001,0.76397199999999998,0.73815299999999995,0.69585900000000001,null,null,13.182567000000001,0.46235100000000001,0.42329899999999998,0.53219499999999997,null,null,13.182567000000001,0.88506700000000005,0.84343999999999997,1.0521480000000001,null,null,13.182567000000001,0.90137500000000004,0.853576,0.75960099999999997,null,null,13.182567000000001,0.40270600000000001,0.45822200000000002,0.44960600000000001,null,null,13.182567000000001,0.76520999999999995,0.74604400000000004,0.66675899999999999,null,null,13.182567000000001,0.28098800000000002,0.26188099999999997,0.259602,null,null,13.182567000000001,0.174066,0.129495,0.127225,null,null,13.182567000000001,2.5669999999999998E-2,3.8839999999999999E-3,0.10452500000000001,null,null,13.182567000000001,1.0811010000000001,0.27229199999999998,0.59895299999999996,0.92871266666666674,0.27736233333333332,0.77561866666666679,0.41462433333333332,0.779331,1.5685993333333332,0.39391099999999996,2.6327823333333336,0.39725799999999994,0.30005299999999996,0.59619966666666657,0.73266133333333328,0.47261500000000001,0.92688500000000007,0.83818400000000004,0.43684466666666671,0.72600433333333336,0.26749033333333333,0.14359533333333332,4.4693000000000004E-2]
[null,15.135612,1.1342730000000001,1.0668679999999999,1.203325,null,null,15.135612,0.23103199999999999,0.32074599999999998,0.279304,null,null,15.135612,0.63397300000000001,0.661408,0.62953499999999996,null,null,null,15.135612,0.86085299999999998,0.90153700000000003,1.0225519999999999,null,null,15.135612,0.29515799999999998,0.26158300000000001,0.26374599999999998,null,null,15.135612,0.87697800000000004,0.78350299999999995,0.81354400000000004,null,null,15.135612,0.43503000000000003,0.47686299999999998,0.424925,null,null,15.135612,0.85489700000000002,0.82189199999999996,0.84211000000000003,null,null,15.135612,1.5339689999999999,1.6972750000000001,1.4543900000000001,null,null,15.135612,0.42226999999999998,0.42706699999999997,0.39104699999999998,null,null,15.135612,2.2434699999999999,2.7605870000000001,2.7183920000000001,null,null,15.135612,0.43232999999999999,0.41332200000000002,0.42763400000000001,null,null,15.135612,0.43903500000000001,0.26036700000000002,0.239148,null,null,15.135612,0.63732299999999997,0.61599700000000002,0.60247799999999996,null,null,15.135612,0.81427400000000005,0.78775099999999998,0.74415799999999999,null,null,15.135612,0.46701700000000002,0.42849999999999999,0.54047599999999996,null,null,15.135612,0.96419600000000005,0.92153600000000002,1.1442829999999999,null,null,15.135612,0.92464800000000003,0.88155499999999998,0.78574999999999995,null,null,15.135612,0.40823700000000002,0.46563300000000002,0.457899,null,null,15.135612,0.79362900000000003,0.77580899999999997,0.69473600000000002,null,null,15.135612,0.28748099999999999,0.268183,0.26634799999999997,null,null,15.135612,0.12970200000000001,8.8733000000000006E-2,8.8548000000000002E-2,null,null,15.135612,6.29E-4,0,9.4355999999999995E-2,null,null,15.135612,1.134822,0.27702733333333335,0.64163866666666658,0.92831399999999997,0.27349566666666664,0.82467500000000005,0.445606,0.83963299999999996,1.5618780000000001,0.41346133333333329,2.5741496666666666,0.42442866666666673,0.31285000000000002,0.61859933333333339,0.78206100000000001,0.4786643333333333,1.0100049999999998,0.86398433333333335,0.44392300000000001,0.7547246666666666,0.27400399999999997,0.10232766666666666,3.1661666666666664E-2]
[null,17.378008000000001,1.1848259999999999,1.1120680000000001,1.2583800000000001,null,null,17.378008000000001,0.233404,0.32521,0.28199299999999999,null,null,17.378008000000001,0.67662500000000003,0.70660699999999999,0.67258799999999996,null,null,null,17.378008000000001,0.84667199999999998,0.88504099999999997,1.01139,null,null,17.378008000000001,0.28552,0.252471,0.25339600000000001,null,null,17.378008000000001,0.93828299999999998,0.83784800000000004,0.86936899999999995,null,null,17.378008000000001,0.46106900000000001,0.504552,0.45227200000000001,null,null,17.378008000000001,0.92549700000000001,0.89067099999999999,0.91336099999999998,null,null,17.378008000000001,1.540438,1.6877390000000001,1.454982,null,null,17.378008000000001,0.43455700000000003,0.44152799999999998,0.40726400000000001,null,null,17.378008000000001,2.1646960000000002,2.6475200000000001,2.6011950000000001,null,null,17.378008000000001,0.46419700000000003,0.44358799999999998,0.45367299999999999,null,null,17.378008000000001,0.45918599999999998,0.27092100000000002,0.25013800000000003,null,null,17.378008000000001,0.65506500000000001,0.63398900000000002,0.62119899999999995,null,null,17.378008000000001,0.86491600000000002,0.83830499999999997,0.79387200000000002,null,null,17.378008000000001,0.47276800000000002,0.43495400000000001,0.54922499999999996,null,null,17.378008000000001,1.0386089999999999,0.99490699999999999,1.230961,null,null,17.378008000000001,0.94271899999999997,0.90472200000000003,0.80749099999999996,null,null,17.378008000000001,0.411026,0.46798899999999999,0.46166600000000002,null,null,17.378008000000001,0.81752999999999998,0.80051300000000003,0.71894599999999997,null,null,17.378008000000001,0.28917199999999998,0.26985799999999999,0.26961499999999999,null,null,17.378008000000001,0.10199800000000001,6.4548999999999995E-2,4.9505E-2,null,null,17.378008000000001,0,0,0.10792599999999999,null,null,17.378008000000001,1.1850913333333333,0.28020233333333328,0.68527333333333329,0.91436766666666669,0.26379566666666671,0.88183333333333325,0.47263100000000002,0.90984299999999996,1.561053,0.42778300000000002,2.4711370000000001,0.45381933333333335,0.32674833333333336,0.63675099999999996,0.83236433333333337,0.485649,1.0881589999999999,0.88497733333333317,0.44689366666666669,0.77899633333333329,0.27621499999999993,7.2017333333333336E-2,3.5975333333333331E-2]
[null,19.952622999999999,1.2409479999999999,1.1621600000000001,1.319096,null,null,19.952622999999999,0.236341,0.33355099999999999,0.28788999999999998,null,null,19.952622999999999,0.72837399999999997,0.75992300000000002,0.72216800000000003,null,null,null,19.952622999999999,0.82789999999999997,0.86298799999999998,0.99617900000000004,null,null,19.952622999999999,0.27865099999999998,0.24474499999999999,0.24265400000000001,null,null,19.952622999999999,1.0226489999999999,0.91126099999999999,0.94653100000000001,null,null,19.952622999999999,0.48615599999999998,0.52940100000000001,0.47641800000000001,null,null,19.952622999999999,1.0194890000000001,0.98117699999999997,1.0068220000000001,null,null,19.952622999999999,1.561339,1.6927460000000001,1.4677150000000001,null,null,19.952622999999999,0.44445800000000002,0.45215699999999998,0.42083700000000002,null,null,19.952622999999999,2.0490650000000001,2.4876469999999999,2.436588,null,null,19.952622999999999,0.51027999999999996,0.487236,0.48721300000000001,null,null,19.952622999999999,0.480958,0.282281,0.26235599999999998,null,null,19.952622999999999,0.66747000000000001,0.64760600000000001,0.63591200000000003,null,null,19.952622999999999,0.91338399999999997,0.88731800000000005,0.84311100000000005,null,null,19.952622999999999,0.48075200000000001,0.44340600000000002,0.55883300000000002,null,null,19.952622999999999,1.1091519999999999,1.063312,1.3128150000000001,null,null,19.952622999999999,0.95286400000000004,0.92027300000000001,0.82206400000000002,null,null,19.952622999999999,0.40981099999999998,0.46492,0.460283,null,null,19.952622999999999,0.83802100000000002,0.82048600000000005,0.739429,null,null,19.952622999999999,0.28372399999999998,0.264629,0.26650699999999999,null,null,19.952622999999999,0.100832,6.7283999999999997E-2,4.3360000000000003E-2,null,null,19.952622999999999,0,0,0.147483,null,null,19.952622999999999,1.2407346666666668,0.28592733333333331,0.73682166666666671,0.89568899999999996,0.25535000000000002,0.96014700000000008,0.49732500000000002,1.0024960000000001,1.5739333333333334,0.43915066666666663,2.3244333333333334,0.49490966666666664,0.34186500000000003,0.65032933333333331,0.88127100000000003,0.49433033333333337,1.1617596666666665,0.89840033333333336,0.44500466666666666,0.79931200000000002,0.27161999999999997,7.0491999999999999E-2,4.9161000000000003E-2]
[null,22.908677000000001,1.3143229999999999,1.2288939999999999,1.397696,null,null,22.908677000000001,0.24587800000000001,0.35437299999999999,0.30490800000000001,null,null,22.908677000000001,0.799516,0.83132899999999998,0.78653399999999996,null,null,null,22.908677000000001,0.82404699999999997,0.85607800000000001,0.99875800000000003,null,null,22.908677000000001,0.28922799999999999,0.25160100000000002,0.24485499999999999,null,null,22.908677000000001,1.1464730000000001,1.0183169999999999,1.0613440000000001,null,null,22.908677000000001,0.51578999999999997,0.55832300000000001,0.50326499999999996,null,null,22.908677000000001,1.151559,1.1072489999999999,1.1360809999999999,null,null,22.908677000000001,1.6078650000000001,1.7276370000000001,1.5041199999999999,null,null,22.908677000000001,0.45997300000000002,0.466117,0.44015500000000002,null,null,22.908677000000001,1.91212,2.2968150000000001,2.2419129999999998,null,null,22.908677000000001,0.58544600000000002,0.55876099999999995,0.54185099999999997,null,null,22.908677000000001,0.50363800000000003,0.294848,0.27574199999999999,null,null,22.908677000000001,0.67583800000000005,0.65803599999999995,0.64814799999999995,null,null,22.908677000000001,0.955206,0.93002799999999997,0.88806099999999999,null,null,22.908677000000001,0.49296499999999999,0.45525500000000002,0.57058500000000001,null,null,22.908677000000001,1.1766559999999999,1.1263540000000001,1.390247,null,null,22.908677000000001,0.95300099999999999,0.92598000000000003,0.82724399999999998,null,null,22.908677000000001,0.40492800000000001,0.45914100000000002,0.45590599999999998,null,null,22.908677000000001,0.859846,0.83968100000000001,0.75920799999999999,null,null,22.908677000000001,0.27098,0.25229699999999999,0.25528600000000001,null,null,22.908677000000001,0.131936,0.103203,6.9402000000000005E-2,null,null,22.908677000000001,0,0,0.20566599999999999,null,null,22.908677000000001,1.3136376666666667,0.30171966666666666,0.80579299999999998,0.892961,0.26189466666666666,1.0753779999999999,0.52579266666666669,1.1316296666666668,1.6132073333333334,0.45541500000000007,2.150282666666667,0.56201933333333332,0.35807600000000001,0.66067399999999998,0.92443166666666665,0.50626833333333332,1.2310856666666667,0.90207499999999996,0.43999166666666661,0.8195783333333333,0.259521,0.10151366666666667,6.8555333333333329E-2]
[null,26.302679999999999,1.4235709999999999,1.33081,1.5144040000000001,null,null,26.302679999999999,0.27195000000000003,0.40091300000000002,0.34507900000000002,null,null,26.302679999999999,0.906663,0.93752599999999997,0.88016899999999998,null,null,null,26.302679999999999,0.86612800000000001,0.89704300000000003,1.053517,null,null,26.302679999999999,0.33802500000000002,0.29207300000000003,0.27962300000000001,null,null,26.302679999999999,1.3340129999999999,1.1809499999999999,1.237816,null,null,26.302679999999999,0.56337899999999996,0.60776300000000005,0.54796500000000004,null,null,26.302679999999999,1.3449439999999999,1.2912110000000001,1.323223,null,null,26.302679999999999,1.6963889999999999,1.8128390000000001,1.580301,null,null,26.302679999999999,0.49751200000000001,0.49937399999999998,0.48271399999999998,null,null,26.302679999999999,1.774038,2.093912,2.0375559999999999,null,null,26.302679999999999,0.71295500000000001,0.68088899999999997,0.640486,null,null,26.302679999999999,0.52808200000000005,0.31056099999999998,0.29147699999999999,null,null,26.302679999999999,0.68609100000000001,0.67064400000000002,0.66375399999999996,null,null,26.302679999999999,0.98943199999999998,0.96487400000000001,0.92842599999999997,null,null,26.302679999999999,0.51368100000000005,0.47403000000000001,0.58851299999999995,null,null,26.302679999999999,1.248704,1.190407,1.47136,null,null,26.302679999999999,0.94448399999999999,0.92347699999999999,0.824438,null,null,26.302679999999999,0.39970800000000001,0.45788699999999999,0.45501999999999998,null,null,26.302679999999999,0.89524199999999998,0.86970999999999998,0.78827000000000003,null,null,26.302679999999999,0.25431199999999998,0.236036,0.23669499999999999,null,null,26.302679999999999,0.19239300000000001,0.170153,0.112807,null,null,26.302679999999999,0,0,0.267341,null,null,26.302679999999999,1.4229283333333334,0.33931400000000006,0.90811933333333339,0.93889600000000006,0.30324033333333333,1.2509263333333334,0.57303566666666672,1.3197926666666666,1.6965096666666668,0.49320000000000003,1.968502,0.6781100000000001,0.37670666666666669,0.67349633333333336,0.96091066666666658,0.52540799999999999,1.3034903333333334,0.89746633333333337,0.43753833333333336,0.851074,0.24234766666666666,0.15845100000000001,8.911366666666666E-2]
[null,30.199517,1.5861339999999999,1.4855860000000001,1.6889099999999999,null,null,30.199517,0.32673799999999997,0.48804199999999998,0.42187400000000003,null,null,30.199517,1.064921,1.0942130000000001,1.017069,null,null,null,30.199517,0.99362099999999998,1.027531,1.203173,null,null,30.199517,0.44780199999999998,0.38758100000000001,0.369728,null,null,30.199517,1.6042970000000001,1.4170400000000001,1.4952049999999999,null,null,30.199517,0.64847699999999997,0.70181199999999999,0.63353099999999996,null,null,30.199517,1.619237,1.5523579999999999,1.587186,null,null,30.199517,1.8422210000000001,1.967125,1.7113179999999999,null,null,30.199517,0.58042899999999997,0.57561300000000004,0.57338500000000003,null,null,30.199517,1.664647,1.9096359999999999,1.8551770000000001,null,null,30.199517,0.916659,0.87703600000000004,0.80949199999999999,null,null,30.199517,0.555809,0.33238699999999999,0.31150499999999998,null,null,30.199517,0.70912200000000003,0.69511999999999996,0.69284199999999996,null,null,30.199517,1.0176890000000001,0.992591,0.96612299999999995,null,null,30.199517,0.54917300000000002,0.505243,0.61943499999999996,null,null,30.199517,1.3347770000000001,1.264572,1.566532,null,null,30.199517,0.93391100000000005,0.91970499999999999,0.82009799999999999,null,null,30.199517,0.40193699999999999,0.47386899999999998,0.469412,null,null,30.199517,0.962893,0.92918699999999999,0.84312399999999998,null,null,30.199517,0.24266399999999999,0.22438,0.21613199999999999,null,null,30.199517,0.26677299999999998,0.25291599999999997,0.167738,null,null,30.199517,0,0,0.305174,null,null,30.199517,1.5868766666666667,0.41221799999999997,1.0587343333333334,1.074775,0.40170366666666668,1.5055139999999998,0.66127333333333338,1.5862603333333334,1.8402213333333333,0.57647566666666672,1.80982,0.86772900000000008,0.3999003333333333,0.69902799999999987,0.99213433333333334,0.55795033333333333,1.3886270000000003,0.89123800000000009,0.44840600000000003,0.91173466666666669,0.22772533333333334,0.22914233333333334,0.10172466666666667]
[null,34.673684999999999,1.820309,1.7116229999999999,1.9424729999999999,null,null,34.673684999999999,0.42435800000000001,0.63241999999999998,0.55012300000000003,null,null,34.673684999999999,1.2896749999999999,1.3178620000000001,1.2124330000000001,null,null,null,34.673684999999999,1.2513620000000001,1.294548,1.495374,null,null,34.673684999999999,0.64118299999999995,0.55980799999999997,0.53851599999999999,null,null,34.673684999999999,1.9752639999999999,1.743832,1.851564,null,null,34.673684999999999,0.79872699999999996,0.87379899999999999,0.79261599999999999,null,null,34.673684999999999,1.996456,1.9128080000000001,1.9498740000000001,null,null,34.673684999999999,2.0601259999999999,2.2066859999999999,1.9111400000000001,null,null,34.673684999999999,0.73934999999999995,0.72654099999999999,0.744923,null,null,34.673684999999999,1.6118760000000001,1.771935,1.722415,null,null,34.673684999999999,1.2239260000000001,1.1739550000000001,1.0805119999999999,null,null,34.673684999999999,0.59109800000000001,0.36547499999999999,0.339862,null,null,34.673684999999999,0.76190999999999998,0.74679300000000004,0.75107999999999997,null,null,34.673684999999999,1.048087,1.0203199999999999,1.009285,null,null,34.673684999999999,0.60933599999999999,0.55802399999999996,0.67463099999999998,null,null,34.673684999999999,1.449511,1.3640220000000001,1.692229,null,null,34.673684999999999,0.93451499999999998,0.92856899999999998,0.82734099999999999,null,null,34.673684999999999,0.42454700000000001,0.52533300000000005,0.51641199999999998,null,null,34.673684999999999,1.089429,1.0451379999999999,0.94852800000000004,null,null,34.673684999999999,0.25048599999999999,0.23114999999999999,0.20391300000000001,null,null,34.673684999999999,0.32783000000000001,0.32449899999999998,0.21509800000000001,null,null,34.673684999999999,0,0,0.29565799999999998,null,null,34.673684999999999,1.8248016666666667,0.53563366666666667,1.2733233333333331,1.3470946666666668,0.57983566666666664,1.8568866666666668,0.82171400000000006,1.9530460000000003,2.059317333333333,0.73693799999999998,1.7020753333333334,1.1594643333333332,0.432145,0.75326100000000007,1.0258973333333332,0.61399700000000001,1.5019206666666667,0.89680833333333332,0.48876400000000003,1.0276983333333332,0.22851633333333332,0.28914233333333333,9.8552666666666663E-2]
[null,39.810716999999997,2.1335649999999999,2.0165540000000002,2.2848130000000002,null,null,39.810716999999997,0.57552199999999998,0.84529299999999996,0.73947799999999997,null,null,39.810716999999997,1.584992,1.6139870000000001,1.4722630000000001,null,null,null,39.810716999999997,1.6746829999999999,1.734864,1.965676,null,null,39.810716999999997,0.92966099999999996,0.82067800000000002,0.79965699999999995,null,null,39.810716999999997,2.4459240000000002,2.1620170000000001,2.3063940000000001,null,null,39.810716999999997,1.042762,1.157618,1.059677,null,null,39.810716999999997,2.4840170000000001,2.381192,2.4198200000000001,null,null,39.810716999999997,2.3530989999999998,2.5328119999999998,2.1823700000000001,null,null,39.810716999999997,1.003711,0.98361500000000002,1.02874,null,null,39.810716999999997,1.640879,1.7087870000000001,1.6654789999999999,null,null,39.810716999999997,1.6513100000000001,1.5877520000000001,1.4771909999999999,null,null,39.810716999999997,0.64022699999999999,0.41605399999999998,0.38195699999999999,null,null,39.810716999999997,0.864981,0.84441500000000003,0.85699599999999998,null,null,39.810716999999997,1.094722,1.0614189999999999,1.071164,null,null,39.810716999999997,0.70594699999999999,0.64370400000000005,0.76816399999999996,null,null,39.810716999999997,1.6066069999999999,1.504642,1.8641939999999999,null,null,39.810716999999997,0.96656399999999998,0.97086899999999998,0.86601300000000003,null,null,39.810716999999997,0.48499999999999999,0.63342399999999999,0.61660000000000004,null,null,39.810716999999997,1.303123,1.2470380000000001,1.132379,null,null,39.810716999999997,0.29706100000000002,0.27484599999999998,0.215838,null,null,39.810716999999997,0.34319300000000003,0.35087099999999999,0.232678,null,null,39.810716999999997,0,0,0.204287,null,null,39.810716999999997,2.1449773333333333,0.72009766666666664,1.5570806666666668,1.791741,0.84999866666666657,2.3047783333333336,1.0866856666666667,2.4283429999999999,2.3560936666666668,1.0053553333333334,1.6717150000000001,1.5720843333333334,0.47941266666666671,0.855464,1.0757683333333332,0.70593833333333345,1.6584810000000001,0.93448200000000003,0.57834133333333337,1.2275133333333335,0.26258166666666666,0.30891399999999997,6.8095666666666665E-2]
[null,45.708818999999998,2.5239189999999998,2.398234,2.7147899999999998,null,null,45.708818999999998,0.78633200000000003,1.1321969999999999,0.99398900000000001,null,null,45.708818999999998,1.9446779999999999,1.9778290000000001,1.7935840000000001,null,null,null,45.708818999999998,2.284341,2.3693970000000002,2.6320610000000002,null,null,45.708818999999998,1.3117559999999999,1.1702049999999999,1.1542589999999999,null,null,45.708818999999998,3.0000819999999999,2.6586460000000001,2.8438880000000002,null,null,45.708818999999998,1.408757,1.585132,1.468483,null,null,45.708818999999998,3.0787330000000002,2.9562400000000002,2.9959150000000001,null,null,45.708818999999998,2.7126619999999999,2.932534,2.5165630000000001,null,null,45.708818999999998,1.3987780000000001,1.374593,1.451549,null,null,45.708818999999998,1.766583,1.7393160000000001,1.7007350000000001,null,null,45.708818999999998,2.2058149999999999,2.1250360000000001,2.0144769999999999,null,null,45.708818999999998,0.71253900000000003,0.49174000000000001,0.44514700000000001,null,null,45.708818999999998,1.0405519999999999,1.008858,1.030567,null,null,45.708818999999998,1.1781200000000001,1.136169,1.1707289999999999,null,null,45.708818999999998,0.85328999999999999,0.77640500000000001,0.91694200000000003,null,null,45.708818999999998,1.818732,1.702421,2.097105,null,null,45.708818999999998,1.0557989999999999,1.072735,0.96129500000000001,null,null,45.708818999999998,0.60415799999999997,0.82006699999999999,0.79192200000000001,null,null,45.708818999999998,1.631575,1.5640499999999999,1.4235089999999999,null,null,45.708818999999998,0.40398000000000001,0.37621500000000002,0.27126,null,null,45.708818999999998,0.274733,0.29366599999999998,0.19500000000000001,null,null,45.708818999999998,0,0,4.9381000000000001E-2,null,null,45.708818999999998,2.5456476666666665,0.97083933333333328,1.9053636666666669,2.4285996666666669,1.2120733333333333,2.8342053333333332,1.4874573333333334,3.0102960000000003,2.7205863333333333,1.4083066666666666,1.7355446666666667,2.1151093333333333,0.54980866666666672,1.026659,1.1616726666666668,0.84887900000000005,1.8727526666666667,1.0299430000000001,0.73871566666666666,1.5397113333333332,0.35048499999999999,0.25446633333333329,1.6460333333333334E-2]
[null,52.480746000000003,2.9722369999999998,2.8371200000000001,3.2111960000000002,null,null,52.480746000000003,1.0528409999999999,1.4868189999999999,1.3066120000000001,null,null,52.480746000000003,2.3451309999999999,2.3867099999999999,2.1571359999999999,null,null,null,52.480746000000003,3.0701589999999999,3.185943,3.477023,null,null,52.480746000000003,1.764481,1.5882210000000001,1.581933,null,null,52.480746000000003,3.596454,3.1979730000000002,3.423219,null,null,52.480746000000003,1.9144410000000001,2.1737310000000001,2.040063,null,null,52.480746000000003,3.7550319999999999,3.6150570000000002,3.6557170000000001,null,null,52.480746000000003,3.111278,3.3715619999999999,2.887562,null,null,52.480746000000003,1.934091,1.9115340000000001,2.0225610000000001,null,null,52.480746000000003,1.9881960000000001,1.8707910000000001,1.832246,null,null,52.480746000000003,2.8729469999999999,2.771382,2.6855180000000001,null,null,52.480746000000003,0.81910899999999998,0.59975999999999996,0.53738399999999997,null,null,52.480746000000003,1.306144,1.257439,1.2872760000000001,null,null,52.480746000000003,1.32186,1.2687330000000001,1.32904,null,null,52.480746000000003,1.0649519999999999,0.97013400000000005,1.136792,null,null,52.480746000000003,2.09144,1.96695,2.3974139999999999,null,null,52.480746000000003,1.2292160000000001,1.260966,1.139413,null,null,52.480746000000003,0.80234499999999997,1.101923,1.060017,null,null,52.480746000000003,2.091459,2.0145590000000002,1.8422769999999999,null,null,52.480746000000003,0.59023199999999998,0.55353799999999997,0.38968700000000001,null,null,52.480746000000003,0.109968,0.136241,9.0976000000000001E-2,null,null,52.480746000000003,0,0,0,null,null,52.480746000000003,3.0068509999999997,1.2820906666666667,2.2963256666666663,3.2443750000000002,1.6448783333333334,3.4058820000000001,2.042745,3.6752686666666663,3.1234673333333327,1.956062,1.8970776666666669,2.7766156666666668,0.65208433333333327,1.2836196666666666,1.3065443333333333,1.0572926666666664,2.151934666666667,1.209865,0.98809500000000006,1.9827650000000003,0.51115233333333332,0.11239500000000001,0]
[null,60.255958999999997,3.4428920000000001,3.2970009999999998,3.7328070000000002,null,null,60.255958999999997,1.3592770000000001,1.890126,1.6586190000000001,null,null,60.255958999999997,2.7468900000000001,2.8010519999999999,2.5275970000000001,null,null,null,60.255958999999997,3.9844759999999999,4.1322599999999996,4.441084,null,null,60.255958999999997,2.2434479999999999,2.0337869999999998,2.0395949999999998,null,null,60.255958999999997,4.1722710000000003,3.7242380000000002,3.9820319999999998,null,null,60.255958999999997,2.5605509999999998,2.9180450000000002,2.7740589999999998,null,null,60.255958999999997,4.4647810000000003,4.3123300000000002,4.3547659999999997,null,null,60.255958999999997,3.504016,3.7977820000000002,3.253253,null,null,60.255958999999997,2.5964260000000001,2.582929,2.725393,null,null,60.255958999999997,2.283509,2.0924239999999998,2.0461619999999998,null,null,60.255958999999997,3.6143019999999999,3.4891459999999999,3.4568300000000001,null,null,60.255958999999997,0.97163600000000006,0.74560800000000005,0.66600099999999995,null,null,60.255958999999997,1.66839,1.598312,1.632619,null,null,60.255958999999997,1.547912,1.4826189999999999,1.56484,null,null,60.255958999999997,1.3513010000000001,1.236332,1.438852,null,null,60.255958999999997,2.4202340000000002,2.2972139999999999,2.759512,null,null,60.255958999999997,1.5090699999999999,1.5567610000000001,1.4218040000000001,null,null,60.255958999999997,1.094821,1.4851799999999999,1.4291130000000001,null,null,60.255958999999997,2.680898,2.5978759999999999,2.3928259999999999,null,null,60.255958999999997,0.86640700000000004,0.81699200000000005,0.585762,null,null,60.255958999999997,2.3189999999999999E-3,3.2399999999999998E-3,2.1719999999999999E-3,null,null,60.255958999999997,0,0,0,null,null,60.255958999999997,3.4908999999999999,1.6360073333333334,2.6918463333333329,4.1859399999999996,2.10561,3.9595136666666666,2.7508849999999998,4.377292333333334,3.5183503333333328,2.634916,2.1406983333333334,3.5200926666666668,0.79441499999999998,1.6331070000000001,1.5317903333333334,1.3421616666666667,2.4923199999999999,1.4958783333333334,1.3363713333333334,2.5571999999999999,0.75638700000000003,2.5769999999999999E-3,0]
[null,69.183097000000004,3.892242,3.7336239999999998,4.2274849999999997,null,null,69.183097000000004,1.6816469999999999,2.3161179999999999,2.025131,null,null,69.183097000000004,3.1038060000000001,3.1733009999999999,2.861103,null,null,null,69.183097000000004,4.9512980000000004,5.1258100000000004,5.4335789999999999,null,null,69.183097000000004,2.6928420000000002,2.4537640000000001,2.4699599999999999,null,null,69.183097000000004,4.6569630000000002,4.1736469999999999,4.4500380000000002,null,null,69.183097000000004,3.3327499999999999,3.791954,3.6498349999999999,null,null,69.183097000000004,5.1470320000000003,4.9892839999999996,5.0357050000000001,null,null,69.183097000000004,3.8387229999999999,4.153708,3.565042,null,null,69.183097000000004,3.3527999999999998,3.3559679999999998,3.5206179999999998,null,null,69.183097000000004,2.6114350000000002,2.3743509999999999,2.3104499999999999,null,null,69.183097000000004,4.3757900000000003,4.2257030000000002,4.2748030000000004,null,null,69.183097000000004,1.1826589999999999,0.93334600000000001,0.83760199999999996,null,null,69.183097000000004,2.1213259999999998,2.028791,2.060819,null,null,69.183097000000004,1.8735299999999999,1.797261,1.8919699999999999,null,null,69.183097000000004,1.719994,1.58413,1.8292010000000001,null,null,69.183097000000004,2.7925420000000001,2.6821380000000001,3.1673819999999999,null,null,69.183097000000004,1.909788,1.9725239999999999,1.8222210000000001,null,null,69.183097000000004,1.4905740000000001,1.9657279999999999,1.8978889999999999,null,null,69.183097000000004,3.3798849999999998,3.2939880000000001,3.062506,null,null,69.183097000000004,1.2324550000000001,1.1663380000000001,0.86638499999999996,null,null,69.183097000000004,0,0,0,null,null,69.183097000000004,0,0,0,null,null,69.183097000000004,3.951117,2.0076319999999996,3.0460700000000003,5.170229,2.5388553333333337,4.4268826666666667,3.5915129999999995,5.0573403333333333,3.8524910000000001,3.4097953333333328,2.4320786666666669,4.292098666666667,0.98453566666666659,2.0703119999999999,1.8542536666666667,1.7111083333333335,2.8806873333333329,1.901511,1.7847303333333333,3.2454596666666666,1.0883926666666668,0,0]
[null,79.432822999999999,4.2673839999999998,4.0941299999999998,4.6314599999999997,null,null,79.432822999999999,1.9853449999999999,2.7285819999999998,2.3732609999999998,null,null,79.432822999999999,3.3656799999999998,3.4502760000000001,3.1072860000000002,null,null,null,79.432822999999999,5.8567020000000003,6.0447600000000001,6.3250919999999997,null,null,79.432822999999999,3.0479530000000001,2.7846570000000002,2.8036979999999998,null,null,79.432822999999999,4.9761220000000002,4.4774240000000001,4.7535059999999998,null,null,79.432822999999999,4.1858940000000002,4.7315420000000001,4.6081919999999998,null,null,79.432822999999999,5.7225089999999996,5.567558,5.6221860000000001,null,null,79.432822999999999,4.0599819999999998,4.3820449999999997,3.7717900000000002,null,null,79.432822999999999,4.1380790000000003,4.1633170000000002,4.3324920000000002,null,null,79.432822999999999,2.9127339999999999,2.6636790000000001,2.572838,null,null,79.432822999999999,5.0789850000000003,4.9052879999999996,5.0548330000000004,null,null,79.432822999999999,1.4600359999999999,1.16137,1.053434,null,null,79.432822999999999,2.6348319999999998,2.5238580000000002,2.5440640000000001,null,null,79.432822999999999,2.2998859999999999,2.2162109999999999,2.3086440000000001,null,null,79.432822999999999,2.1671119999999999,2.0115660000000002,2.2987700000000002,null,null,79.432822999999999,3.1819389999999999,3.093232,3.5879910000000002,null,null,79.432822999999999,2.4253740000000001,2.4987629999999998,2.3343240000000001,null,null,79.432822999999999,1.9818929999999999,2.519072,2.4449969999999999,null,null,79.432822999999999,4.135637,4.0487460000000004,3.8066800000000001,null,null,79.432822999999999,1.667764,1.581272,1.221778,null,null,79.432822999999999,0,0,0,null,null,79.432822999999999,0,0,0,null,null,79.432822999999999,4.3309913333333334,2.3623959999999999,3.3077473333333334,6.0755179999999998,2.8787693333333331,4.735684,4.508542666666667,5.6374176666666669,4.0712723333333329,4.2112959999999999,2.7164169999999999,5.0130353333333337,1.2249466666666666,2.5675846666666668,2.2749136666666669,2.1591493333333331,3.287720666666667,2.4194870000000002,2.3153206666666666,3.9970210000000002,1.4902713333333335,0,0]
[null,91.201083999999994,4.5302030000000002,4.3412350000000002,4.897049,null,null,91.201083999999994,2.2425989999999998,3.102808,2.6819440000000001,null,null,91.201083999999994,3.5014639999999999,3.5973739999999998,3.2312880000000002,null,null,null,91.201083999999994,6.5975109999999999,6.7791790000000001,6.9999690000000001,null,null,91.201083999999994,3.2644920000000002,2.9798629999999999,2.9881899999999999,null,null,91.201083999999994,5.0821449999999997,4.5897259999999998,4.8456089999999996,null,null,91.201083999999994,5.074738,5.6712499999999997,5.5864250000000002,null,null,91.201083999999994,6.1270899999999999,5.9821249999999999,6.0519740000000004,null,null,91.201083999999994,4.1310130000000003,4.449179,3.840538,null,null,91.201083999999994,4.8893659999999999,4.9381690000000003,5.0852880000000003,null,null,91.201083999999994,3.1343779999999999,2.9021189999999999,2.779801,null,null,91.201083999999994,5.6567829999999999,5.4636589999999998,5.7194010000000004,null,null,91.201083999999994,1.814014,1.4298040000000001,1.3151600000000001,null,null,91.201083999999994,3.1716359999999999,3.0515379999999999,3.0486040000000001,null,null,91.201083999999994,2.8211710000000001,2.7348699999999999,2.807277,null,null,91.201083999999994,2.6903730000000001,2.517579,2.837008,null,null,91.201083999999994,3.565245,3.5013299999999998,3.990021,null,null,91.201083999999994,3.0420020000000001,3.1170629999999999,2.944509,null,null,91.201083999999994,2.558789,3.1203400000000001,3.047831,null,null,91.201083999999994,4.8911030000000002,4.8025869999999999,4.5751169999999997,null,null,91.201083999999994,2.1449410000000002,2.0343930000000001,1.635046,null,null,91.201083999999994,0,0,0,null,null,91.201083999999994,0,0,0,null,null,91.201083999999994,{"$f":"AVERAGE(C87:E87)","v":4.5894956666666671},{"$f":"AVERAGE(I87:K87)","v":2.6757836666666663},{"$f":"AVERAGE(O87:Q87)","v":3.4433753333333335},{"$f":"AVERAGE(V87:X87)","v":6.792219666666667},{"$f":"AVERAGE(AB87:AD87)","v":3.077515},{"$f":"AVERAGE(AH87:AJ87)","v":4.8391599999999997},{"$f":"AVERAGE(AN87:AP87)","v":5.4441376666666672},{"$f":"AVERAGE(AT87:AV87)","v":6.0537296666666665},{"$f":"AVERAGE(AZ87:BB87)","v":4.1402433333333333},{"$f":"AVERAGE(BF87:BH87)","v":4.9709410000000007},{"$f":"AVERAGE(BL87:BN87)","v":2.9387659999999998},{"$f":"AVERAGE(BR87:BT87)","v":5.6132810000000006},{"$f":"AVERAGE(BX87:BZ87)","v":1.5196593333333333},{"$f":"AVERAGE(CD87:CF87)","v":3.0905926666666672},{"$f":"AVERAGE(CJ87:CL87)","v":2.7877726666666667},{"$f":"AVERAGE(CP87:CR87)","v":2.6816533333333332},{"$f":"AVERAGE(CV87:CX87)","v":3.6855320000000003},{"$f":"AVERAGE(DB87:DD87)","v":3.0345246666666665},{"$f":"AVERAGE(DH87:DJ87)","v":2.9089866666666668},{"$f":"AVERAGE(DN87:DP87)","v":4.7562689999999996},{"$f":"AVERAGE(DT87:DV87)","v":1.938126666666667},{"$f":"AVERAGE(DZ87:EB87)","v":0},{"$f":"AVERAGE(EF87:EH87)","v":0}]
[null,104.712855,4.6521670000000004,4.449325,4.9896979999999997,null,null,104.712855,2.428194,3.4152049999999998,2.9345669999999999,null,null,104.712855,3.5015589999999999,3.601337,3.2174960000000001,null,null,null,104.712855,7.0659840000000003,7.2176520000000002,7.3466930000000001,null,null,104.712855,3.320932,3.0128529999999998,2.9930330000000001,null,null,104.712855,4.9587760000000003,4.4911630000000002,4.7118510000000002,null,null,104.712855,5.9216420000000003,6.5125339999999996,6.484553,null,null,104.712855,6.3029529999999996,6.172059,6.2669180000000004,null,null,104.712855,4.0371269999999999,4.3475359999999998,3.7597580000000002,null,null,104.712855,5.5251080000000004,5.5932110000000002,5.6839979999999999,null,null,104.712855,3.235236,3.0297399999999999,2.8826589999999999,null,null,104.712855,6.0373109999999999,5.832624,6.1808630000000004,null,null,104.712855,2.2418429999999998,1.730623,1.614107,null,null,104.712855,3.6696049999999998,3.5542189999999998,3.5179480000000001,null,null,104.712855,3.40293,3.3179470000000002,3.3542740000000002,null,null,104.712855,3.2678989999999999,3.081048,3.4106619999999999,null,null,104.712855,3.9111829999999999,3.8645390000000002,4.3327640000000001,null,null,104.712855,3.7134079999999998,3.7755939999999999,3.6078209999999999,null,null,104.712855,3.1874310000000001,3.7244039999999998,3.6617199999999999,null,null,104.712855,5.5606340000000003,5.4672210000000003,5.2863480000000003,null,null,104.712855,2.6142219999999998,2.4764200000000001,2.0678899999999998,null,null,104.712855,0,0,0,null,null,104.712855,0.16093499999999999,9.1975000000000001E-2,0.17600499999999999,null,null,104.712855,4.6970633333333334,2.9259886666666666,3.4401306666666667,7.2101096666666677,3.1089393333333333,4.7205966666666663,6.3062429999999994,6.2473099999999997,4.0481403333333335,5.6007723333333326,3.0492116666666664,6.0169326666666665,1.8621909999999999,3.5805906666666663,3.3583836666666667,3.2532029999999996,4.036162,3.6989409999999996,3.524518333333333,5.4380676666666661,2.3861773333333329,0,0.14297166666666664]
[null,120.226443,4.6341659999999996,4.4238090000000003,4.9096820000000001,null,null,120.226443,2.5412970000000001,3.6697899999999999,3.1417090000000001,null,null,120.226443,3.3914390000000001,3.485636,3.0841500000000002,null,null,null,120.226443,7.2082439999999997,7.3065509999999998,7.3144989999999996,null,null,120.226443,3.2398419999999999,2.8979949999999999,2.8324240000000001,null,null,120.226443,4.6325159999999999,4.2004530000000004,4.3808429999999996,null,null,120.226443,6.6754499999999997,7.1893320000000003,7.2327170000000001,null,null,120.226443,6.2302629999999999,6.1131019999999996,6.2462020000000003,null,null,120.226443,3.793218,4.0996240000000004,3.5464699999999998,null,null,120.226443,6.001576,6.079574,6.0731400000000004,null,null,120.226443,3.2105039999999998,3.0131239999999999,2.8629950000000002,null,null,120.226443,6.186026,5.9808070000000004,6.3923740000000002,null,null,120.226443,2.7493669999999999,2.0662889999999998,1.9484140000000001,null,null,120.226443,4.0816059999999998,3.9863149999999998,3.9099300000000001,null,null,120.226443,4.0161309999999997,3.932655,3.9230860000000001,null,null,120.226443,3.8915760000000001,3.6926999999999999,3.9992999999999999,null,null,120.226443,4.2083259999999996,4.1588310000000002,4.5964530000000003,null,null,120.226443,4.4014410000000002,4.430237,4.2883849999999999,null,null,120.226443,3.8493140000000001,4.3087330000000001,4.262111,null,null,120.226443,6.0846229999999997,5.9812729999999998,5.8826470000000004,null,null,120.226443,3.0389520000000001,2.870133,2.4911660000000002,null,null,120.226443,1.8974999999999999E-2,1.6670000000000001E-2,1.8554000000000001E-2,null,null,120.226443,1.1260209999999999,0.83563100000000001,0.95268399999999998,null,null,120.226443,4.6558856666666664,3.1175986666666664,3.320408333333333,7.2764313333333321,2.9900869999999995,4.404604,7.0324996666666664,6.1965223333333332,3.8131039999999996,6.0514300000000008,3.028874333333333,6.1864023333333336,2.2546900000000001,3.9926170000000005,3.9572906666666667,3.8611920000000004,4.3212033333333331,4.3733543333333333,4.1400526666666666,5.9828476666666672,2.8000836666666671,1.8066333333333334E-2,0.97144533333333338]
[null,138.03842599999999,4.5004350000000004,4.2954509999999999,4.6894989999999996,null,null,138.03842599999999,2.5974529999999998,3.876709,3.3230629999999999,null,null,138.03842599999999,3.2311589999999999,3.311023,2.8870719999999999,null,null,null,138.03842599999999,7.0098909999999997,7.0385920000000004,6.9091319999999996,null,null,138.03842599999999,3.085661,2.692882,2.571917,null,null,138.03842599999999,4.1806710000000002,3.7824019999999998,3.9330080000000001,null,null,138.03842599999999,7.2605110000000002,7.6238039999999998,7.7431840000000003,null,null,138.03842599999999,5.9248669999999999,5.8155099999999997,6.0011720000000004,null,null,138.03842599999999,3.4501740000000001,3.7594189999999998,3.2510430000000001,null,null,138.03842599999999,6.282095,6.35623,6.2135720000000001,null,null,138.03842599999999,3.0895739999999998,2.8507950000000002,2.7345630000000001,null,null,138.03842599999999,6.0901329999999998,5.8982510000000001,6.3318849999999998,null,null,138.03842599999999,3.317736,2.4292470000000002,2.302559,null,null,138.03842599999999,4.3542990000000001,4.2906409999999999,4.1756229999999999,null,null,138.03842599999999,4.6011509999999998,4.5128909999999998,4.4606659999999998,null,null,138.03842599999999,4.5263640000000001,4.3154209999999997,4.5587999999999997,null,null,138.03842599999999,4.4446960000000004,4.3603440000000004,4.7648320000000002,null,null,138.03842599999999,5.0351470000000003,5.0064140000000004,4.9190189999999996,null,null,138.03842599999999,4.500896,4.8373869999999997,4.8076590000000001,null,null,138.03842599999999,6.3980699999999997,6.2804729999999998,6.2948519999999997,null,null,138.03842599999999,3.373532,3.170617,2.8635359999999999,null,null,138.03842599999999,0.16928299999999999,0.14160700000000001,0.19347200000000001,null,null,138.03842599999999,3.0310630000000001,2.6066289999999999,3.037766,null,null,138.03842599999999,4.4951283333333327,3.2657416666666665,3.1430846666666667,6.9858716666666671,2.7834866666666667,3.9653603333333329,7.542499666666667,5.9138496666666667,3.4868786666666671,6.283965666666667,2.8916439999999999,6.1067563333333332,2.6831806666666669,4.2735209999999997,4.5249026666666667,4.4668616666666665,4.523290666666667,4.9868600000000001,4.7153140000000002,6.324465,3.1358950000000001,0.16812066666666667,2.8918193333333329]
[null,158.48931899999999,4.2899039999999999,4.1105900000000002,4.3792920000000004,null,null,158.48931899999999,2.6376050000000002,4.0688440000000003,3.5197319999999999,null,null,158.48931899999999,3.0974650000000001,3.157683,2.70235,null,null,null,158.48931899999999,6.5027749999999997,6.4540110000000004,6.1826530000000002,null,null,158.48931899999999,2.948922,2.4824519999999999,2.3099949999999998,null,null,158.48931899999999,3.6901440000000001,3.3127499999999999,3.4594969999999998,null,null,158.48931899999999,7.6389820000000004,7.7839140000000002,7.9752349999999996,null,null,158.48931899999999,5.4263479999999999,5.3146469999999999,5.5679699999999999,null,null,158.48931899999999,3.0642860000000001,3.375664,2.9293930000000001,null,null,158.48931899999999,6.3764779999999996,6.4304990000000002,6.1169599999999997,null,null,158.48931899999999,2.9230779999999998,2.5685739999999999,2.5333999999999999,null,null,158.48931899999999,5.767137,5.6050040000000001,6.0190229999999998,null,null,158.48931899999999,3.9459179999999998,2.8318750000000001,2.6776040000000001,null,null,158.48931899999999,4.4694349999999998,4.4402629999999998,4.2974319999999997,null,null,158.48931899999999,5.1235439999999999,5.0158420000000001,4.9388839999999998,null,null,158.48931899999999,5.162782,4.9363159999999997,5.0733959999999998,null,null,158.48931899999999,4.630649,4.4714109999999998,4.8458500000000004,null,null,158.48931899999999,5.5726529999999999,5.4590480000000001,5.4626289999999997,null,null,158.48931899999999,5.1316240000000004,5.3114860000000004,5.2925469999999999,null,null,158.48931899999999,6.477805,6.3447969999999998,6.4971569999999996,null,null,158.48931899999999,3.605359,3.3652000000000002,3.17408,null,null,158.48931899999999,1.639221,1.549455,1.7026950000000001,null,null,158.48931899999999,5.8881490000000003,5.5663770000000001,5.6580719999999998,null,null,158.48931899999999,4.2599286666666671,3.4087270000000003,2.985832666666667,6.3798130000000013,2.5804563333333332,3.4874636666666667,7.7993769999999998,5.4363216666666672,3.1231143333333335,6.3079789999999996,2.6750173333333334,5.7970546666666669,3.151799,4.4023766666666662,5.0260899999999999,5.0574979999999998,4.6493033333333331,5.4981099999999996,5.2452189999999996,6.4399196666666656,3.3815463333333331,1.630457,5.7041993333333343]
[null,181.97008600000001,4.0555729999999999,3.927454,4.0517139999999996,null,null,181.97008600000001,2.7135889999999998,4.269666,3.7618529999999999,null,null,181.97008600000001,3.074881,3.1173410000000001,2.6236809999999999,null,null,null,181.97008600000001,5.7756460000000001,5.6551640000000001,5.2580720000000003,null,null,181.97008600000001,2.9336519999999999,2.3755359999999999,2.178248,null,null,181.97008600000001,3.2727409999999999,2.8962270000000001,3.0768360000000001,null,null,181.97008600000001,7.7602250000000002,7.6484759999999996,7.8957420000000003,null,null,181.97008600000001,4.8166000000000002,4.6913929999999997,5.0203049999999996,null,null,181.97008600000001,2.711211,3.0018069999999999,2.6522640000000002,null,null,181.97008600000001,6.3093389999999996,6.3271480000000002,5.8305670000000003,null,null,181.97008600000001,2.7711420000000002,2.223446,2.3115920000000001,null,null,181.97008600000001,5.2701440000000002,5.1544530000000002,5.518033,null,null,181.97008600000001,4.5923170000000004,3.2684630000000001,3.0575649999999999,null,null,181.97008600000001,4.4271339999999997,4.4195190000000002,4.2712409999999998,null,null,181.97008600000001,5.5254500000000002,5.3766610000000004,5.3085579999999997,null,null,181.97008600000001,5.7537229999999999,5.5065929999999996,5.5046249999999999,null,null,181.97008600000001,4.7697969999999996,4.5009059999999996,4.8506010000000002,null,null,181.97008600000001,5.9495189999999996,5.7286089999999996,5.8599119999999996,null,null,181.97008600000001,5.701047,5.7151909999999999,5.6930779999999999,null,null,181.97008600000001,6.3192139999999997,6.1766120000000004,6.4760910000000003,null,null,181.97008600000001,3.729867,3.4528289999999999,3.4137749999999998,null,null,181.97008600000001,4.2523679999999997,4.1056350000000004,4.3132539999999997,null,null,181.97008600000001,9.2384310000000003,9.2937320000000003,9.8114729999999994,null,null,181.97008600000001,4.0115803333333337,3.5817026666666667,2.9386343333333333,5.5629606666666662,2.4958119999999999,3.0819346666666667,7.7681476666666667,4.8427660000000001,2.7884273333333334,6.1556846666666658,2.4353933333333333,5.3142100000000001,3.6394483333333336,4.3726313333333335,5.4035563333333343,5.5883136666666671,4.7071013333333331,5.8460133333333326,5.7031053333333332,6.3239723333333338,3.5321569999999998,4.2237523333333336,9.4478786666666661]
[null,208.92961299999999,3.8294239999999999,3.782327,3.7527759999999999,null,null,208.92961299999999,2.8847149999999999,4.5040139999999997,4.078595,null,null,208.92961299999999,3.2235860000000001,3.2580640000000001,2.726289,null,null,null,208.92961299999999,4.9008779999999996,4.7226559999999997,4.2276870000000004,null,null,208.92961299999999,3.122665,2.4643069999999998,2.293288,null,null,208.92961299999999,2.9926520000000001,2.6009009999999999,2.856487,null,null,208.92961299999999,7.5969819999999997,7.217428,7.4987339999999998,null,null,208.92961299999999,4.1510220000000002,4.0046220000000003,4.4072040000000001,null,null,208.92961299999999,2.4303159999999999,2.638474,2.457141,null,null,208.92961299999999,6.1160540000000001,6.08162,5.4128429999999996,null,null,208.92961299999999,2.6659269999999999,1.857672,2.0989710000000001,null,null,208.92961299999999,4.6428019999999997,4.5915090000000003,4.8912279999999999,null,null,208.92961299999999,5.2406550000000003,3.7570709999999998,3.4511270000000001,null,null,208.92961299999999,4.2573559999999997,4.2405419999999996,4.117934,null,null,208.92961299999999,5.7829160000000002,5.5655609999999998,5.5503780000000003,null,null,208.92961299999999,6.2789320000000002,6.0065289999999996,5.8450600000000001,null,null,208.92961299999999,4.870736,4.471285,4.7932889999999997,null,null,208.92961299999999,6.1376970000000002,5.7917240000000003,6.0884109999999998,null,null,208.92961299999999,6.2023400000000004,6.0584199999999999,6.0133179999999999,null,null,208.92961299999999,5.9380220000000001,5.8007609999999996,6.2474540000000003,null,null,208.92961299999999,3.7751969999999999,3.4656020000000001,3.6102889999999999,null,null,208.92961299999999,9.8954590000000007,9.7585879999999996,9.8163429999999998,null,null,208.92961299999999,12.441800000000001,13.011384,13.264692,null,null,208.92961299999999,3.7881756666666662,3.8224413333333334,3.0693129999999997,4.6170736666666663,2.6267533333333333,2.8166799999999999,7.4377146666666656,4.1876160000000002,2.5086436666666665,5.8701723333333327,2.2075233333333331,4.7085129999999999,4.1496176666666669,4.2052773333333331,5.6329516666666661,6.0435070000000009,4.7117699999999996,6.0059440000000004,6.091359333333334,5.9954123333333333,3.6170293333333334,9.8234633333333328,12.905958666666669]
[null,239.88329200000001,3.6365940000000001,3.6949730000000001,3.52095,null,null,239.88329200000001,3.189781,4.7630410000000003,4.4556399999999998,null,null,239.88329200000001,3.5551400000000002,3.5988479999999998,3.046977,null,null,null,239.88329200000001,3.9967640000000002,3.7832129999999999,3.2320009999999999,null,null,239.88329200000001,3.5464009999999999,2.8029329999999999,2.7295970000000001,null,null,239.88329200000001,2.891362,2.4855610000000001,2.8433950000000001,null,null,239.88329200000001,7.140587,6.5292260000000004,6.8184529999999999,null,null,239.88329200000001,3.5117210000000001,3.3459759999999998,3.8000400000000001,null,null,239.88329200000001,2.2504080000000002,2.2727750000000002,2.3657050000000002,null,null,239.88329200000001,5.834511,5.7362849999999996,4.9463759999999999,null,null,239.88329200000001,2.6124239999999999,1.523482,1.9159999999999999,null,null,239.88329200000001,3.9669430000000001,3.9940950000000002,4.2391379999999996,null,null,239.88329200000001,5.8257750000000001,4.2823399999999996,3.8466580000000001,null,null,239.88329200000001,4.0188499999999996,3.9461279999999999,3.882571,null,null,239.88329200000001,5.8660690000000004,5.5562300000000002,5.6362420000000002,null,null,239.88329200000001,6.6766079999999999,6.3817729999999999,6.068276,null,null,239.88329200000001,4.9241919999999997,4.4079959999999998,4.6830679999999996,null,null,239.88329200000001,6.1100680000000001,5.6386180000000001,6.1225360000000002,null,null,239.88329200000001,6.5926010000000002,6.3200529999999997,6.2319570000000004,null,null,239.88329200000001,5.3838710000000001,5.2766979999999997,5.8531389999999996,null,null,239.88329200000001,3.781914,3.452531,3.794381,null,null,239.88329200000001,15.405352000000001,15.399162,15.176171,null,null,239.88329200000001,14.552004999999999,15.482359000000001,15.52979,null,null,239.88329200000001,3.6175056666666663,4.1361540000000003,3.4003216666666667,3.6706593333333335,3.0263103333333334,2.7401059999999995,6.829422000000001,3.5525790000000002,2.2962960000000003,5.5057239999999998,2.0173020000000004,4.0667253333333333,4.6515909999999998,3.9491829999999997,5.6861803333333336,6.3755523333333342,4.6717519999999988,5.9570739999999995,6.3815370000000007,5.5045693333333325,3.6762753333333333,15.326895,15.188051333333334]
[null,275.42286999999999,3.4668779999999999,3.6484040000000002,3.3466529999999999,null,null,275.42286999999999,3.65707,5.029528,4.8691950000000004,null,null,275.42286999999999,4.0405179999999996,4.1137309999999996,3.5834869999999999,null,null,null,275.42286999999999,3.1158060000000001,2.890714,2.327868,null,null,275.42286999999999,4.1923380000000003,3.4026649999999998,3.5103580000000001,null,null,275.42286999999999,2.9504090000000001,2.5599020000000001,3.0234320000000001,null,null,275.42286999999999,6.3905180000000001,5.613524,5.8861800000000004,null,null,275.42286999999999,2.92422,2.7528820000000001,3.2169310000000002,null,null,275.42286999999999,2.155014,1.8460939999999999,2.3592360000000001,null,null,275.42286999999999,5.475104,5.30525,4.4778520000000004,null,null,275.42286999999999,2.5757319999999999,1.236936,1.7494240000000001,null,null,275.42286999999999,3.2867519999999999,3.4042870000000001,3.617801,null,null,275.42286999999999,6.3124589999999996,4.849729,4.2589959999999998,null,null,275.42286999999999,3.7724139999999999,3.5878649999999999,3.6128900000000002,null,null,275.42286999999999,5.7730699999999997,5.354044,5.5604269999999998,null,null,275.42286999999999,6.9066029999999996,6.6049110000000004,6.1681140000000001,null,null,275.42286999999999,4.9142390000000002,4.3319669999999997,4.5156150000000004,null,null,275.42286999999999,5.866676,5.2847210000000002,5.9631809999999996,null,null,275.42286999999999,6.8492439999999997,6.4824469999999996,6.3365729999999996,null,null,275.42286999999999,4.6919279999999999,4.6485529999999997,5.3272769999999996,null,null,275.42286999999999,3.8026810000000002,3.4750049999999999,4.0167659999999996,null,null,275.42286999999999,18.933910999999998,19.127185000000001,18.724671000000001,null,null,275.42286999999999,14.973539000000001,15.88828,15.561870000000001,null,null,275.42286999999999,3.4873116666666668,4.5185976666666674,3.9125786666666666,2.7781293333333337,3.7017869999999999,2.8445809999999998,5.9634073333333335,2.9646776666666668,2.1201146666666668,5.0860686666666668,1.8540306666666666,3.43628,5.1403946666666664,3.6577230000000003,5.5625136666666668,6.559876,4.5872736666666674,5.7048593333333324,6.5560879999999999,4.8892526666666667,3.7648173333333332,18.928588999999999,15.474563000000002]
[null,316.22776599999997,3.3037619999999999,3.607615,3.204793,null,null,316.22776599999997,4.2599410000000004,5.254607,5.2510000000000003,null,null,316.22776599999997,4.5805160000000003,4.6983709999999999,4.256742,null,null,null,316.22776599999997,2.3364509999999998,2.1222949999999998,1.590292,null,null,316.22776599999997,4.9597920000000002,4.1888180000000004,4.5452760000000003,null,null,316.22776599999997,3.111475,2.7979699999999998,3.330168,null,null,316.22776599999997,5.4107079999999996,4.5659660000000004,4.8026450000000001,null,null,316.22776599999997,2.4289350000000001,2.277876,2.6934800000000001,null,null,316.22776599999997,2.1109490000000002,1.324122,2.397545,null,null,316.22776599999997,5.0505050000000002,4.8124339999999997,4.0595220000000003,null,null,316.22776599999997,2.5031810000000001,1.0104500000000001,1.5813159999999999,null,null,316.22776599999997,2.6784889999999999,2.8886289999999999,3.098954,null,null,316.22776599999997,6.6363719999999997,5.4221250000000003,4.681006,null,null,316.22776599999997,3.588565,3.2471909999999999,3.3740570000000001,null,null,316.22776599999997,5.5202879999999999,4.9970840000000001,5.3311250000000001,null,null,316.22776599999997,6.9130929999999999,6.63828,6.1304829999999999,null,null,316.22776599999997,4.8168249999999997,4.2588189999999999,4.2869270000000004,null,null,316.22776599999997,5.436191,4.7834589999999997,5.6313529999999998,null,null,316.22776599999997,6.9263859999999999,6.5017300000000002,6.2993139999999999,null,null,316.22776599999997,3.9359289999999998,3.9913370000000001,4.7264229999999996,null,null,316.22776599999997,3.8854760000000002,3.59056,4.3106669999999996,null,null,316.22776599999997,18.130917,18.466023,18.204128000000001,null,null,316.22776599999997,13.534761,14.044193999999999,13.282458,null,null,316.22776599999997,3.3720566666666669,4.9218493333333342,4.5118763333333334,2.016346,4.5646286666666676,3.0798710000000002,4.9264396666666661,2.4667636666666666,1.9442053333333333,4.640820333333334,1.6983156666666668,2.8886906666666667,5.5798343333333333,3.4032710000000002,5.2828323333333334,6.5606186666666666,4.4541903333333339,5.2836676666666662,6.5758099999999997,4.217896333333333,3.9289009999999998,18.267022666666666,13.620471]
[null,363.07805500000001,3.116787,3.526348,3.046805,null,null,363.07805500000001,4.9577010000000001,5.3937720000000002,5.5412229999999996,null,null,363.07805500000001,5.067393,5.2337189999999998,4.9680080000000002,null,null,null,363.07805500000001,1.67458,1.4875879999999999,1.027752,null,null,363.07805500000001,5.7324900000000003,5.0624409999999997,5.7044649999999999,null,null,363.07805500000001,3.290079,3.1440980000000001,3.6678489999999999,null,null,363.07805500000001,4.2706660000000003,3.4541339999999998,3.6477569999999999,null,null,363.07805500000001,2.0216449999999999,1.9246589999999999,2.2259180000000001,null,null,363.07805500000001,2.0651570000000001,0.70592100000000002,2.4257019999999998,null,null,363.07805500000001,4.5462009999999999,4.2554879999999997,3.6992250000000002,null,null,363.07805500000001,2.3396889999999999,0.83360800000000002,1.3811819999999999,null,null,363.07805500000001,2.1777329999999999,2.4738889999999998,2.700399,null,null,363.07805500000001,6.7599919999999996,5.9734600000000002,5.1205309999999997,null,null,363.07805500000001,3.5085540000000002,2.9903689999999998,3.2137579999999999,null,null,363.07805500000001,5.1322089999999996,4.5349060000000003,4.9651899999999998,null,null,363.07805500000001,6.6591769999999997,6.4632849999999999,5.9430690000000004,null,null,363.07805500000001,4.605874,4.1861189999999997,3.980931,null,null,363.07805500000001,4.8517409999999996,4.1883739999999996,5.1526379999999996,null,null,363.07805500000001,6.7866970000000002,6.3317800000000002,6.0940640000000004,null,null,363.07805500000001,3.1617500000000001,3.3425630000000002,4.0727989999999998,null,null,363.07805500000001,4.0641759999999998,3.841933,4.7010139999999998,null,null,363.07805500000001,13.38477,13.719631,13.824095,null,null,363.07805500000001,10.642225,10.574574,9.7449840000000005,null,null,363.07805500000001,3.2299799999999999,5.2975653333333339,5.0897066666666673,1.3966399999999999,5.4997986666666669,3.3673420000000003,3.7908523333333335,2.0574073333333334,1.7322600000000001,4.1669713333333336,1.5181596666666666,2.4506736666666664,5.9513276666666668,3.2375603333333332,4.8774349999999993,6.3551770000000003,4.2576413333333329,4.7309176666666666,6.4041803333333336,3.5257039999999997,4.2023743333333332,13.642831999999999,10.320594333333334]
[null,416.86938300000003,2.8878720000000002,3.3671579999999999,2.8304279999999999,null,null,416.86938300000003,5.6493760000000002,5.4005799999999997,5.6738350000000004,null,null,416.86938300000003,5.3708150000000003,5.571396,5.5660879999999997,null,null,null,416.86938300000003,1.1519779999999999,1.003282,0.59111800000000003,null,null,416.86938300000003,6.3441720000000004,5.8593599999999997,6.760554,null,null,416.86938300000003,3.3886660000000002,3.5061789999999999,3.9121199999999998,null,null,416.86938300000003,3.0676549999999998,2.396026,2.534192,null,null,416.86938300000003,1.7017610000000001,1.6911229999999999,1.82209,null,null,416.86938300000003,1.965044,9.6310999999999994E-2,2.3880520000000001,null,null,416.86938300000003,3.9680019999999998,3.6567340000000002,3.3984800000000002,null,null,416.86938300000003,2.0599470000000002,0.69811999999999996,1.1390610000000001,null,null,416.86938300000003,1.8271660000000001,2.1881550000000001,2.430288,null,null,416.86938300000003,6.6505660000000004,6.4388930000000002,5.5558300000000003,null,null,416.86938300000003,3.5462539999999998,2.8802759999999998,3.17042,null,null,416.86938300000003,4.6524140000000003,4.0431980000000003,4.5027910000000002,null,null,416.86938300000003,6.1372260000000001,6.0799989999999999,5.5975640000000002,null,null,416.86938300000003,4.2712789999999998,4.0982260000000004,3.5968559999999998,null,null,416.86938300000003,4.1785889999999997,3.5814059999999999,4.5777939999999999,null,null,416.86938300000003,6.4039380000000001,5.9371090000000004,5.7076200000000004,null,null,416.86938300000003,2.4294020000000001,2.7525629999999999,3.4063680000000001,null,null,416.86938300000003,4.3393449999999998,4.2323079999999997,5.1657149999999996,null,null,416.86938300000003,7.7236929999999999,7.9542349999999997,8.3544210000000003,null,null,416.86938300000003,7.1475749999999998,6.6560800000000002,5.3509039999999999,null,null,416.86938300000003,3.0284859999999996,5.5745969999999998,5.5027663333333336,0.91545933333333329,6.3213619999999997,3.6023216666666666,2.6659576666666664,1.7383246666666665,1.4831356666666666,3.674405333333334,1.2990426666666668,2.1485363333333334,6.2150963333333342,3.1989833333333331,4.3994676666666672,5.9382629999999992,3.9887869999999999,4.1125963333333333,6.0162223333333342,2.8627776666666667,4.5791226666666667,8.010783,6.3848529999999997]
[null,478.63009199999999,2.6040679999999998,3.1068210000000001,2.5219170000000002,null,null,478.63009199999999,6.2354859999999999,5.2477549999999997,5.6128650000000002,null,null,478.63009199999999,5.4031380000000002,5.6068749999999996,5.9253359999999997,null,null,null,478.63009199999999,0.76641800000000004,0.64327000000000001,0.25267299999999998,null,null,478.63009199999999,6.6661539999999997,6.4424169999999998,7.5117750000000001,null,null,478.63009199999999,3.3306589999999998,3.7920639999999999,3.9606439999999998,null,null,478.63009199999999,2.0084919999999999,1.3665149999999999,1.5610329999999999,null,null,478.63009199999999,1.445578,1.5446470000000001,1.4697659999999999,null,null,478.63009199999999,1.7621519999999999,0,2.242238,null,null,478.63009199999999,3.315817,3.027336,3.1294979999999999,null,null,478.63009199999999,1.6700699999999999,0.58219399999999999,0.84853900000000004,null,null,478.63009199999999,1.632986,2.0261520000000002,2.2595649999999998,null,null,478.63009199999999,6.2980239999999998,6.7605199999999996,5.9631350000000003,null,null,478.63009199999999,3.6755149999999999,2.9419200000000001,3.2515849999999999,null,null,478.63009199999999,4.1087829999999999,3.5757660000000002,3.9776349999999998,null,null,478.63009199999999,5.3630389999999997,5.499187,5.0808850000000003,null,null,478.63009199999999,3.8117100000000002,3.9630890000000001,3.1328830000000001,null,null,478.63009199999999,3.4627560000000002,3.0196969999999999,3.9432010000000002,null,null,478.63009199999999,5.7677909999999999,5.2965859999999996,5.1349020000000003,null,null,478.63009199999999,1.7565740000000001,2.2323210000000002,2.7384360000000001,null,null,478.63009199999999,4.6859070000000003,4.7346360000000001,5.658709,null,null,478.63009199999999,2.7209140000000001,2.801866,3.1987719999999999,null,null,478.63009199999999,3.9782190000000002,3.3551389999999999,2.7335229999999999,null,null,478.63009199999999,2.7442686666666667,5.6987019999999999,5.6451163333333341,0.55412033333333333,6.8734486666666657,3.6944556666666664,1.6453466666666667,1.4866636666666668,1.3347966666666666,3.157550333333333,1.033601,1.9729010000000002,6.3405596666666666,3.2896733333333334,3.8873946666666668,5.3143703333333336,3.635894,3.4752179999999999,5.3997596666666672,2.2424436666666669,5.0264173333333337,2.9071839999999995,3.3556270000000001]
[null,549.54087400000003,2.2756509999999999,2.7504819999999999,2.117915,null,null,549.54087400000003,6.5984150000000001,4.9317760000000002,5.3533439999999999,null,null,549.54087400000003,5.1252589999999998,5.2900549999999997,5.94184,null,null,null,549.54087400000003,0.45963599999999999,0.39629300000000001,6.9928000000000004E-2,null,null,549.54087400000003,6.6020029999999998,6.6871609999999997,7.7721150000000003,null,null,549.54087400000003,3.0751490000000001,3.907124,3.7424360000000001,null,null,549.54087400000003,0.52321799999999996,0.49703599999999998,0.27688299999999999,null,null,549.54087400000003,1.2337590000000001,1.446861,1.167967,null,null,549.54087400000003,1.4428989999999999,0,1.9725379999999999,null,null,549.54087400000003,2.624546,2.4088820000000002,2.8639610000000002,null,null,549.54087400000003,1.2208779999999999,0.48373100000000002,0.56662999999999997,null,null,549.54087400000003,1.5857019999999999,1.9697929999999999,2.1458249999999999,null,null,549.54087400000003,5.725644,6.8682949999999998,6.2877179999999999,null,null,549.54087400000003,3.8349790000000001,3.1586959999999999,3.4323169999999998,null,null,549.54087400000003,3.5346380000000002,3.1766179999999999,3.438218,null,null,549.54087400000003,4.4068110000000003,4.7615460000000001,4.4044090000000002,null,null,549.54087400000003,3.2564799999999998,3.746254,2.6122879999999999,null,null,549.54087400000003,2.7641979999999999,2.5499719999999999,3.2974060000000001,null,null,549.54087400000003,4.9151980000000002,4.442475,4.4046560000000001,null,null,549.54087400000003,1.137777,1.790308,2.105051,null,null,549.54087400000003,5.040864,5.269539,6.0881699999999999,null,null,549.54087400000003,0.93223900000000004,0.954183,1.206825,null,null,549.54087400000003,1.4679899999999999,1.0341590000000001,0.42362,null,null,549.54087400000003,2.3813493333333331,5.6278450000000007,5.4523846666666662,0.30861899999999998,7.020426333333333,3.5749030000000004,0.43237900000000001,1.2828623333333333,1.138479,2.632463,0.75707966666666671,1.9004399999999997,6.2938856666666654,3.4753306666666663,3.3831580000000003,4.5242553333333335,3.2050073333333331,2.8705253333333332,4.5874430000000004,1.6777120000000003,5.4661909999999994,1.0310823333333332,0.97525633333333339]
[null,630.95734400000003,1.9174949999999999,2.3240150000000002,1.6424749999999999,null,null,630.95734400000003,6.65665,4.4681420000000003,4.9159110000000004,null,null,630.95734400000003,4.560791,4.6413630000000001,5.5766489999999997,null,null,null,630.95734400000003,0.25342300000000001,0.13561599999999999,0,null,null,630.95734400000003,6.1270699999999998,6.5384339999999996,7.4564979999999998,null,null,630.95734400000003,2.6220400000000001,3.7878940000000001,3.2563019999999998,null,null,630.95734400000003,3.2171999999999999E-2,4.4032000000000002E-2,0,null,null,630.95734400000003,1.0420700000000001,1.3536809999999999,0.90310299999999999,null,null,630.95734400000003,0.97862899999999997,0,1.584843,null,null,630.95734400000003,1.934642,1.8234360000000001,2.5671759999999999,null,null,630.95734400000003,0.77162399999999998,0.386575,0.25331700000000001,null,null,630.95734400000003,1.6486810000000001,1.981895,2.0380940000000001,null,null,630.95734400000003,4.9660380000000002,6.7117389999999997,6.469182,null,null,630.95734400000003,3.9475669999999998,3.4703550000000001,3.6590769999999999,null,null,630.95734400000003,2.9417089999999999,2.8469600000000002,2.9071479999999998,null,null,630.95734400000003,3.3505099999999999,3.9099179999999998,3.5827599999999999,null,null,630.95734400000003,2.6420689999999998,3.415937,2.0579540000000001,null,null,630.95734400000003,2.033156,2.199821,2.668434,null,null,630.95734400000003,3.9059409999999999,3.4182739999999998,3.5577049999999999,null,null,630.95734400000003,0.66146300000000002,1.38307,1.5020169999999999,null,null,630.95734400000003,5.3305910000000001,5.738677,6.3565009999999997,null,null,630.95734400000003,1.5520000000000001E-2,8.9709999999999998E-3,5.5650999999999999E-2,null,null,630.95734400000003,0.12239700000000001,4.1784000000000002E-2,0,null,null,630.95734400000003,1.9613283333333333,5.3469009999999999,4.9262676666666669,0.12967966666666667,6.7073339999999995,3.2220786666666665,2.5401333333333331E-2,1.0996179999999998,0.85449066666666662,2.1084179999999999,0.47050533333333333,1.8895566666666668,6.0489863333333327,3.6923330000000001,2.8986056666666666,3.6143959999999997,2.7053199999999999,2.3004703333333332,3.6273066666666662,1.1821833333333334,5.8085896666666672,2.6713999999999998E-2,5.4727000000000005E-2]
[null,724.43596000000002,1.5548109999999999,1.8663689999999999,1.1171199999999999,null,null,724.43596000000002,6.3735439999999999,3.8926069999999999,4.3620939999999999,null,null,724.43596000000002,3.7889279999999999,3.7546460000000002,4.8653019999999998,null,null,null,724.43596000000002,0.16927800000000001,2.3210999999999999E-2,0,null,null,724.43596000000002,5.2930869999999999,6.0063950000000004,6.5932110000000002,null,null,724.43596000000002,2.029118,3.416369,2.532464,null,null,724.43596000000002,0,0,0,null,null,724.43596000000002,0.857321,1.2356469999999999,0.65366800000000003,null,null,724.43596000000002,0.49524000000000001,0,1.1226750000000001,null,null,724.43596000000002,1.29443,1.3309340000000001,2.2200890000000002,null,null,724.43596000000002,0.37967699999999999,0.290356,8.0911999999999998E-2,null,null,724.43596000000002,1.7676780000000001,2.0175360000000002,1.8979900000000001,null,null,724.43596000000002,4.1034860000000002,6.269825,6.4420960000000003,null,null,724.43596000000002,3.9380790000000001,3.7783790000000002,3.8546279999999999,null,null,724.43596000000002,2.3449589999999998,2.5648390000000001,2.3374980000000001,null,null,724.43596000000002,2.2986,3.0042450000000001,2.6360239999999999,null,null,724.43596000000002,2.0198809999999998,2.9645030000000001,1.5125420000000001,null,null,724.43596000000002,1.355969,1.898811,2.0774360000000001,null,null,724.43596000000002,2.8344849999999999,2.3495599999999999,2.6612909999999999,null,null,724.43596000000002,0.47839199999999998,1.0284880000000001,0.920431,null,null,724.43596000000002,5.4770070000000004,6.0278559999999999,6.3708239999999998,null,null,724.43596000000002,0,0,0,null,null,724.43596000000002,0,0,0,null,null,724.43596000000002,1.5127666666666666,4.8760816666666669,4.1362920000000001,6.4163000000000012E-2,5.9642310000000007,2.6593170000000002,0,0.91554533333333332,0.53930500000000003,1.6151510000000002,0.25031500000000001,1.8944013333333334,5.6051356666666665,3.8570286666666669,2.4157653333333333,2.6462896666666667,2.1656420000000001,1.7774053333333335,2.6151119999999999,0.80910366666666667,5.9585623333333331,0,0]
[null,831.76377100000002,1.1858649999999999,1.348339,0.60677800000000004,null,null,831.76377100000002,5.7774650000000003,3.2601100000000001,3.7386439999999999,null,null,831.76377100000002,2.9272520000000002,2.7530130000000002,3.9042240000000001,null,null,null,831.76377100000002,0.108804,0,0,null,null,831.76377100000002,4.213228,5.1710079999999996,5.3165579999999997,null,null,831.76377100000002,1.352325,2.8220640000000001,1.7506870000000001,null,null,831.76377100000002,0,0,0,null,null,831.76377100000002,0.66969400000000001,1.0719479999999999,0.44199899999999998,null,null,831.76377100000002,0.123108,0,0.62251599999999996,null,null,831.76377100000002,0.77061599999999997,0.87853800000000004,1.821458,null,null,831.76377100000002,0.109624,0.179286,0,null,null,831.76377100000002,1.880978,2.0306999999999999,1.6892780000000001,null,null,831.76377100000002,3.1588769999999999,5.5642459999999998,6.1607950000000002,null,null,831.76377100000002,3.7590569999999999,3.9762040000000001,3.9401809999999999,null,null,831.76377100000002,1.704356,2.2874159999999999,1.8714109999999999,null,null,831.76377100000002,1.2146889999999999,2.1166320000000001,1.661146,null,null,831.76377100000002,1.3754219999999999,2.4087869999999998,0.95660500000000004,null,null,831.76377100000002,0.96513700000000002,1.6391199999999999,1.482335,null,null,831.76377100000002,1.7253780000000001,1.251431,1.7170939999999999,null,null,831.76377100000002,0.52035200000000004,0.79440599999999995,0.44849899999999998,null,null,831.76377100000002,5.4249219999999996,6.0474050000000004,6.0801220000000002,null,null,831.76377100000002,0,0,0,null,null,831.76377100000002,0,0,0,null,null,831.76377100000002,1.046994,4.258739666666667,3.1948296666666671,3.6268000000000002E-2,4.9002646666666658,1.9750253333333332,0,0.72788033333333324,0.24854133333333331,1.1568706666666666,9.6303333333333338E-2,1.8669853333333333,4.9613059999999995,3.8918140000000001,1.9543943333333333,1.6641556666666666,1.5802713333333331,1.3621973333333333,1.5646343333333335,0.58775233333333332,5.8508163333333334,0,0]
[null,954.99258599999996,0.83962499999999995,0.87450899999999998,0.23732500000000001,null,null,954.99258599999996,4.9506490000000003,2.6008490000000002,3.0652970000000002,null,null,954.99258599999996,2.056972,1.807374,2.8437320000000001,null,null,null,954.99258599999996,6.7291000000000004E-2,0,0,null,null,954.99258599999996,3.0433189999999999,4.1440590000000004,3.8438110000000001,null,null,954.99258599999996,0.69652700000000001,2.073582,0.84233199999999997,null,null,954.99258599999996,0,0,0,null,null,954.99258599999996,0.49076599999999998,0.86320200000000002,0.31620700000000002,null,null,954.99258599999996,0,0,0.15462300000000001,null,null,954.99258599999996,0.279503,0.47573900000000002,1.395696,null,null,954.99258599999996,2.7602000000000002E-2,9.4821000000000003E-2,0,null,null,954.99258599999996,1.9308650000000001,1.9852479999999999,1.420283,null,null,954.99258599999996,2.2102979999999999,4.6625629999999996,5.6173869999999999,null,null,954.99258599999996,3.403715,3.9766849999999998,3.8546670000000001,null,null,954.99258599999996,1.1124210000000001,1.987352,1.669537,null,null,954.99258599999996,0.243252,1.245263,0.89345699999999995,null,null,954.99258599999996,0.79225599999999996,1.80081,0.48406199999999999,null,null,954.99258599999996,0.80792600000000003,1.501979,0.95223400000000002,null,null,954.99258599999996,0.77570499999999998,0.25727699999999998,0.85921999999999998,null,null,954.99258599999996,0.58450100000000005,0.62814099999999995,0.161028,null,null,954.99258599999996,5.1509309999999999,5.7526679999999999,5.4914990000000001,null,null,954.99258599999996,0,0,0,null,null,954.99258599999996,0,0,0,null,null,954.99258599999996,0.65048633333333339,3.5389316666666666,2.2360260000000003,2.2430333333333333E-2,3.6770630000000004,1.2041470000000001,0,0.55672500000000003,5.1541000000000003E-2,0.7169793333333333,4.0807666666666666E-2,1.7787986666666669,4.1634159999999998,3.7450223333333335,1.5897699999999999,0.79399066666666673,1.0257093333333334,1.0873796666666669,0.63073400000000002,0.45788999999999996,5.4650326666666666,0,0]
[null,1096.478196,0.61346500000000004,0.68771800000000005,8.6822999999999997E-2,null,null,1096.478196,4.0189690000000002,1.92994,2.480623,null,null,1096.478196,1.2174320000000001,0.79484699999999997,1.7931520000000001,null,null,null,1096.478196,4.7439000000000002E-2,0,0,null,null,1096.478196,1.8351710000000001,3.043787,2.4102380000000001,null,null,1096.478196,0.217587,1.355372,0.13899,null,null,1096.478196,0,0,0,null,null,1096.478196,0.30656899999999998,0.64798599999999995,0.23269400000000001,null,null,1096.478196,0,0,0,null,null,1096.478196,0,0.37048900000000001,0.96478200000000003,null,null,1096.478196,0,1.1443E-2,0,null,null,1096.478196,1.8700600000000001,1.8570489999999999,1.1679790000000001,null,null,1096.478196,1.524365,3.612104,4.8529150000000003,null,null,1096.478196,2.9123009999999998,3.741206,3.5748769999999999,null,null,1096.478196,0.77450399999999997,1.6460920000000001,1.404231,null,null,1096.478196,0,0.40394099999999999,0.34007900000000002,null,null,1096.478196,0.51802300000000001,1.1681330000000001,0.244837,null,null,1096.478196,0.61617,1.2864199999999999,0.68352100000000005,null,null,1096.478196,0.267758,0,0.30543500000000001,null,null,1096.478196,0.61281600000000003,0.43526799999999999,3.0967000000000001E-2,null,null,1096.478196,4.6681530000000002,5.1624679999999996,4.6761650000000001,null,null,1096.478196,0,0,0,null,null,1096.478196,0,0,0,null,null,1096.478196,0.46266866666666667,2.809844,1.2684770000000001,1.5813000000000001E-2,2.429732,0.57064966666666661,0,0.39574966666666667,0,0.44509033333333337,3.8143333333333332E-3,1.631696,3.3297946666666669,3.4094613333333328,1.2749423333333334,0.24800666666666668,0.64366433333333328,0.86203699999999994,0.19106433333333336,0.35968366666666668,4.8355953333333339,0,0]
[null,1258.9254120000001,0.466111,0.52423200000000003,0,null,null,1258.9254120000001,3.0872630000000001,1.3799410000000001,2.1247959999999999,null,null,1258.9254120000001,0.628382,0,0.73794199999999999,null,null,null,1258.9254120000001,3.1393999999999998E-2,0,0,null,null,1258.9254120000001,0.65871299999999999,2.0604610000000001,1.0460100000000001,null,null,1258.9254120000001,0,0.75866800000000001,0,null,null,1258.9254120000001,0,0,0,null,null,1258.9254120000001,0.13719500000000001,0.45186999999999999,0.149953,null,null,1258.9254120000001,0,0,0,null,null,1258.9254120000001,0,0.28244399999999997,0.54298199999999996,null,null,1258.9254120000001,0,0,0,null,null,1258.9254120000001,1.6806289999999999,1.626252,0.93420999999999998,null,null,1258.9254120000001,0.94899199999999995,2.4974430000000001,3.9291529999999999,null,null,1258.9254120000001,2.3491300000000002,3.282845,3.1135679999999999,null,null,1258.9254120000001,0.44778600000000002,1.244272,1.126922,null,null,1258.9254120000001,0,6.7180000000000004E-2,0,null,null,1258.9254120000001,0.40121200000000001,0.541717,2.5693000000000001E-2,null,null,1258.9254120000001,0.430585,0.98632600000000004,0.42887500000000001,null,null,1258.9254120000001,0,0,0,null,null,1258.9254120000001,0.58991099999999996,0.29902400000000001,0,null,null,1258.9254120000001,4.008076,4.3423379999999998,3.7345160000000002,null,null,1258.9254120000001,0,0,0,null,null,1258.9254120000001,0,0,0,null,null,1258.9254120000001,0.33011433333333334,2.1973333333333334,0.45544133333333336,1.0464666666666666E-2,1.2550613333333336,0.25288933333333335,0,0.24633933333333333,0,0.275142,0,1.413697,2.4585293333333333,2.9151810000000005,0.93965999999999994,2.2393333333333335E-2,0.32287399999999999,0.61526199999999998,0,0.2963116666666667,4.0283100000000003,0,0]
[null,1445.4397710000001,0.33624999999999999,0.36894700000000002,0,null,null,1445.4397710000001,2.1357349999999999,0.91888300000000001,1.7236530000000001,null,null,1445.4397710000001,0.392569,0,0.15534899999999999,null,null,null,1445.4397710000001,2.1682E-2,0,0,null,null,1445.4397710000001,0.23807600000000001,1.3813679999999999,7.9103999999999994E-2,null,null,1445.4397710000001,0,0.120014,0,null,null,1445.4397710000001,0,0,0,null,null,1445.4397710000001,3.3042000000000002E-2,0.31803399999999998,6.7815E-2,null,null,1445.4397710000001,0,0,0,null,null,1445.4397710000001,0,0.20743500000000001,0.231186,null,null,1445.4397710000001,0,0,0,null,null,1445.4397710000001,1.4095930000000001,1.321925,0.69251099999999999,null,null,1445.4397710000001,0.35630000000000001,1.7645390000000001,2.9153850000000001,null,null,1445.4397710000001,1.755125,2.6576249999999999,2.5139010000000002,null,null,1445.4397710000001,0.25407999999999997,0.94419900000000001,0.83596999999999999,null,null,1445.4397710000001,0,0,0,null,null,1445.4397710000001,0.29602299999999998,0.23730399999999999,0,null,null,1445.4397710000001,0.25444600000000001,0.79505899999999996,0.16008800000000001,null,null,1445.4397710000001,0,0,0,null,null,1445.4397710000001,0.51226700000000003,0.18982399999999999,0,null,null,1445.4397710000001,3.217965,3.391937,2.762553,null,null,1445.4397710000001,0,0,0,null,null,1445.4397710000001,0,0,0,null,null,1445.4397710000001,0.2350656666666667,1.592757,0.18263933333333335,7.227333333333333E-3,0.56618266666666661,4.0004666666666668E-2,0,0.13963033333333333,0,0.146207,0,1.1413430000000002,1.6787413333333336,2.3088836666666666,0.67808299999999999,0,0.17777566666666667,0.40319766666666662,0,0.23403033333333334,3.1241516666666667,0,0]
[null,1659.5869070000001,0.22986999999999999,0.19189899999999999,0,null,null,1659.5869070000001,1.313666,0.64315699999999998,1.281339,null,null,1659.5869070000001,0.26532600000000001,0,1.0847000000000001E-2,null,null,null,1659.5869070000001,0,0,0,null,null,1659.5869070000001,8.7139999999999995E-3,0.99313799999999997,0,null,null,1659.5869070000001,0,7.0400000000000003E-3,0,null,null,1659.5869070000001,0,0,0,null,null,1659.5869070000001,0,0.21379300000000001,6.0670000000000003E-3,null,null,1659.5869070000001,0,0,0,null,null,1659.5869070000001,0,0.144846,7.3359999999999996E-3,null,null,1659.5869070000001,0,0,0,null,null,1659.5869070000001,1.0710999999999999,0.98332900000000001,0.44714500000000001,null,null,1659.5869070000001,9.1400000000000006E-3,1.093113,1.8399909999999999,null,null,1659.5869070000001,1.1449590000000001,1.940445,1.834473,null,null,1659.5869070000001,4.4953E-2,0.66305000000000003,0.531447,null,null,1659.5869070000001,0,0,0,null,null,1659.5869070000001,0.20576900000000001,8.5199999999999998E-3,0,null,null,1659.5869070000001,3.8559999999999997E-2,0.57630000000000003,1.376E-2,null,null,1659.5869070000001,0,0,0,null,null,1659.5869070000001,0.39226499999999997,5.8108E-2,0,null,null,1659.5869070000001,2.3508969999999998,2.390733,1.79159,null,null,1659.5869070000001,0,0,0,null,null,1659.5869070000001,0,0,0,null,null,1659.5869070000001,0.14058966666666664,1.0793873333333333,9.2057666666666663E-2,0,0.33395066666666667,2.3466666666666666E-3,0,7.3286666666666667E-2,0,5.072733333333334E-2,0,0.83385799999999988,0.98074799999999984,1.6399589999999999,0.41315000000000007,0,7.1429666666666669E-2,0.20954000000000003,0,0.15012433333333333,2.17774,0,0]
[null,1905.460718,0.11594400000000001,3.0172999999999998E-2,0,null,null,1905.460718,0.70122700000000004,0.36246400000000001,0.73253100000000004,null,null,1905.460718,0.13266,0,0,null,null,null,1905.460718,0,0,0,null,null,1905.460718,0,0.56535100000000005,0,null,null,1905.460718,0,0,0,null,null,1905.460718,0,0,0,null,null,1905.460718,0,8.1091999999999997E-2,0,null,null,1905.460718,0,0,0,null,null,1905.460718,0,7.3883000000000004E-2,0,null,null,1905.460718,0,0,0,null,null,1905.460718,0.61631999999999998,0.54388300000000001,0.17049400000000001,null,null,1905.460718,0,0.25578600000000001,0.94116699999999998,null,null,1905.460718,0.47925699999999999,1.0873010000000001,1.0279780000000001,null,null,1905.460718,0,0.35557899999999998,0.26439200000000002,null,null,1905.460718,0,0,0,null,null,1905.460718,0.105022,0,0,null,null,1905.460718,0,0.31604199999999999,0,null,null,1905.460718,0,0,0,null,null,1905.460718,0.22533500000000001,7.7479999999999997E-3,0,null,null,1905.460718,1.3222989999999999,1.2566310000000001,0.72100399999999998,null,null,1905.460718,0,0,0,null,null,1905.460718,0,0,0,null,null,1905.460718,4.8705666666666668E-2,0.5987406666666667,4.4220000000000002E-2,0,0.18845033333333336,0,0,2.7030666666666665E-2,0,2.4627666666666669E-2,0,0.44356566666666669,0.39898433333333333,0.86484533333333335,0.20665700000000001,0,3.5007333333333335E-2,0.10534733333333333,0,7.7694333333333337E-2,1.0999779999999999,0,0]
[null,2187.7616240000002,3.1396E-2,0,0,null,null,2187.7616240000002,0.17225599999999999,8.3722000000000005E-2,0.174678,null,null,2187.7616240000002,3.5875999999999998E-2,0,0,null,null,null,2187.7616240000002,0,0,0,null,null,2187.7616240000002,0,0.13123599999999999,0,null,null,2187.7616240000002,0,0,0,null,null,2187.7616240000002,0,0,0,null,null,2187.7616240000002,0,1.9342000000000002E-2,0,null,null,2187.7616240000002,0,0,0,null,null,2187.7616240000002,0,2.0077000000000001E-2,0,null,null,2187.7616240000002,0,0,0,null,null,2187.7616240000002,0.14720900000000001,0.12409199999999999,4.1173000000000001E-2,null,null,2187.7616240000002,0,4.1724999999999998E-2,0.21971299999999999,null,null,2187.7616240000002,7.3259000000000005E-2,0.25646000000000002,0.24249799999999999,null,null,2187.7616240000002,0,8.1125000000000003E-2,5.8825000000000002E-2,null,null,2187.7616240000002,0,0,0,null,null,2187.7616240000002,2.8517000000000001E-2,0,0,null,null,2187.7616240000002,0,7.4052999999999994E-2,0,null,null,2187.7616240000002,0,0,0,null,null,2187.7616240000002,5.3717000000000001E-2,0,0,null,null,2187.7616240000002,0.31286900000000001,0.27668399999999999,9.9136000000000002E-2,null,null,2187.7616240000002,0,0,0,null,null,2187.7616240000002,0,0,0,null,null,2187.7616240000002,1.0465333333333333E-2,0.14355199999999999,1.1958666666666666E-2,0,4.3745333333333331E-2,0,0,6.4473333333333336E-3,0,6.692333333333334E-3,0,0.10415800000000001,8.7146000000000001E-2,0.19073899999999999,4.6650000000000004E-2,0,9.5056666666666675E-3,2.4684333333333332E-2,0,1.7905666666666667E-2,0.22956299999999999,0,0]
[null,2511.8864319999998,0,0,0,null,null,2511.8864319999998,0,0,0,null,null,2511.8864319999998,0,0,0,null,null,null,2511.8864319999998,0,0,0,null,null,2511.8864319999998,0,0,0,null,null,2511.8864319999998,0,0,0,null,null,2511.8864319999998,0,0,0,null,null,2511.8864319999998,0,0,0,null,null,2511.8864319999998,0,0,0,null,null,2511.8864319999998,0,0,0,null,null,2511.8864319999998,0,0,0,null,null,2511.8864319999998,0,0,0,null,null,2511.8864319999998,0,0,0,null,null,2511.8864319999998,0,0,0,null,null,2511.8864319999998,0,0,0,null,null,2511.8864319999998,0,0,0,null,null,2511.8864319999998,0,0,0,null,null,2511.8864319999998,0,0,0,null,null,2511.8864319999998,0,0,0,null,null,2511.8864319999998,0,0,0,null,null,2511.8864319999998,0,0,0,null,null,2511.8864319999998,0,0,0,null,null,2511.8864319999998,0,0,0,null,null,2511.8864319999998,0,0,0,0,0,0,0,0,0,0,0,0,0,0,0,0,0,0,0,0,0,0,0]
[null,2884.0315030000002,0,0,0,null,null,2884.0315030000002,0,0,0,null,null,2884.0315030000002,0,0,0,null,null,null,2884.0315030000002,0,0,0,null,null,2884.0315030000002,0,0,0,null,null,2884.0315030000002,0,0,0,null,null,2884.0315030000002,0,0,0,null,null,2884.0315030000002,0,0,0,null,null,2884.0315030000002,0,0,0,null,null,2884.0315030000002,0,0,0,null,null,2884.0315030000002,0,0,0,null,null,2884.0315030000002,0,0,0,null,null,2884.0315030000002,0,0,0,null,null,2884.0315030000002,0,0,0,null,null,2884.0315030000002,0,0,0,null,null,2884.0315030000002,0,0,0,null,null,2884.0315030000002,0,0,0,null,null,2884.0315030000002,0,0,0,null,null,2884.0315030000002,0,0,0,null,null,2884.0315030000002,0,0,0,null,null,2884.0315030000002,0,0,0,null,null,2884.0315030000002,0,0,0,null,null,2884.0315030000002,0,0,0,null,null,2884.0315030000002,0,0,0,0,0,0,0,0,0,0,0,0,0,0,0,0,0,0,0,0,0,0,0]
[null,3311.3112150000002,0,0,0,null,null,3311.3112150000002,0,0,0,null,null,3311.3112150000002,0,0,0,null,null,null,3311.3112150000002,0,0,0,null,null,3311.3112150000002,0,0,0,null,null,3311.3112150000002,0,0,0,null,null,3311.3112150000002,0,0,0,null,null,3311.3112150000002,0,0,0,null,null,3311.3112150000002,0,0,0,null,null,3311.3112150000002,0,0,0,null,null,3311.3112150000002,0,0,0,null,null,3311.3112150000002,0,0,0,null,null,3311.3112150000002,0,0,0,null,null,3311.3112150000002,0,0,0,null,null,3311.3112150000002,0,0,0,null,null,3311.3112150000002,0,0,0,null,null,3311.3112150000002,0,0,0,null,null,3311.3112150000002,0,0,0,null,null,3311.3112150000002,0,0,0,null,null,3311.3112150000002,0,0,0,null,null,3311.3112150000002,0,0,0,null,null,3311.3112150000002,0,0,0,null,null,3311.3112150000002,0,0,0,null,null,3311.3112150000002,0,0,0,0,0,0,0,0,0,0,0,0,0,0,0,0,0,0,0,0,0,0,0]
[null,3801.893963,0,0,0,null,null,3801.893963,0,0,0,null,null,3801.893963,0,0,0,null,null,null,3801.893963,0,0,0,null,null,3801.893963,0,0,0,null,null,3801.893963,0,0,0,null,null,3801.893963,0,0,0,null,null,3801.893963,0,0,0,null,null,3801.893963,0,0,0,null,null,3801.893963,0,0,0,null,null,3801.893963,0,0,0,null,null,3801.893963,0,0,0,null,null,3801.893963,0,0,0,null,null,3801.893963,0,0,0,null,null,3801.893963,0,0,0,null,null,3801.893963,0,0,0,null,null,3801.893963,0,0,0,null,null,3801.893963,0,0,0,null,null,3801.893963,0,0,0,null,null,3801.893963,0,0,0,null,null,3801.893963,0,0,0,null,null,3801.893963,0,0,0,null,null,3801.893963,0,0,0,null,null,3801.893963,0,0,0,0,0,0,0,0,0,0,0,0,0,0,0,0,0,0,0,0,0,0,0]
[null,4365.1583220000002,0,0,0,null,null,4365.1583220000002,0,0,0,null,null,4365.1583220000002,0,0,0,null,null,null,4365.1583220000002,0,0,0,null,null,4365.1583220000002,0,0,0,null,null,4365.1583220000002,0,0,0,null,null,4365.1583220000002,0,0,0,null,null,4365.1583220000002,0,0,0,null,null,4365.1583220000002,0,0,0,null,null,4365.1583220000002,0,0,0,null,null,4365.1583220000002,0,0,0,null,null,4365.1583220000002,0,0,0,null,null,4365.1583220000002,0,0,0,null,null,4365.1583220000002,0,0,0,null,null,4365.1583220000002,0,0,0,null,null,4365.1583220000002,0,0,0,null,null,4365.1583220000002,0,0,0,null,null,4365.1583220000002,0,0,0,null,null,4365.1583220000002,0,0,0,null,null,4365.1583220000002,0,0,0,null,null,4365.1583220000002,0,0,0,null,null,4365.1583220000002,0,0,0,null,null,4365.1583220000002,0,0,0,null,null,4365.1583220000002,0,0,0,0,0,0,0,0,0,0,0,0,0,0,0,0,0,0,0,0,0,0,0]
[null,5011.8723360000004,0,0,0,null,null,5011.8723360000004,0,0,0,null,null,5011.8723360000004,0,0,0,null,null,null,5011.8723360000004,0,0,0,null,null,5011.8723360000004,0,0,0,null,null,5011.8723360000004,0,0,0,null,null,5011.8723360000004,0,0,0,null,null,5011.8723360000004,0,0,0,null,null,5011.8723360000004,0,0,0,null,null,5011.8723360000004,0,0,0,null,null,5011.8723360000004,0,0,0,null,null,5011.8723360000004,0,0,0,null,null,5011.8723360000004,0,0,0,null,null,5011.8723360000004,0,0,0,null,null,5011.8723360000004,0,0,0,null,null,5011.8723360000004,0,0,0,null,null,5011.8723360000004,0,0,0,null,null,5011.8723360000004,0,0,0,null,null,5011.8723360000004,0,0,0,null,null,5011.8723360000004,0,0,0,null,null,5011.8723360000004,0,0,0,null,null,5011.8723360000004,0,0,0,null,null,5011.8723360000004,0,0,0,null,null,5011.8723360000004,0,0,0,0,0,0,0,0,0,0,0,0,0,0,0,0,0,0,0,0,0,0,0]
[null,5754.3993730000002,0,0,0,null,null,5754.3993730000002,0,0,0,null,null,5754.3993730000002,0,0,0,null,null,null,5754.3993730000002,0,0,0,null,null,5754.3993730000002,0,0,0,null,null,5754.3993730000002,0,0,0,null,null,5754.3993730000002,0,0,0,null,null,5754.3993730000002,0,0,0,null,null,5754.3993730000002,0,0,0,null,null,5754.3993730000002,0,0,0,null,null,5754.3993730000002,0,0,0,null,null,5754.3993730000002,0,0,0,null,null,5754.3993730000002,0,0,0,null,null,5754.3993730000002,0,0,0,null,null,5754.3993730000002,0,0,0,null,null,5754.3993730000002,0,0,0,null,null,5754.3993730000002,0,0,0,null,null,5754.3993730000002,0,0,0,null,null,5754.3993730000002,0,0,0,null,null,5754.3993730000002,0,0,0,null,null,5754.3993730000002,0,0,0,null,null,5754.3993730000002,0,0,0,null,null,5754.3993730000002,0,0,0,null,null,5754.3993730000002,0,0,0,0,0,0,0,0,0,0,0,0,0,0,0,0,0,0,0,0,0,0,0]
[null,6606.9344799999999,0,0,0,null,null,6606.9344799999999,0,0,0,null,null,6606.9344799999999,0,0,0,null,null,null,6606.9344799999999,0,0,0,null,null,6606.9344799999999,0,0,0,null,null,6606.9344799999999,0,0,0,null,null,6606.9344799999999,0,0,0,null,null,6606.9344799999999,0,0,0,null,null,6606.9344799999999,0,0,0,null,null,6606.9344799999999,0,0,0,null,null,6606.9344799999999,0,0,0,null,null,6606.9344799999999,0,0,0,null,null,6606.9344799999999,0,0,0,null,null,6606.9344799999999,0,0,0,null,null,6606.9344799999999,0,0,0,null,null,6606.9344799999999,0,0,0,null,null,6606.9344799999999,0,0,0,null,null,6606.9344799999999,0,0,0,null,null,6606.9344799999999,0,0,0,null,null,6606.9344799999999,0,0,0,null,null,6606.9344799999999,0,0,0,null,null,6606.9344799999999,0,0,0,null,null,6606.9344799999999,0,0,0,null,null,6606.9344799999999,0,0,0,0,0,0,0,0,0,0,0,0,0,0,0,0,0,0,0,0,0,0,0]
[null,7585.7757499999998,0,0,0,null,null,7585.7757499999998,0,0,0,null,null,7585.7757499999998,0,0,0,null,null,null,7585.7757499999998,0,0,0,null,null,7585.7757499999998,0,0,0,null,null,7585.7757499999998,0,0,0,null,null,7585.7757499999998,0,0,0,null,null,7585.7757499999998,0,0,0,null,null,7585.7757499999998,0,0,0,null,null,7585.7757499999998,0,0,0,null,null,7585.7757499999998,0,0,0,null,null,7585.7757499999998,0,0,0,null,null,7585.7757499999998,0,0,0,null,null,7585.7757499999998,0,0,0,null,null,7585.7757499999998,0,0,0,null,null,7585.7757499999998,0,0,0,null,null,7585.7757499999998,0,0,0,null,null,7585.7757499999998,0,0,0,null,null,7585.7757499999998,0,0,0,null,null,7585.7757499999998,0,0,0,null,null,7585.7757499999998,0,0,0,null,null,7585.7757499999998,0,0,0,null,null,7585.7757499999998,0,0,0,null,null,7585.7757499999998,0,0,0,0,0,0,0,0,0,0,0,0,0,0,0,0,0,0,0,0,0,0,0]
[null,8709.6358999999993,0,0,0,null,null,8709.6358999999993,0,0,0,null,null,8709.6358999999993,0,0,0,null,null,null,8709.6358999999993,0,0,0,null,null,8709.6358999999993,0,0,0,null,null,8709.6358999999993,0,0,0,null,null,8709.6358999999993,0,0,0,null,null,8709.6358999999993,0,0,0,null,null,8709.6358999999993,0,0,0,null,null,8709.6358999999993,0,0,0,null,null,8709.6358999999993,0,0,0,null,null,8709.6358999999993,0,0,0,null,null,8709.6358999999993,0,0,0,null,null,8709.6358999999993,0,0,0,null,null,8709.6358999999993,0,0,0,null,null,8709.6358999999993,0,0,0,null,null,8709.6358999999993,0,0,0,null,null,8709.6358999999993,0,0,0,null,null,8709.6358999999993,0,0,0,null,null,8709.6358999999993,0,0,0,null,null,8709.6358999999993,0,0,0,null,null,8709.6358999999993,0,0,0,null,null,8709.6358999999993,0,0,0,null,null,8709.6358999999993,0,0,0,0,0,0,0,0,0,0,0,0,0,0,0,0,0,0,0,0,0,0,0]
[null,10000,0,0,0,null,null,10000,0,0,0,null,null,10000,0,0,0,null,null,null,10000,0,0,0,null,null,10000,0,0,0,null,null,10000,0,0,0,null,null,10000,0,0,0,null,null,10000,0,0,0,null,null,10000,0,0,0,null,null,10000,0,0,0,null,null,10000,0,0,0,null,null,10000,0,0,0,null,null,10000,0,0,0,null,null,10000,0,0,0,null,null,10000,0,0,0,null,null,10000,0,0,0,null,null,10000,0,0,0,null,null,10000,0,0,0,null,null,10000,0,0,0,null,null,10000,0,0,0,null,null,10000,0,0,0,null,null,10000,0,0,0,null,null,10000,0,0,0,null,null,10000,0,0,0,0,0,0,0,0,0,0,0,0,0,0,0,0,0,0,0,0,0,0,0]

{"sheet":"Calculations","index":20,"n_rows":50,"n_cols":12,"rows_kept":50,"cut":false,"hidden":true,"merged":[[0,0,0,1],[16,0,16,1],[26,0,26,1],[35,0,35,1],[0,3,0,4],[16,3,16,4],[26,3,26,4],[35,3,35,4],[0,6,0,7],[16,6,16,7],[26,6,26,7],[35,6,35,7],[0,9,0,10],[16,9,16,10],[26,9,26,10],[35,9,35,10]]}
["Basics",null,null,"Basics",null,null,"Basics",null,null,"Basics"]
[{"$f":"IF('Texture Calculator'!$G$4+1.5*'Texture Calculator'!$E$4<0.15,1,0)","v":0},"((silt + 1.5*clay) < 15)","SAND",{"$f":"IF('Texture Calculator'!$G$5+1.5*'Texture Calculator'!$E$5<0.15,1,0)","v":1},"((silt + 1.5*clay) < 15)","SAND",{"$f":"IF('Texture Calculator'!$G$6+1.5*'Texture Calculator'!$E$6<0.15,1,0)","v":0},"((silt + 1.5*clay) < 15)","SAND",{"$f":"IF('Texture Calculator'!$G$7+1.5*'Texture Calculator'!$E$7<0.15,1,0)","v":0},"((silt + 1.5*clay) < 15)","SAND"]
[{"$f":"IF(AND('Texture Calculator'!$G$4+1.5*'Texture Calculator'!$E$4>=0.15, 'Texture Calculator'!$G$4+2*'Texture Calculator'!$E$4<0.3), 2, 0)","v":0},"((silt + 1.5*clay >= 15) && (silt + 2*clay < 30))","LOAMY SAND",{"$f":"IF(AND('Texture Calculator'!$G$5+1.5*'Texture Calculator'!$E$5>=0.15, 'Texture Calculator'!$G$5+2*'Texture Calculator'!$E$5<0.3), 2, 0)","v":0},"((silt + 1.5*clay >= 15) && (silt + 2*clay < 30))","LOAMY SAND",{"$f":"IF(AND('Texture Calculator'!$G$6+1.5*'Texture Calculator'!$E$6>=0.15, 'Texture Calculator'!$G$6+2*'Texture Calculator'!$E$6<0.3), 2, 0)","v":2},"((silt + 1.5*clay >= 15) && (silt + 2*clay < 30))","LOAMY SAND",{"$f":"IF(AND('Texture Calculator'!$G$7+1.5*'Texture Calculator'!$E$7>=0.15, 'Texture Calculator'!$G$7+2*'Texture Calculator'!$E$7<0.3), 2, 0)","v":0},"((silt + 1.5*clay >= 15) && (silt + 2*clay < 30))","LOAMY SAND"]
[{"$f":"IF(OR(AND('Texture Calculator'!$E$4>=0.07, 'Texture Calculator'!$E$4<0.2,'Texture Calculator'!$C$4>0.52,'Texture Calculator'!$G$4+2*'Texture Calculator'!$E$4>=0.3), AND('Texture Calculator'!$E$4<0.07, 'Texture Calculator'!$G$4<0.5, 'Texture Calculator'!$G$4+2*'Texture Calculator'!$E$4>=0.3)), 3,0)","v":3},"((clay >= 7 && clay < 20) && (sand > 52) && ((silt + 2*clay) >= 30) || (clay < 7 && silt < 50 && (silt+2*clay)>=30))","SANDY LOAM",{"$f":"IF(OR(AND('Texture Calculator'!$E$5>=0.07, 'Texture Calculator'!$E$5<0.2,'Texture Calculator'!$C$5>0.52,'Texture Calculator'!$G$5+2*'Texture Calculator'!$E$5>=0.3), AND('Texture Calculator'!$E$5<0.07, 'Texture Calculator'!$G$5<0.5, 'Texture Calculator'!$G$5+2*'Texture Calculator'!$E$5>=0.3)), 3,0)","v":0},"((clay >= 7 && clay < 20) && (sand > 52) && ((silt + 2*clay) >= 30) || (clay < 7 && silt < 50 && (silt+2*clay)>=30))","SANDY LOAM",{"$f":"IF(OR(AND('Texture Calculator'!$E$6>=0.07, 'Texture Calculator'!$E$6<0.2,'Texture Calculator'!$C$6>0.52,'Texture Calculator'!$G$6+2*'Texture Calculator'!$E$6>=0.3), AND('Texture Calculator'!$E$6<0.07, 'Texture Calculator'!$G$6<0.5, 'Texture Calculator'!$G$6+2*'Texture Calculator'!$E$6>=0.3)), 3,0)","v":0},"((clay >= 7 && clay < 20) && (sand > 52) && ((silt + 2*clay) >= 30) || (clay < 7 && silt < 50 && (silt+2*clay)>=30))","SANDY LOAM",{"$f":"IF(OR(AND('Texture Calculator'!$E$7>=0.07, 'Texture Calculator'!$E$7<0.2,'Texture Calculator'!$C$7>0.52,'Texture Calculator'!$G$7+2*'Texture Calculator'!$E$7>=0.3), AND('Texture Calculator'!$E$7<0.07, 'Texture Calculator'!$G$7<0.5, 'Texture Calculator'!$G$7+2*'Texture Calculator'!$E$7>=0.3)), 3,0)","v":3},"((clay >= 7 && clay < 20) && (sand > 52) && ((silt + 2*clay) >= 30) || (clay < 7 && silt < 50 && (silt+2*clay)>=30))","SANDY LOAM"]
[{"$f":"IF(AND('Texture Calculator'!$E$4>=0.07, 'Texture Calculator'!$E$4<0.27, 'Texture Calculator'!$G$4>=0.28, 'Texture Calculator'!$G$4<0.5, 'Texture Calculator'!$C$4<=0.52), 4, 0)","v":0},"((clay >= 7 && clay < 27) && (silt >= 28 && silt < 50) && (sand <= 52))","LOAM",{"$f":"IF(AND('Texture Calculator'!$E$5>=0.07, 'Texture Calculator'!$E$5<0.27, 'Texture Calculator'!$G$5>=0.28, 'Texture Calculator'!$G$5<0.5, 'Texture Calculator'!$C$5<=0.52), 4, 0)","v":0},"((clay >= 7 && clay < 27) && (silt >= 28 && silt < 50) && (sand <= 52))","LOAM",{"$f":"IF(AND('Texture Calculator'!$E$6>=0.07, 'Texture Calculator'!$E$6<0.27, 'Texture Calculator'!$G$6>=0.28, 'Texture Calculator'!$G$6<0.5, 'Texture Calculator'!$C$6<=0.52), 4, 0)","v":0},"((clay >= 7 && clay < 27) && (silt >= 28 && silt < 50) && (sand <= 52))","LOAM",{"$f":"IF(AND('Texture Calculator'!$E$7>=0.07, 'Texture Calculator'!$E$7<0.27, 'Texture Calculator'!$G$7>=0.28, 'Texture Calculator'!$G$7<0.5, 'Texture Calculator'!$C$7<=0.52), 4, 0)","v":0},"((clay >= 7 && clay < 27) && (silt >= 28 && silt < 50) && (sand <= 52))","LOAM"]
[{"$f":"IF(OR(AND('Texture Calculator'!$G$4>=0.5, 'Texture Calculator'!$E$4>=0.12,'Texture Calculator'!$E$4<0.27), AND('Texture Calculator'!$G$4>=0.5,'Texture Calculator'!$G$4<0.8,'Texture Calculator'!$E$4<0.12)), 5,0)","v":0},"((silt >= 50 && (clay >= 12 && clay < 27)) || ((silt >= 50 && silt < 80) && clay < 12))","SILT LOAM",{"$f":"IF(OR(AND('Texture Calculator'!$G$5>=0.5, 'Texture Calculator'!$E$5>=0.12,'Texture Calculator'!$E$5<0.27), AND('Texture Calculator'!$G$5>=0.5,'Texture Calculator'!$G$5<0.8,'Texture Calculator'!$E$5<0.12)), 5,0)","v":0},"((silt >= 50 && (clay >= 12 && clay < 27)) || ((silt >= 50 && silt < 80) && clay < 12))","SILT LOAM",{"$f":"IF(OR(AND('Texture Calculator'!$G$6>=0.5, 'Texture Calculator'!$E$6>=0.12,'Texture Calculator'!$E$6<0.27), AND('Texture Calculator'!$G$6>=0.5,'Texture Calculator'!$G$6<0.8,'Texture Calculator'!$E$6<0.12)), 5,0)","v":0},"((silt >= 50 && (clay >= 12 && clay < 27)) || ((silt >= 50 && silt < 80) && clay < 12))","SILT LOAM",{"$f":"IF(OR(AND('Texture Calculator'!$G$7>=0.5, 'Texture Calculator'!$E$7>=0.12,'Texture Calculator'!$E$7<0.27), AND('Texture Calculator'!$G$7>=0.5,'Texture Calculator'!$G$7<0.8,'Texture Calculator'!$E$7<0.12)), 5,0)","v":0},"((silt >= 50 && (clay >= 12 && clay < 27)) || ((silt >= 50 && silt < 80) && clay < 12))","SILT LOAM"]
[{"$f":"IF(AND('Texture Calculator'!$G$4>=0.8, 'Texture Calculator'!$E$4<0.12), 6, 0)","v":0},"(silt >= 80 && clay < 12)","SILT",{"$f":"IF(AND('Texture Calculator'!$G$5>=0.8, 'Texture Calculator'!$E$5<0.12), 6, 0)","v":0},"(silt >= 80 && clay < 12)","SILT",{"$f":"IF(AND('Texture Calculator'!$G$6>=0.8, 'Texture Calculator'!$E$6<0.12), 6, 0)","v":0},"(silt >= 80 && clay < 12)","SILT",{"$f":"IF(AND('Texture Calculator'!$G$7>=0.8, 'Texture Calculator'!$E$7<0.12), 6, 0)","v":0},"(silt >= 80 && clay < 12)","SILT"]
[{"$f":"IF(AND('Texture Calculator'!$E$4>=0.2, 'Texture Calculator'!$E$4<0.35, 'Texture Calculator'!$G$4<0.28, 'Texture Calculator'!$C$4>0.45), 7, 0)","v":0},"((clay >= 20 && clay < 35) && (silt < 28) && (sand > 45)) ","SANDY CLAY LOAM",{"$f":"IF(AND('Texture Calculator'!$E$5>=0.2, 'Texture Calculator'!$E$5<0.35, 'Texture Calculator'!$G$5<0.28, 'Texture Calculator'!$C$5>0.45), 7, 0)","v":0},"((clay >= 20 && clay < 35) && (silt < 28) && (sand > 45)) ","SANDY CLAY LOAM",{"$f":"IF(AND('Texture Calculator'!$E$6>=0.2, 'Texture Calculator'!$E$6<0.35, 'Texture Calculator'!$G$6<0.28, 'Texture Calculator'!$C$6>0.45), 7, 0)","v":0},"((clay >= 20 && clay < 35) && (silt < 28) && (sand > 45)) ","SANDY CLAY LOAM",{"$f":"IF(AND('Texture Calculator'!$E$7>=0.2, 'Texture Calculator'!$E$7<0.35, 'Texture Calculator'!$G$7<0.28, 'Texture Calculator'!$C$7>0.45), 7, 0)","v":0},"((clay >= 20 && clay < 35) && (silt < 28) && (sand > 45)) ","SANDY CLAY LOAM"]
[{"$f":"IF(AND('Texture Calculator'!$E$4>=0.27, 'Texture Calculator'!$E$4<0.4, 'Texture Calculator'!$C$4>0.2, 'Texture Calculator'!$C$4<=0.45), 8, 0)","v":0},"((clay >= 27 && clay < 40) && (sand > 20 && sand <= 45))","CLAY LOAM",{"$f":"IF(AND('Texture Calculator'!$E$5>=0.27, 'Texture Calculator'!$E$5<0.4, 'Texture Calculator'!$C$5>0.2, 'Texture Calculator'!$C$5<=0.45), 8, 0)","v":0},"((clay >= 27 && clay < 40) && (sand > 20 && sand <= 45))","CLAY LOAM",{"$f":"IF(AND('Texture Calculator'!$E$6>=0.27, 'Texture Calculator'!$E$6<0.4, 'Texture Calculator'!$C$6>0.2, 'Texture Calculator'!$C$6<=0.45), 8, 0)","v":0},"((clay >= 27 && clay < 40) && (sand > 20 && sand <= 45))","CLAY LOAM",{"$f":"IF(AND('Texture Calculator'!$E$7>=0.27, 'Texture Calculator'!$E$7<0.4, 'Texture Calculator'!$C$7>0.2, 'Texture Calculator'!$C$7<=0.45), 8, 0)","v":0},"((clay >= 27 && clay < 40) && (sand > 20 && sand <= 45))","CLAY LOAM"]
[{"$f":"IF(AND('Texture Calculator'!$E$4>=0.27, 'Texture Calculator'!$E$4<0.4, 'Texture Calculator'!$C$4<=0.2), 9, 0)","v":0},"((clay >= 27 && clay < 40) && (sand  <= 20))","SILTY CLAY LOAM",{"$f":"IF(AND('Texture Calculator'!$E$5>=0.27, 'Texture Calculator'!$E$5<0.4, 'Texture Calculator'!$C$5<=0.2), 9, 0)","v":0},"((clay >= 27 && clay < 40) && (sand  <= 20))","SILTY CLAY LOAM",{"$f":"IF(AND('Texture Calculator'!$E$6>=0.27, 'Texture Calculator'!$E$6<0.4, 'Texture Calculator'!$C$6<=0.2), 9, 0)","v":0},"((clay >= 27 && clay < 40) && (sand  <= 20))","SILTY CLAY LOAM",{"$f":"IF(AND('Texture Calculator'!$E$7>=0.27, 'Texture Calculator'!$E$7<0.4, 'Texture Calculator'!$C$7<=0.2), 9, 0)","v":0},"((clay >= 27 && clay < 40) && (sand  <= 20))","SILTY CLAY LOAM"]
[{"$f":"IF(AND('Texture Calculator'!$E$4>=0.35, 'Texture Calculator'!$C$4>0.45), 10, 0)","v":0},"(clay >= 35 && sand > 45)","SANDY CLAY",{"$f":"IF(AND('Texture Calculator'!$E$5>=0.35, 'Texture Calculator'!$C$5>0.45), 10, 0)","v":0},"(clay >= 35 && sand > 45)","SANDY CLAY",{"$f":"IF(AND('Texture Calculator'!$E$6>=0.35, 'Texture Calculator'!$C$6>0.45), 10, 0)","v":0},"(clay >= 35 && sand > 45)","SANDY CLAY",{"$f":"IF(AND('Texture Calculator'!$E$7>=0.35, 'Texture Calculator'!$C$7>0.45), 10, 0)","v":0},"(clay >= 35 && sand > 45)","SANDY CLAY"]
[{"$f":"IF(AND('Texture Calculator'!$E$4>=0.4, 'Texture Calculator'!$G$4>=0.4), 11, 0)","v":0},"(clay >= 40 && silt >= 40)","SILTY CLAY",{"$f":"IF(AND('Texture Calculator'!$E$5>=0.4, 'Texture Calculator'!$G$5>=0.4), 11, 0)","v":0},"(clay >= 40 && silt >= 40)","SILTY CLAY",{"$f":"IF(AND('Texture Calculator'!$E$6>=0.4, 'Texture Calculator'!$G$6>=0.4), 11, 0)","v":0},"(clay >= 40 && silt >= 40)","SILTY CLAY",{"$f":"IF(AND('Texture Calculator'!$E$7>=0.4, 'Texture Calculator'!$G$7>=0.4), 11, 0)","v":0},"(clay >= 40 && silt >= 40)","SILTY CLAY"]
[{"$f":"IF(AND('Texture Calculator'!$E$4>=0.4, 'Texture Calculator'!$C$4<=0.45,'Texture Calculator'!$G$4<0.4), 12, 0)","v":0},"(clay >= 40 && sand <= 45 && silt < 40)","CLAY",{"$f":"IF(AND('Texture Calculator'!$E$5>=0.4, 'Texture Calculator'!$C$5<=0.45,'Texture Calculator'!$G$5<0.4), 12, 0)","v":0},"(clay >= 40 && sand <= 45 && silt < 40)","CLAY",{"$f":"IF(AND('Texture Calculator'!$E$6>=0.4, 'Texture Calculator'!$C$6<=0.45,'Texture Calculator'!$G$6<0.4), 12, 0)","v":0},"(clay >= 40 && sand <= 45 && silt < 40)","CLAY",{"$f":"IF(AND('Texture Calculator'!$E$7>=0.4, 'Texture Calculator'!$C$7<=0.45,'Texture Calculator'!$G$7<0.4), 12, 0)","v":0},"(clay >= 40 && sand <= 45 && silt < 40)","CLAY"]
[{"$f":"SUM(A2:A13)","v":3},null,null,{"$f":"SUM(D2:D13)","v":1},null,null,{"$f":"SUM(G2:G13)","v":2},null,null,{"$f":"SUM(J2:J13)","v":3}]
[]
[]
["Sand",null,null,"Sand",null,null,"Sand",null,null,"Sand"]
[{"$f":"IF(AND(SUM('Texture Calculator'!$C$13:$C$17)='Texture Calculator'!$C$4, 'Texture Calculator'!$C$13+'Texture Calculator'!$C$14>=0.25, 'Texture Calculator'!$C$15<0.5, 'Texture Calculator'!$C$16<0.5, 'Texture Calculator'!$C$17<0.5), 1, 0)","v":0},"vcscs >= 25 && ms < 50 && fs < 50 && vfs < 50","COARSE SAND",{"$f":"IF(AND(SUM('Texture Calculator'!$C$26:$C$39)='Texture Calculator'!$C$5, 'Texture Calculator'!$C$26+'Texture Calculator'!#REF!>=0.25, 'Texture Calculator'!#REF!<0.5, 'Texture Calculator'!#REF!<0.5, 'Texture Calculator'!$C$39<0.5), 1, 0)","v":{"$error":"#REF!"}},"vcscs >= 25 && ms < 50 && fs < 50 && vfs < 50","COARSE SAND",{"$f":"IF(AND(SUM('Texture Calculator'!$C$44:$C$48)='Texture Calculator'!$C$6, 'Texture Calculator'!#REF!+'Texture Calculator'!$C$45>=0.25, 'Texture Calculator'!$C$46<0.5, 'Texture Calculator'!$C$47<0.5, 'Texture Calculator'!$C$48<0.5), 1, 0)","v":{"$error":"#REF!"}},"vcscs >= 25 && ms < 50 && fs < 50 && vfs < 50","COARSE SAND",{"$f":"IF(AND(SUM('Texture Calculator'!$C$53:$C$57)='Texture Calculator'!$C$7, 'Texture Calculator'!$C$53+'Texture Calculator'!$C$54>=0.25, 'Texture Calculator'!$C$55<0.5, 'Texture Calculator'!$C$56<0.5, 'Texture Calculator'!$C$57<0.5), 1, 0)","v":0},"vcscs >= 25 && ms < 50 && fs < 50 && vfs < 50","COARSE SAND"]
[{"$f":"IF(AND(SUM('Texture Calculator'!$C$13:$C$17)='Texture Calculator'!$C$4,SUM($A$18) = 0, 'Texture Calculator'!$C$13+'Texture Calculator'!$C$14+'Texture Calculator'!$C$15>=0.25, 'Texture Calculator'!$C$13+'Texture Calculator'!$C$14<0.25, 'Texture Calculator'!$C$16<0.5,'Texture Calculator'!$C$17<0.5), 2, 0)","v":0},"vcscsms >= 25 && vcscs < 25 && fs < 50 && vfs < 50","SAND",{"$f":"IF(AND(SUM('Texture Calculator'!$C$26:$C$39)='Texture Calculator'!$C$5,SUM($D$18) = 0, 'Texture Calculator'!$C$26+'Texture Calculator'!#REF!+'Texture Calculator'!#REF!>=0.25, 'Texture Calculator'!$C$26+'Texture Calculator'!#REF!<0.25, 'Texture Calculator'!#REF!<0.5,'Texture Calculator'!$C$39<0.5), 2, 0)","v":{"$error":"#REF!"}},"vcscsms >= 25 && vcscs < 25 && fs < 50 && vfs < 50","SAND",{"$f":"IF(AND(SUM('Texture Calculator'!$C$44:$C$48)='Texture Calculator'!$C$6,SUM($G$18) = 0, 'Texture Calculator'!#REF!+'Texture Calculator'!$C$45+'Texture Calculator'!$C$46>=0.25, 'Texture Calculator'!#REF!+'Texture Calculator'!$C$45<0.25, 'Texture Calculator'!$C$47<0.5,'Texture Calculator'!$C$48<0.5), 2, 0)","v":{"$error":"#REF!"}},"vcscsms >= 25 && vcscs < 25 && fs < 50 && vfs < 50","SAND",{"$f":"IF(AND(SUM('Texture Calculator'!$C$53:$C$57)='Texture Calculator'!$C$7,SUM($J$18) = 0, 'Texture Calculator'!$C$53+'Texture Calculator'!$C$54+'Texture Calculator'!$C$55>=0.25, 'Texture Calculator'!$C$53+'Texture Calculator'!$C$54<0.25, 'Texture Calculator'!$C$56<0.5,'Texture Calculator'!$C$57<0.5), 2, 0)","v":0},"vcscsms >= 25 && vcscs < 25 && fs < 50 && vfs < 50","SAND"]
[{"$f":"IF(AND(SUM('Texture Calculator'!$C$13:$C$17)='Texture Calculator'!$C$4,SUM($A$18:$A$19) = 0, 'Texture Calculator'!$C$15>=0.5, 'Texture Calculator'!$C$13+'Texture Calculator'!$C$14>=0.25), 3, 0)","v":0},"ms >= 50 && vcscs >= 25","SAND",{"$f":"IF(AND(SUM('Texture Calculator'!$C$26:$C$39)='Texture Calculator'!$C$5,SUM($D$18:$D$19) = 0, 'Texture Calculator'!#REF!>=0.5, 'Texture Calculator'!$C$26+'Texture Calculator'!#REF!>=0.25), 3, 0)","v":{"$error":"#REF!"}},"ms >= 50 && vcscs >= 25","SAND",{"$f":"IF(AND(SUM('Texture Calculator'!$C$44:$C$48)='Texture Calculator'!$C$6,SUM($G$18:$G$19) = 0, 'Texture Calculator'!$C$46>=0.5, 'Texture Calculator'!#REF!+'Texture Calculator'!$C$45>=0.25), 3, 0)","v":{"$error":"#REF!"}},"ms >= 50 && vcscs >= 25","SAND",{"$f":"IF(AND(SUM('Texture Calculator'!$C$53:$C$57)='Texture Calculator'!$C$7,SUM($J$18:$J$19) = 0, 'Texture Calculator'!$C$55>=0.5, 'Texture Calculator'!$C$53+'Texture Calculator'!$C$54>=0.25), 3, 0)","v":0},"ms >= 50 && vcscs >= 25","SAND"]
[{"$f":"IF(AND(SUM('Texture Calculator'!$C$13:$C$17)='Texture Calculator'!$C$4,SUM($A$18:$A$20) = 0, 'Texture Calculator'!$C$16>=0.5, 'Texture Calculator'!$C$16>'Texture Calculator'!$C$17), 4, 0)","v":0},"fs >= 50 && fs > vfs","FINE SAND",{"$f":"IF(AND(SUM('Texture Calculator'!$C$26:$C$39)='Texture Calculator'!$C$5,SUM($D$18:$D$20) = 0, 'Texture Calculator'!#REF!>=0.5, 'Texture Calculator'!#REF!>'Texture Calculator'!$C$39), 4, 0)","v":{"$error":"#REF!"}},"fs >= 50 && fs > vfs","FINE SAND",{"$f":"IF(AND(SUM('Texture Calculator'!$C$44:$C$48)='Texture Calculator'!$C$6,SUM($G$18:$G$20) = 0, 'Texture Calculator'!$C$47>=0.5, 'Texture Calculator'!$C$47>'Texture Calculator'!$C$48), 4, 0)","v":{"$error":"#REF!"}},"fs >= 50 && fs > vfs","FINE SAND",{"$f":"IF(AND(SUM('Texture Calculator'!$C$53:$C$57)='Texture Calculator'!$C$7,SUM($J$18:$J$20) = 0, 'Texture Calculator'!$C$56>=0.5, 'Texture Calculator'!$C$56>'Texture Calculator'!$C$57), 4, 0)","v":0},"fs >= 50 && fs > vfs","FINE SAND"]
[{"$f":"IF(AND(SUM('Texture Calculator'!$C$13:$C$17)='Texture Calculator'!$C$4,SUM($A$18:$A$21) = 0, 'Texture Calculator'!$C$13+'Texture Calculator'!$C$14+'Texture Calculator'!$C$15<0.25, 'Texture Calculator'!$C$17<0.5), 5, 0)","v":0},"vcscsms < 25 && vfs < 50","FINE SAND",{"$f":"IF(AND(SUM('Texture Calculator'!$C$26:$C$39)='Texture Calculator'!$C$5,SUM($D$18:$D$21) = 0, 'Texture Calculator'!$C$26+'Texture Calculator'!#REF!+'Texture Calculator'!#REF!<0.25, 'Texture Calculator'!$C$39<0.5), 5, 0)","v":{"$error":"#REF!"}},"vcscsms < 25 && vfs < 50","FINE SAND",{"$f":"IF(AND(SUM('Texture Calculator'!$C$44:$C$48)='Texture Calculator'!$C$6,SUM($G$18:$G$21) = 0, 'Texture Calculator'!#REF!+'Texture Calculator'!$C$45+'Texture Calculator'!$C$46<0.25, 'Texture Calculator'!$C$48<0.5), 5, 0)","v":{"$error":"#REF!"}},"vcscsms < 25 && vfs < 50","FINE SAND",{"$f":"IF(AND(SUM('Texture Calculator'!$C$53:$C$57)='Texture Calculator'!$C$7,SUM($J$18:$J$21) = 0, 'Texture Calculator'!$C$53+'Texture Calculator'!$C$54+'Texture Calculator'!$C$55<0.25, 'Texture Calculator'!$C$57<0.5), 5, 0)","v":0},"vcscsms < 25 && vfs < 50","FINE SAND"]
[{"$f":"IF(AND(SUM('Texture Calculator'!$C$13:$C$17)='Texture Calculator'!$C$4,SUM($A$18:$A$22) = 0, 'Texture Calculator'!$C$17>=0.5), 6, 0)","v":0},"vfs >= 50","VERY FINE SAND",{"$f":"IF(AND(SUM('Texture Calculator'!$C$26:$C$39)='Texture Calculator'!$C$5,SUM($D$18:$D$22) = 0, 'Texture Calculator'!$C$39>=0.5), 6, 0)","v":{"$error":"#REF!"}},"vfs >= 50","VERY FINE SAND",{"$f":"IF(AND(SUM('Texture Calculator'!$C$44:$C$48)='Texture Calculator'!$C$6,SUM($G$18:$G$22) = 0, 'Texture Calculator'!$C$48>=0.5), 6, 0)","v":{"$error":"#REF!"}},"vfs >= 50","VERY FINE SAND",{"$f":"IF(AND(SUM('Texture Calculator'!$C$53:$C$57)='Texture Calculator'!$C$7,SUM($J$18:$J$22) = 0, 'Texture Calculator'!$C$57>=0.5), 6, 0)","v":0},"vfs >= 50","VERY FINE SAND"]
[{"$f":"SUM(A18:A23)+1","v":1},null,null,{"$f":"SUM(D18:D23)+1","v":{"$error":"#REF!"}},null,null,{"$f":"SUM(G18:G23)+1","v":{"$error":"#REF!"}},null,null,{"$f":"SUM(J18:J23)+1","v":1}]
[]
[]
["Loam Sand",null,null,"Loam Sand",null,null,"Loam Sand",null,null,"Loam Sand"]
[{"$f":"IF(AND(SUM('Texture Calculator'!$C$13:$C$17)='Texture Calculator'!$C$4, 'Texture Calculator'!$C$13+'Texture Calculator'!$C$14>=0.25, 'Texture Calculator'!$C$15<0.5, 'Texture Calculator'!$C$16<0.5, 'Texture Calculator'!$C$17<0.5), 1, 0)","v":0},"vcscs >= 25 && ms < 50 && fs < 50 && vfs < 50","LOAMY COARSE SAND",{"$f":"IF(AND(SUM('Texture Calculator'!$C$26:$C$39)='Texture Calculator'!$C$5, 'Texture Calculator'!$C$26+'Texture Calculator'!#REF!>=0.25, 'Texture Calculator'!#REF!<0.5, 'Texture Calculator'!#REF!<0.5, 'Texture Calculator'!$C$39<0.5), 1, 0)","v":{"$error":"#REF!"}},"vcscs >= 25 && ms < 50 && fs < 50 && vfs < 50","LOAMY COARSE SAND",{"$f":"IF(AND(SUM('Texture Calculator'!$C$44:$C$48)='Texture Calculator'!$C$6, 'Texture Calculator'!#REF!+'Texture Calculator'!$C$45>=0.25, 'Texture Calculator'!$C$46<0.5, 'Texture Calculator'!$C$47<0.5, 'Texture Calculator'!$C$48<0.5), 1, 0)","v":{"$error":"#REF!"}},"vcscs >= 25 && ms < 50 && fs < 50 && vfs < 50","LOAMY COARSE SAND",{"$f":"IF(AND(SUM('Texture Calculator'!$C$53:$C$57)='Texture Calculator'!$C$7, 'Texture Calculator'!$C$53+'Texture Calculator'!$C$54>=0.25, 'Texture Calculator'!$C$55<0.5, 'Texture Calculator'!$C$56<0.5, 'Texture Calculator'!$C$57<0.5), 1, 0)","v":0},"vcscs >= 25 && ms < 50 && fs < 50 && vfs < 50","LOAMY COARSE SAND"]
[{"$f":"IF(AND(SUM('Texture Calculator'!$C$13:$C$17)='Texture Calculator'!$C$4,SUM($A$28) = 0, 'Texture Calculator'!$C$13+'Texture Calculator'!$C$14+'Texture Calculator'!$C$15>=0.25, 'Texture Calculator'!$C$13+'Texture Calculator'!$C$14<0.25, 'Texture Calculator'!$C$16<0.5,'Texture Calculator'!$C$17<0.5), 2, 0)","v":0},"vcscsms >= 25 && vcscs < 25 && fs < 50 && vfs < 50","LOAMY SAND",{"$f":"IF(AND(SUM('Texture Calculator'!$C$26:$C$39)='Texture Calculator'!$C$5,SUM($D$28) = 0, 'Texture Calculator'!$C$26+'Texture Calculator'!#REF!+'Texture Calculator'!#REF!>=0.25, 'Texture Calculator'!$C$26+'Texture Calculator'!#REF!<0.25, 'Texture Calculator'!#REF!<0.5,'Texture Calculator'!$C$39<0.5), 2, 0)","v":{"$error":"#REF!"}},"vcscsms >= 25 && vcscs < 25 && fs < 50 && vfs < 50","LOAMY SAND",{"$f":"IF(AND(SUM('Texture Calculator'!$C$44:$C$48)='Texture Calculator'!$C$6,SUM($A$28) = 0, 'Texture Calculator'!$C$13+'Texture Calculator'!$C$14+'Texture Calculator'!$C$15>=0.25, 'Texture Calculator'!$C$13+'Texture Calculator'!$C$14<0.25, 'Texture Calculator'!$C$16<0.5,'Texture Calculator'!$C$17<0.5), 2, 0)","v":0},"vcscsms >= 25 && vcscs < 25 && fs < 50 && vfs < 50","LOAMY SAND",{"$f":"IF(AND(SUM('Texture Calculator'!$C$53:$C$57)='Texture Calculator'!$C$7,SUM($J$28) = 0, 'Texture Calculator'!$C$53+'Texture Calculator'!$C$54+'Texture Calculator'!$C$55>=0.25, 'Texture Calculator'!$C$53+'Texture Calculator'!$C$54<0.25, 'Texture Calculator'!$C$56<0.5,'Texture Calculator'!$C$57<0.5), 2, 0)","v":0},"vcscsms >= 25 && vcscs < 25 && fs < 50 && vfs < 50","LOAMY SAND"]
[{"$f":"IF(AND(SUM('Texture Calculator'!$C$13:$C$17)='Texture Calculator'!$C$4,SUM($A$28:$A$29) = 0, 'Texture Calculator'!$C$15>=0.5, 'Texture Calculator'!$C$13+'Texture Calculator'!$C$14>=0.25),3, 0)","v":0},"ms >= 50 && vcscs >= 25","LOAMY SAND",{"$f":"IF(AND(SUM('Texture Calculator'!$C$26:$C$39)='Texture Calculator'!$C$5,SUM($D$28:$D$29) = 0, 'Texture Calculator'!#REF!>=0.5, 'Texture Calculator'!$C$26+'Texture Calculator'!#REF!>=0.25),3, 0)","v":{"$error":"#REF!"}},"ms >= 50 && vcscs >= 25","LOAMY SAND",{"$f":"IF(AND(SUM('Texture Calculator'!$C$44:$C$48)='Texture Calculator'!$C$6,SUM($G$28:$G$29) = 0, 'Texture Calculator'!$C$46>=0.5, 'Texture Calculator'!#REF!+'Texture Calculator'!$C$45>=0.25),3, 0)","v":{"$error":"#REF!"}},"ms >= 50 && vcscs >= 25","LOAMY SAND",{"$f":"IF(AND(SUM('Texture Calculator'!$C$53:$C$57)='Texture Calculator'!$C$7,SUM($J$28:$J$29) = 0, 'Texture Calculator'!$C$55>=0.5, 'Texture Calculator'!$C$53+'Texture Calculator'!$C$54>=0.25),3, 0)","v":0},"ms >= 50 && vcscs >= 25","LOAMY SAND"]
[{"$f":"IF(AND(SUM('Texture Calculator'!$C$13:$C$17)='Texture Calculator'!$C$4,SUM($A$28:$A$30) = 0, 'Texture Calculator'!$C$16>=0.5), 4, 0)","v":0},"fs >= 50","LOAMY FINE SAND",{"$f":"IF(AND(SUM('Texture Calculator'!$C$26:$C$39)='Texture Calculator'!$C$5,SUM($D$28:$D$30) = 0, 'Texture Calculator'!#REF!>=0.5), 4, 0)","v":{"$error":"#REF!"}},"fs >= 50","LOAMY FINE SAND",{"$f":"IF(AND(SUM('Texture Calculator'!$C$44:$C$48)='Texture Calculator'!$C$6,SUM($G$28:$G$30) = 0, 'Texture Calculator'!$C$47>=0.5), 4, 0)","v":{"$error":"#REF!"}},"fs >= 50","LOAMY FINE SAND",{"$f":"IF(AND(SUM('Texture Calculator'!$C$53:$C$57)='Texture Calculator'!$C$7,SUM($J$28:$J$30) = 0, 'Texture Calculator'!$C$56>=0.5), 4, 0)","v":0},"fs >= 50","LOAMY FINE SAND"]
[{"$f":"IF(AND(SUM('Texture Calculator'!$C$13:$C$17)='Texture Calculator'!$C$4,SUM($A$28:$A$31) = 0, 'Texture Calculator'!$C$13+'Texture Calculator'!$C$14+'Texture Calculator'!$C$15<0.25, 'Texture Calculator'!$C$17<0.5), 5, 0)","v":0},"vcscsms < 25 && vfs < 50","LOAMY FINE SAND",{"$f":"IF(AND(SUM('Texture Calculator'!$C$26:$C$39)='Texture Calculator'!$C$5,SUM($D$28:$D$31) = 0, 'Texture Calculator'!$C$26+'Texture Calculator'!#REF!+'Texture Calculator'!#REF!<0.25, 'Texture Calculator'!$C$39<0.5), 5, 0)","v":{"$error":"#REF!"}},"vcscsms < 25 && vfs < 50","LOAMY FINE SAND",{"$f":"IF(AND(SUM('Texture Calculator'!$C$44:$C$48)='Texture Calculator'!$C$6,SUM($G$28:$G$31) = 0, 'Texture Calculator'!#REF!+'Texture Calculator'!$C$45+'Texture Calculator'!$C$46<0.25, 'Texture Calculator'!$C$48<0.5), 5, 0)","v":{"$error":"#REF!"}},"vcscsms < 25 && vfs < 50","LOAMY FINE SAND",{"$f":"IF(AND(SUM('Texture Calculator'!$C$53:$C$57)='Texture Calculator'!$C$7,SUM($J$28:$J$31) = 0, 'Texture Calculator'!$C$53+'Texture Calculator'!$C$54+'Texture Calculator'!$C$55<0.25, 'Texture Calculator'!$C$57<0.5), 5, 0)","v":0},"vcscsms < 25 && vfs < 50","LOAMY FINE SAND"]
[{"$f":"IF(AND(SUM('Texture Calculator'!$C$13:$C$17)='Texture Calculator'!$C$4,SUM($A$28:$A$32) = 0, 'Texture Calculator'!$C$17>=0.5), 6, 0)","v":0},"vfs >= 50","LOAMY VERY FINE SAND",{"$f":"IF(AND(SUM('Texture Calculator'!$C$26:$C$39)='Texture Calculator'!$C$5,SUM($D$28:$D$32) = 0, 'Texture Calculator'!$C$39>=0.5), 6, 0)","v":{"$error":"#REF!"}},"vfs >= 50","LOAMY VERY FINE SAND",{"$f":"IF(AND(SUM('Texture Calculator'!$C$44:$C$48)='Texture Calculator'!$C$6,SUM($G$28:$G$32) = 0, 'Texture Calculator'!$C$48>=0.5), 6, 0)","v":{"$error":"#REF!"}},"vfs >= 50","LOAMY VERY FINE SAND",{"$f":"IF(AND(SUM('Texture Calculator'!$C$53:$C$57)='Texture Calculator'!$C$7,SUM($J$28:$J$32) = 0, 'Texture Calculator'!$C$57>=0.5), 6, 0)","v":0},"vfs >= 50","LOAMY VERY FINE SAND"]
[{"$f":"SUM(A28:A33)+1","v":1},null,null,{"$f":"SUM(D28:D33)+1","v":{"$error":"#REF!"}},null,null,{"$f":"SUM(G28:G33)+1","v":{"$error":"#REF!"}},null,null,{"$f":"SUM(J28:J33)+1","v":1}]
[]
["Sand Loam",null,null,"Sand Loam",null,null,"Sand Loam",null,null,"Sand Loam"]
[{"$f":"IF(AND(SUM('Texture Calculator'!$C$13:$C$17)='Texture Calculator'!$C$4, 'Texture Calculator'!$C$13+'Texture Calculator'!$C$14>=0.25, 'Texture Calculator'!$C$15<0.5, 'Texture Calculator'!$C$16<0.5, 'Texture Calculator'!$C$17<0.5), 1, 0)","v":0},"vcscs >= 25 && ms < 50 && fs < 50 && vfs < 50","COARSE SANDY LOAM",{"$f":"IF(AND(SUM('Texture Calculator'!$C$26:$C$39)='Texture Calculator'!$C$5, 'Texture Calculator'!$C$26+'Texture Calculator'!#REF!>=0.25, 'Texture Calculator'!#REF!<0.5, 'Texture Calculator'!#REF!<0.5, 'Texture Calculator'!$C$39<0.5), 1, 0)","v":{"$error":"#REF!"}},"vcscs >= 25 && ms < 50 && fs < 50 && vfs < 50","COARSE SANDY LOAM",{"$f":"IF(AND(SUM('Texture Calculator'!$C$44:$C$48)='Texture Calculator'!$C$6, 'Texture Calculator'!#REF!+'Texture Calculator'!$C$45>=0.25, 'Texture Calculator'!$C$46<0.5, 'Texture Calculator'!$C$47<0.5, 'Texture Calculator'!$C$48<0.5), 1, 0)","v":{"$error":"#REF!"}},"vcscs >= 25 && ms < 50 && fs < 50 && vfs < 50","COARSE SANDY LOAM",{"$f":"IF(AND(SUM('Texture Calculator'!$C$53:$C$57)='Texture Calculator'!$C$7, 'Texture Calculator'!$C$53+'Texture Calculator'!$C$54>=0.25, 'Texture Calculator'!$C$55<0.5, 'Texture Calculator'!$C$56<0.5, 'Texture Calculator'!$C$57<0.5), 1, 0)","v":0},"vcscs >= 25 && ms < 50 && fs < 50 && vfs < 50","COARSE SANDY LOAM"]
[{"$f":"IF(AND(SUM('Texture Calculator'!$C$13:$C$17)='Texture Calculator'!$C$4,SUM($A$37) = 0,'Texture Calculator'!$C$13+'Texture Calculator'!$C$14+'Texture Calculator'!$C$15>=0.3, 'Texture Calculator'!$C$17>=0.3, 'Texture Calculator'!$C$17<0.5), 2,0)","v":0},"vcscsms >= 30 && vfs >= 30 && vfs < 50","COARSE SANDY LOAM",{"$f":"IF(AND(SUM('Texture Calculator'!$C$26:$C$39)='Texture Calculator'!$C$5,SUM($D$37) = 0,'Texture Calculator'!$C$26+'Texture Calculator'!#REF!+'Texture Calculator'!#REF!>=0.3, 'Texture Calculator'!$C$39>=0.3, 'Texture Calculator'!$C$39<0.5), 2,0)","v":{"$error":"#REF!"}},"vcscsms >= 30 && vfs >= 30 && vfs < 50","COARSE SANDY LOAM",{"$f":"IF(AND(SUM('Texture Calculator'!$C$44:$C$48)='Texture Calculator'!$C$6,SUM($G$37) = 0,'Texture Calculator'!#REF!+'Texture Calculator'!$C$45+'Texture Calculator'!$C$46>=0.3, 'Texture Calculator'!$C$48>=0.3, 'Texture Calculator'!$C$48<0.5), 2,0)","v":{"$error":"#REF!"}},"vcscsms >= 30 && vfs >= 30 && vfs < 50","COARSE SANDY LOAM",{"$f":"IF(AND(SUM('Texture Calculator'!$C$53:$C$57)='Texture Calculator'!$C$7,SUM($J$37) = 0,'Texture Calculator'!$C$53+'Texture Calculator'!$C$54+'Texture Calculator'!$C$55>=0.3, 'Texture Calculator'!$C$57>=0.3, 'Texture Calculator'!$C$57<0.5), 2,0)","v":0},"vcscsms >= 30 && vfs >= 30 && vfs < 50","COARSE SANDY LOAM"]
[{"$f":"IF(AND(SUM('Texture Calculator'!$C$13:$C$17)='Texture Calculator'!$C$4,SUM($A$37:$A$38) = 0, 'Texture Calculator'!$C$13+'Texture Calculator'!$C$14+'Texture Calculator'!$C$15>=0.3, 'Texture Calculator'!$C$13+'Texture Calculator'!$C$14<0.25, 'Texture Calculator'!$C$16<0.3,'Texture Calculator'!$C$17<0.3), 3, 0)","v":0},"vcscsms >= 30 && vcscs < 25 && fs < 30 && vfs < 30","SANDY LOAM",{"$f":"IF(AND(SUM('Texture Calculator'!$C$26:$C$39)='Texture Calculator'!$C$5,SUM($D$37:$D$38) = 0, 'Texture Calculator'!$C$26+'Texture Calculator'!#REF!+'Texture Calculator'!#REF!>=0.3, 'Texture Calculator'!$C$26+'Texture Calculator'!#REF!<0.25, 'Texture Calculator'!#REF!<0.3,'Texture Calculator'!$C$39<0.3), 3, 0)","v":{"$error":"#REF!"}},"vcscsms >= 30 && vcscs < 25 && fs < 30 && vfs < 30","SANDY LOAM",{"$f":"IF(AND(SUM('Texture Calculator'!$C$44:$C$48)='Texture Calculator'!$C$6,SUM($G$37:$G$38) = 0, 'Texture Calculator'!#REF!+'Texture Calculator'!$C$45+'Texture Calculator'!$C$46>=0.3, 'Texture Calculator'!#REF!+'Texture Calculator'!$C$45<0.25, 'Texture Calculator'!$C$47<0.3,'Texture Calculator'!$C$48<0.3), 3, 0)","v":{"$error":"#REF!"}},"vcscsms >= 30 && vcscs < 25 && fs < 30 && vfs < 30","SANDY LOAM",{"$f":"IF(AND(SUM('Texture Calculator'!$C$53:$C$57)='Texture Calculator'!$C$7,SUM($J$37:$J$38) = 0, 'Texture Calculator'!$C$53+'Texture Calculator'!$C$54+'Texture Calculator'!$C$55>=0.3, 'Texture Calculator'!$C$53+'Texture Calculator'!$C$54<0.25, 'Texture Calculator'!$C$56<0.3,'Texture Calculator'!$C$57<0.3), 3, 0)","v":0},"vcscsms >= 30 && vcscs < 25 && fs < 30 && vfs < 30","SANDY LOAM"]
[{"$f":"IF(AND(SUM('Texture Calculator'!$C$13:$C$17)='Texture Calculator'!$C$4,SUM($A$37:$A$39) = 0,'Texture Calculator'!$C$13+'Texture Calculator'!$C$14+'Texture Calculator'!$C$15<=0.15,'Texture Calculator'!$C$16<0.3,'Texture Calculator'!$C$17<0.3,'Texture Calculator'!$C$16+'Texture Calculator'!$C$17<0.4), 4, 0)","v":0},"vcscsms <= 15 && fs < 30 && vfs < 30 && fsvfs < 40","SANDY LOAM",{"$f":"IF(AND(SUM('Texture Calculator'!$C$26:$C$39)='Texture Calculator'!$C$5,SUM($D$37:$D$39) = 0,'Texture Calculator'!$C$26+'Texture Calculator'!#REF!+'Texture Calculator'!#REF!<=0.15,'Texture Calculator'!#REF!<0.3,'Texture Calculator'!$C$39<0.3,'Texture Calculator'!#REF!+'Texture Calculator'!$C$39<0.4), 4, 0)","v":{"$error":"#REF!"}},"vcscsms <= 15 && fs < 30 && vfs < 30 && fsvfs < 40","SANDY LOAM",{"$f":"IF(AND(SUM('Texture Calculator'!$C$44:$C$48)='Texture Calculator'!$C$6,SUM($G$37:$G$39) = 0,'Texture Calculator'!#REF!+'Texture Calculator'!$C$45+'Texture Calculator'!$C$46<=0.15,'Texture Calculator'!$C$47<0.3,'Texture Calculator'!$C$48<0.3,'Texture Calculator'!$C$47+'Texture Calculator'!$C$48<0.4), 4, 0)","v":{"$error":"#REF!"}},"vcscsms <= 15 && fs < 30 && vfs < 30 && fsvfs < 40","SANDY LOAM",{"$f":"IF(AND(SUM('Texture Calculator'!$C$53:$C$57)='Texture Calculator'!$C$7,SUM($J$37:$J$39) = 0,'Texture Calculator'!$C$53+'Texture Calculator'!$C$54+'Texture Calculator'!$C$55<=0.15,'Texture Calculator'!$C$56<0.3,'Texture Calculator'!$C$57<0.3,'Texture Calculator'!$C$56+'Texture Calculator'!$C$57<0.4), 4, 0)","v":0},"vcscsms <= 15 && fs < 30 && vfs < 30 && fsvfs < 40","SANDY LOAM"]
[{"$f":"IF(AND(SUM('Texture Calculator'!$C$13:$C$17)='Texture Calculator'!$C$4,SUM($A$37:$A$40) = 0,'Texture Calculator'!$C$13+'Texture Calculator'!$C$14>=0.25, 'Texture Calculator'!$C$15>=0.5), 5, 0)","v":0},"vcscs >= 25 && ms >= 50","SANDY LOAM",{"$f":"IF(AND(SUM('Texture Calculator'!$C$26:$C$39)='Texture Calculator'!$C$5,SUM($D$37:$D$40) = 0,'Texture Calculator'!$C$26+'Texture Calculator'!#REF!>=0.25, 'Texture Calculator'!#REF!>=0.5), 5, 0)","v":{"$error":"#REF!"}},"vcscs >= 25 && ms >= 50","SANDY LOAM",{"$f":"IF(AND(SUM('Texture Calculator'!$C$44:$C$48)='Texture Calculator'!$C$6,SUM($G$37:$G$40) = 0,'Texture Calculator'!#REF!+'Texture Calculator'!$C$45>=0.25, 'Texture Calculator'!$C$46>=0.5), 5, 0)","v":{"$error":"#REF!"}},"vcscs >= 25 && ms >= 50","SANDY LOAM",{"$f":"IF(AND(SUM('Texture Calculator'!$C$53:$C$57)='Texture Calculator'!$C$7,SUM($J$37:$J$40) = 0,'Texture Calculator'!$C$53+'Texture Calculator'!$C$54>=0.25, 'Texture Calculator'!$C$55>=0.5), 5, 0)","v":0},"vcscs >= 25 && ms >= 50","SANDY LOAM"]
[{"$f":"IF(AND(SUM('Texture Calculator'!$C$13:$C$17)='Texture Calculator'!$C$4,SUM($A$37:$A$41) = 0,'Texture Calculator'!$C$16>=0.3,'Texture Calculator'!$C$17<0.3, 'Texture Calculator'!$C$13+'Texture Calculator'!$C$14<0.25), 6, 0)","v":0},"fs >= 30 && vfs < 30 && vcscs < 25","FINE SANDY LOAM",{"$f":"IF(AND(SUM('Texture Calculator'!$C$26:$C$39)='Texture Calculator'!$C$5,SUM($D$37:$D$41) = 0,'Texture Calculator'!#REF!>=0.3,'Texture Calculator'!$C$39<0.3, 'Texture Calculator'!$C$26+'Texture Calculator'!#REF!<0.25), 6, 0)","v":{"$error":"#REF!"}},"fs >= 30 && vfs < 30 && vcscs < 25","FINE SANDY LOAM",{"$f":"IF(AND(SUM('Texture Calculator'!$C$44:$C$48)='Texture Calculator'!$C$6,SUM($G$37:$G$41) = 0,'Texture Calculator'!$C$47>=0.3,'Texture Calculator'!$C$48<0.3, 'Texture Calculator'!#REF!+'Texture Calculator'!$C$45<0.25), 6, 0)","v":{"$error":"#REF!"}},"fs >= 30 && vfs < 30 && vcscs < 25","FINE SANDY LOAM",{"$f":"IF(AND(SUM('Texture Calculator'!$C$53:$C$57)='Texture Calculator'!$C$7,SUM($J$37:$J$41) = 0,'Texture Calculator'!$C$56>=0.3,'Texture Calculator'!$C$57<0.3, 'Texture Calculator'!$C$53+'Texture Calculator'!$C$54<0.25), 6, 0)","v":0},"fs >= 30 && vfs < 30 && vcscs < 25","FINE SANDY LOAM"]
[{"$f":"IF(AND(SUM('Texture Calculator'!$C$13:$C$17)='Texture Calculator'!$C$4,SUM($A$37:$A$42) = 0,'Texture Calculator'!$C$13+'Texture Calculator'!$C$14+'Texture Calculator'!$C$15>=0.15, 'Texture Calculator'!$C$13+'Texture Calculator'!$C$14+'Texture Calculator'!$C$15<0.3, 'Texture Calculator'!$C$13+'Texture Calculator'!$C$14<0.25), 7, 0)","v":0},"vcscsms >= 15 && vcscsms < 30 && vcscs < 25","FINE SANDY LOAM",{"$f":"IF(AND(SUM('Texture Calculator'!$C$26:$C$39)='Texture Calculator'!$C$5,SUM($D$37:$D$42) = 0,'Texture Calculator'!$C$26+'Texture Calculator'!#REF!+'Texture Calculator'!#REF!>=0.15, 'Texture Calculator'!$C$26+'Texture Calculator'!#REF!+'Texture Calculator'!#REF!<0.3, 'Texture Calculator'!$C$26+'Texture Calculator'!#REF!<0.25), 7, 0)","v":{"$error":"#REF!"}},"vcscsms >= 15 && vcscsms < 30 && vcscs < 25","FINE SANDY LOAM",{"$f":"IF(AND(SUM('Texture Calculator'!$C$44:$C$48)='Texture Calculator'!$C$6,SUM($G$37:$G$42) = 0,'Texture Calculator'!#REF!+'Texture Calculator'!$C$45+'Texture Calculator'!$C$46>=0.15, 'Texture Calculator'!#REF!+'Texture Calculator'!$C$45+'Texture Calculator'!$C$46<0.3, 'Texture Calculator'!#REF!+'Texture Calculator'!$C$45<0.25), 7, 0)","v":{"$error":"#REF!"}},"vcscsms >= 15 && vcscsms < 30 && vcscs < 25","FINE SANDY LOAM",{"$f":"IF(AND(SUM('Texture Calculator'!$C$53:$C$57)='Texture Calculator'!$C$7,SUM($J$37:$J$42) = 0,'Texture Calculator'!$C$53+'Texture Calculator'!$C$54+'Texture Calculator'!$C$55>=0.15, 'Texture Calculator'!$C$53+'Texture Calculator'!$C$54+'Texture Calculator'!$C$55<0.3, 'Texture Calculator'!$C$53+'Texture Calculator'!$C$54<0.25), 7, 0)","v":0},"vcscsms >= 15 && vcscsms < 30 && vcscs < 25","FINE SANDY LOAM"]
[{"$f":"IF(AND(SUM('Texture Calculator'!$C$13:$C$17)='Texture Calculator'!$C$4,SUM($A$37:$A$43) = 0,'Texture Calculator'!$C$16+'Texture Calculator'!$C$17>=0.4, 'Texture Calculator'!$C$16>='Texture Calculator'!$C$17, 'Texture Calculator'!$C$13+'Texture Calculator'!$C$14+'Texture Calculator'!$C$15<=0.15), 8, 0)","v":0},"fsvfs >= 40 && fs >= vfs && vcscsms <= 15","FINE SANDY LOAM",{"$f":"IF(AND(SUM('Texture Calculator'!$C$26:$C$39)='Texture Calculator'!$C$5,SUM($D$37:$D$43) = 0,'Texture Calculator'!#REF!+'Texture Calculator'!$C$39>=0.4, 'Texture Calculator'!#REF!>='Texture Calculator'!$C$39, 'Texture Calculator'!$C$26+'Texture Calculator'!#REF!+'Texture Calculator'!#REF!<=0.15), 8, 0)","v":{"$error":"#REF!"}},"fsvfs >= 40 && fs >= vfs && vcscsms <= 15","FINE SANDY LOAM",{"$f":"IF(AND(SUM('Texture Calculator'!$C$44:$C$48)='Texture Calculator'!$C$6,SUM($G$37:$G$43) = 0,'Texture Calculator'!$C$47+'Texture Calculator'!$C$48>=0.4, 'Texture Calculator'!$C$47>='Texture Calculator'!$C$48, 'Texture Calculator'!#REF!+'Texture Calculator'!$C$45+'Texture Calculator'!$C$46<=0.15), 8, 0)","v":{"$error":"#REF!"}},"fsvfs >= 40 && fs >= vfs && vcscsms <= 15","FINE SANDY LOAM",{"$f":"IF(AND(SUM('Texture Calculator'!$C$53:$C$57)='Texture Calculator'!$C$7,SUM($J$37:$J$43) = 0,'Texture Calculator'!$C$56+'Texture Calculator'!$C$57>=0.4, 'Texture Calculator'!$C$56>='Texture Calculator'!$C$57, 'Texture Calculator'!$C$53+'Texture Calculator'!$C$54+'Texture Calculator'!$C$55<=0.15), 8, 0)","v":0},"fsvfs >= 40 && fs >= vfs && vcscsms <= 15","FINE SANDY LOAM"]
[{"$f":"IF(AND(SUM('Texture Calculator'!$C$13:$C$17)='Texture Calculator'!$C$4,SUM($A$37:$A$44) = 0,'Texture Calculator'!$C$13+'Texture Calculator'!$C$14>=0.25, 'Texture Calculator'!$C$16>=0.5), 9, 0)","v":0},"vcscs >= 25 && fs >= 50","FINE SANDY LOAM",{"$f":"IF(AND(SUM('Texture Calculator'!$C$26:$C$39)='Texture Calculator'!$C$5,SUM($D$37:$D$44) = 0,'Texture Calculator'!$C$26+'Texture Calculator'!#REF!>=0.25, 'Texture Calculator'!#REF!>=0.5), 9, 0)","v":{"$error":"#REF!"}},"vcscs >= 25 && fs >= 50","FINE SANDY LOAM",{"$f":"IF(AND(SUM('Texture Calculator'!$C$44:$C$48)='Texture Calculator'!$C$6,SUM($G$37:$G$44) = 0,'Texture Calculator'!#REF!+'Texture Calculator'!$C$45>=0.25, 'Texture Calculator'!$C$47>=0.5), 9, 0)","v":{"$error":"#REF!"}},"vcscs >= 25 && fs >= 50","FINE SANDY LOAM",{"$f":"IF(AND(SUM('Texture Calculator'!$C$53:$C$57)='Texture Calculator'!$C$7,SUM($J$37:$J$44) = 0,'Texture Calculator'!$C$53+'Texture Calculator'!$C$54>=0.25, 'Texture Calculator'!$C$56>=0.5), 9, 0)","v":0},"vcscs >= 25 && fs >= 50","FINE SANDY LOAM"]
[{"$f":"IF(AND(SUM('Texture Calculator'!$C$13:$C$17)='Texture Calculator'!$C$4,SUM($A$37:$A$45) = 0,'Texture Calculator'!$C$17>=0.3, 'Texture Calculator'!$C$13+'Texture Calculator'!$C$14+'Texture Calculator'!$C$15<0.15, 'Texture Calculator'!$C$17>'Texture Calculator'!$C$16), 10, 0)","v":0},"vfs >= 30 && vcscsms < 15 && vfs > fs","VERY FINE SANDY LOAM",{"$f":"IF(AND(SUM('Texture Calculator'!$C$26:$C$39)='Texture Calculator'!$C$5,SUM($D$37:$D$45) = 0,'Texture Calculator'!$C$39>=0.3, 'Texture Calculator'!$C$26+'Texture Calculator'!#REF!+'Texture Calculator'!#REF!<0.15, 'Texture Calculator'!$C$39>'Texture Calculator'!#REF!), 10, 0)","v":{"$error":"#REF!"}},"vfs >= 30 && vcscsms < 15 && vfs > fs","VERY FINE SANDY LOAM",{"$f":"IF(AND(SUM('Texture Calculator'!$C$44:$C$48)='Texture Calculator'!$C$6,SUM($G$37:$G$45) = 0,'Texture Calculator'!$C$48>=0.3, 'Texture Calculator'!#REF!+'Texture Calculator'!$C$45+'Texture Calculator'!$C$46<0.15, 'Texture Calculator'!$C$48>'Texture Calculator'!$C$47), 10, 0)","v":{"$error":"#REF!"}},"vfs >= 30 && vcscsms < 15 && vfs > fs","VERY FINE SANDY LOAM",{"$f":"IF(AND(SUM('Texture Calculator'!$C$53:$C$57)='Texture Calculator'!$C$7,SUM($J$37:$J$45) = 0,'Texture Calculator'!$C$57>=0.3, 'Texture Calculator'!$C$53+'Texture Calculator'!$C$54+'Texture Calculator'!$C$55<0.15, 'Texture Calculator'!$C$57>'Texture Calculator'!$C$56), 10, 0)","v":0},"vfs >= 30 && vcscsms < 15 && vfs > fs","VERY FINE SANDY LOAM"]
[{"$f":"IF(AND(SUM('Texture Calculator'!$C$13:$C$17)='Texture Calculator'!$C$4,SUM($A$37:$A$46) = 0,'Texture Calculator'!$C$16+'Texture Calculator'!$C$17>=0.4, 'Texture Calculator'!$C$17>'Texture Calculator'!$C$16, 'Texture Calculator'!$C$13+'Texture Calculator'!$C$14+'Texture Calculator'!$C$15<15), 11, 0)","v":0},"fsvfs >= 40 && vfs > fs && vcscsms < 15","VERY FINE SANDY LOAM",{"$f":"IF(AND(SUM('Texture Calculator'!$C$26:$C$39)='Texture Calculator'!$C$5,SUM($D$37:$D$46) = 0,'Texture Calculator'!#REF!+'Texture Calculator'!$C$39>=0.4, 'Texture Calculator'!$C$39>'Texture Calculator'!#REF!, 'Texture Calculator'!$C$26+'Texture Calculator'!#REF!+'Texture Calculator'!#REF!<15), 11, 0)","v":{"$error":"#REF!"}},"fsvfs >= 40 && vfs > fs && vcscsms < 15","VERY FINE SANDY LOAM",{"$f":"IF(AND(SUM('Texture Calculator'!$C$44:$C$48)='Texture Calculator'!$C$6,SUM($G$37:$G$46) = 0,'Texture Calculator'!$C$47+'Texture Calculator'!$C$48>=0.4, 'Texture Calculator'!$C$48>'Texture Calculator'!$C$47, 'Texture Calculator'!#REF!+'Texture Calculator'!$C$45+'Texture Calculator'!$C$46<15), 11, 0)","v":{"$error":"#REF!"}},"fsvfs >= 40 && vfs > fs && vcscsms < 15","VERY FINE SANDY LOAM",{"$f":"IF(AND(SUM('Texture Calculator'!$C$53:$C$57)='Texture Calculator'!$C$7,SUM($J$37:$J$46) = 0,'Texture Calculator'!$C$56+'Texture Calculator'!$C$57>=0.4, 'Texture Calculator'!$C$57>'Texture Calculator'!$C$56, 'Texture Calculator'!$C$53+'Texture Calculator'!$C$54+'Texture Calculator'!$C$55<15), 11, 0)","v":0},"fsvfs >= 40 && vfs > fs && vcscsms < 15","VERY FINE SANDY LOAM"]
[{"$f":"IF(AND(SUM('Texture Calculator'!$C$13:$C$17)='Texture Calculator'!$C$4,SUM($A$37:$A$47) = 0,'Texture Calculator'!$C$13+'Texture Calculator'!$C$14>=0.25, 'Texture Calculator'!$C$17>=0.5), 12, 0)","v":0},"vcscs >= 25 && vfs >= 50","VERY FINE SANDY LOAM",{"$f":"IF(AND(SUM('Texture Calculator'!$C$26:$C$39)='Texture Calculator'!$C$5,SUM($D$37:$D$47) = 0,'Texture Calculator'!$C$26+'Texture Calculator'!#REF!>=0.25, 'Texture Calculator'!$C$39>=0.5), 12, 0)","v":{"$error":"#REF!"}},"vcscs >= 25 && vfs >= 50","VERY FINE SANDY LOAM",{"$f":"IF(AND(SUM('Texture Calculator'!$C$44:$C$48)='Texture Calculator'!$C$6,SUM($G$37:$G$47) = 0,'Texture Calculator'!#REF!+'Texture Calculator'!$C$45>=0.25, 'Texture Calculator'!$C$48>=0.5), 12, 0)","v":{"$error":"#REF!"}},"vcscs >= 25 && vfs >= 50","VERY FINE SANDY LOAM",{"$f":"IF(AND(SUM('Texture Calculator'!$C$53:$C$57)='Texture Calculator'!$C$7,SUM($J$37:$J$47) = 0,'Texture Calculator'!$C$53+'Texture Calculator'!$C$54>=0.25, 'Texture Calculator'!$C$57>=0.5), 12, 0)","v":0},"vcscs >= 25 && vfs >= 50","VERY FINE SANDY LOAM"]
[{"$f":"IF(AND(SUM('Texture Calculator'!$C$13:$C$17)='Texture Calculator'!$C$4,SUM($A$37:$A$48) = 0,'Texture Calculator'!$C$13+'Texture Calculator'!$C$14+'Texture Calculator'!$C$15>=0.3, 'Texture Calculator'!$C$17>=0.5), 13,0)","v":0},"vcscsms >= 30 && vfs >= 50","VERY FINE SANDY LOAM",{"$f":"IF(AND(SUM('Texture Calculator'!$C$26:$C$39)='Texture Calculator'!$C$5,SUM($D$37:$D$48) = 0,'Texture Calculator'!$C$26+'Texture Calculator'!#REF!+'Texture Calculator'!#REF!>=0.3, 'Texture Calculator'!$C$39>=0.5), 13,0)","v":{"$error":"#REF!"}},"vcscsms >= 30 && vfs >= 50","VERY FINE SANDY LOAM",{"$f":"IF(AND(SUM('Texture Calculator'!$C$44:$C$48)='Texture Calculator'!$C$6,SUM($G$37:$G$48) = 0,'Texture Calculator'!#REF!+'Texture Calculator'!$C$45+'Texture Calculator'!$C$46>=0.3, 'Texture Calculator'!$C$48>=0.5), 13,0)","v":{"$error":"#REF!"}},"vcscsms >= 30 && vfs >= 50","VERY FINE SANDY LOAM",{"$f":"IF(AND(SUM('Texture Calculator'!$C$53:$C$57)='Texture Calculator'!$C$7,SUM($J$37:$J$48) = 0,'Texture Calculator'!$C$53+'Texture Calculator'!$C$54+'Texture Calculator'!$C$55>=0.3, 'Texture Calculator'!$C$57>=0.5), 13,0)","v":0},"vcscsms >= 30 && vfs >= 50","VERY FINE SANDY LOAM"]
[{"$f":"SUM(A37:A49)+1","v":1},null,null,{"$f":"SUM(D37:D49)+1","v":{"$error":"#REF!"}},null,null,{"$f":"SUM(G37:G49)+1","v":{"$error":"#REF!"}},null,null,{"$f":"SUM(J37:J49)+1","v":1}]

{"sheet":"Sheet1","index":27,"n_rows":0,"n_cols":0,"rows_kept":0,"cut":false,"hidden":false,"merged":[]}